{"text_format":"1","workbook":"xlsx","n_sheets":3,"sheets":["Totaal","waarden","Opmaak"],"not_rendered":{"charts":0,"images":1,"macros":1,"external_links":0,"defined_names":2,"comments":0,"pivot_tables":0},"unopened":[],"bounds":{"document_bytes":16777216,"sheet_cells":100000,"rows_first":2000,"rows_last":500,"rows_between":2000,"halvings":0,"cell_chars":16384,"cell_head_chars":4096},"cells_cut":0,"cells_raw":0,"read":"whole","date_system":"1900"}

{"sheet":"Totaal","index":0,"n_rows":147,"n_cols":68,"rows_kept":147,"cut":false,"hidden":false,"merged":[[3,66,3,67],[146,64,146,65],[128,0,130,0],[128,1,130,1],[128,2,130,2],[131,0,133,0],[131,1,133,1],[131,2,133,2],[122,0,124,0],[122,1,124,1],[122,2,124,2],[125,0,127,0],[140,0,142,0],[140,1,142,1],[140,2,142,2],[143,0,145,0],[143,1,145,1],[143,2,145,2],[134,0,136,0],[134,1,136,1],[134,2,136,2],[137,0,139,0],[137,1,139,1],[137,2,139,2],[125,1,127,1],[125,2,127,2],[116,0,118,0],[116,1,118,1],[116,2,118,2],[119,0,121,0],[119,1,121,1],[119,2,121,2],[110,0,112,0],[110,1,112,1],[110,2,112,2],[113,0,115,0],[113,1,115,1],[113,2,115,2],[104,0,106,0],[104,1,106,1],[104,2,106,2],[107,0,109,0],[107,1,109,1],[107,2,109,2],[98,0,100,0],[98,1,100,1],[98,2,100,2],[101,0,103,0],[101,1,103,1],[101,2,103,2],[92,0,94,0],[92,1,94,1],[92,2,94,2],[95,0,97,0],[95,1,97,1],[95,2,97,2],[86,0,88,0],[86,1,88,1],[86,2,88,2],[89,0,91,0],[89,1,91,1],[89,2,91,2],[80,0,82,0],[80,1,82,1],[80,2,82,2],[83,0,85,0],[83,1,85,1],[83,2,85,2],[74,0,76,0],[74,1,76,1],[74,2,76,2],[77,0,79,0],[77,1,79,1],[77,2,79,2],[68,0,70,0],[68,1,70,1],[68,2,70,2],[71,0,73,0],[71,1,73,1],[71,2,73,2],[62,0,64,0],[62,1,64,1],[62,2,64,2],[65,0,67,0],[65,1,67,1],[65,2,67,2],[56,0,58,0],[56,1,58,1],[56,2,58,2],[59,0,61,0],[59,1,61,1],[59,2,61,2],[50,0,52,0],[50,1,52,1],[50,2,52,2],[53,0,55,0],[53,1,55,1],[53,2,55,2],[44,0,46,0],[44,1,46,1],[44,2,46,2],[47,0,49,0],[47,1,49,1],[47,2,49,2],[38,0,40,0],[38,1,40,1],[38,2,40,2],[41,0,43,0],[41,1,43,1],[41,2,43,2],[32,0,34,0],[32,1,34,1],[32,2,34,2],[35,0,37,0],[35,1,37,1],[35,2,37,2],[26,0,28,0],[26,1,28,1],[26,2,28,2],[29,0,31,0],[29,1,31,1],[29,2,31,2],[20,0,22,0],[20,1,22,1],[20,2,22,2],[23,0,25,0],[23,1,25,1],[23,2,25,2],[14,0,16,0],[14,1,16,1],[14,2,16,2],[17,0,19,0],[17,1,19,1],[17,2,19,2],[8,0,10,0],[8,1,10,1],[8,2,10,2],[11,0,13,0],[11,1,13,1],[11,2,13,2],[3,4,3,5],[5,0,7,0],[5,1,7,1],[5,2,7,2],[0,1,0,2],[3,8,3,9],[3,10,3,11],[3,12,3,13],[3,14,3,15],[3,16,3,17],[3,18,3,19],[3,20,3,21],[3,22,3,23],[0,3,0,25],[3,6,3,7],[3,24,3,25],[1,3,1,4],[1,5,1,6],[1,8,1,9],[1,10,1,11],[3,26,3,27],[3,28,3,29],[3,30,3,31],[3,32,3,33],[3,34,3,35],[3,36,3,37],[3,38,3,39],[3,40,3,41],[3,60,3,61],[3,62,3,63],[3,64,3,65],[3,42,3,43],[3,44,3,45],[3,46,3,47],[3,48,3,49],[3,50,3,51],[3,52,3,53],[3,54,3,55],[3,56,3,57],[3,58,3,59]]}
[null,null,null,"Mobiliteit PC124"]
[null,null,null,"Naam Werkgever:",null,null,null,null,"Maand:",null,null,null,null,"Jaar:"]
[]
[null,null,null,null,1,null,2,null,3,null,4,null,5,null,6,null,7,null,8,null,9,null,10,null,11,null,12,null,13,null,14,null,15,null,16,null,17,null,18,null,19,null,20,null,21,null,22,null,23,null,24,null,25,null,26,null,27,null,28,null,29,null,30,null,31,null,"Totaal:"]
["Nr:","Naam:","Voornaam:","Soort:","Km","Tot.","Km","Tot.","Km","Tot.","Km","Tot.","Km","Tot.","Km","Tot.","Km","Tot.","Km","Tot.","Km","Tot.","Km","Tot.","Km","Tot.","Km","Tot.","Km","Tot.","Km","Tot.","Km","Tot.","Km","Tot.","Km","Tot.","Km","Tot.","Km","Tot.","Km","Tot.","Km","Tot.","Km","Tot.","Km","Tot.","Km","Tot.","Km","Tot.","Km","Tot.","Km","Tot.","Km","Tot.","Km","Tot.","Km","Tot.","Km","Tot.","Km","Te betalen"]
[null,null,null,"Passagier",null,{"$f":"IF(E6=0,\" \",IF(OR(E6<1,E6>350),\" \",LOOKUP(E6,waarden!$A$4:$A$353,waarden!$B$4:$B$353)))","v":" "},null,{"$f":"IF(G6=0,\" \",IF(OR(G6<1,G6>350),\" \",LOOKUP(G6,waarden!$A$4:$A$353,waarden!$B$4:$B$353)))","v":" "},null,{"$f":"IF(I6=0,\" \",IF(OR(I6<1,I6>350),\" \",LOOKUP(I6,waarden!$A$4:$A$353,waarden!$B$4:$B$353)))","v":" "},null,{"$f":"IF(K6=0,\" \",IF(OR(K6<1,K6>350),\" \",LOOKUP(K6,waarden!$A$4:$A$353,waarden!$B$4:$B$353)))","v":" "},null,{"$f":"IF(M6=0,\" \",IF(OR(M6<1,M6>350),\" \",LOOKUP(M6,waarden!$A$4:$A$353,waarden!$B$4:$B$353)))","v":" "},null,{"$f":"IF(O6=0,\" \",IF(OR(O6<1,O6>350),\" \",LOOKUP(O6,waarden!$A$4:$A$353,waarden!$B$4:$B$353)))","v":" "},null,{"$f":"IF(Q6=0,\" \",IF(OR(Q6<1,Q6>350),\" \",LOOKUP(Q6,waarden!$A$4:$A$353,waarden!$B$4:$B$353)))","v":" "},null,{"$f":"IF(S6=0,\" \",IF(OR(S6<1,S6>350),\" \",LOOKUP(S6,waarden!$A$4:$A$353,waarden!$B$4:$B$353)))","v":" "},null,{"$f":"IF(U6=0,\" \",IF(OR(U6<1,U6>350),\" \",LOOKUP(U6,waarden!$A$4:$A$353,waarden!$B$4:$B$353)))","v":" "},null,{"$f":"IF(W6=0,\" \",IF(OR(W6<1,W6>350),\" \",LOOKUP(W6,waarden!$A$4:$A$353,waarden!$B$4:$B$353)))","v":" "},null,{"$f":"IF(Y6=0,\" \",IF(OR(Y6<1,Y6>350),\" \",LOOKUP(Y6,waarden!$A$4:$A$353,waarden!$B$4:$B$353)))","v":" "},null,{"$f":"IF(AA6=0,\" \",IF(OR(AA6<1,AA6>350),\" \",LOOKUP(AA6,waarden!$A$4:$A$353,waarden!$B$4:$B$353)))","v":" "},null,{"$f":"IF(AC6=0,\" \",IF(OR(AC6<1,AC6>350),\" \",LOOKUP(AC6,waarden!$A$4:$A$353,waarden!$B$4:$B$353)))","v":" "},null,{"$f":"IF(AE6=0,\" \",IF(OR(AE6<1,AE6>350),\" \",LOOKUP(AE6,waarden!$A$4:$A$353,waarden!$B$4:$B$353)))","v":" "},null,{"$f":"IF(AG6=0,\" \",IF(OR(AG6<1,AG6>350),\" \",LOOKUP(AG6,waarden!$A$4:$A$353,waarden!$B$4:$B$353)))","v":" "},null,{"$f":"IF(AI6=0,\" \",IF(OR(AI6<1,AI6>350),\" \",LOOKUP(AI6,waarden!$A$4:$A$353,waarden!$B$4:$B$353)))","v":" "},null,{"$f":"IF(AK6=0,\" \",IF(OR(AK6<1,AK6>350),\" \",LOOKUP(AK6,waarden!$A$4:$A$353,waarden!$B$4:$B$353)))","v":" "},null,{"$f":"IF(AM6=0,\" \",IF(OR(AM6<1,AM6>350),\" \",LOOKUP(AM6,waarden!$A$4:$A$353,waarden!$B$4:$B$353)))","v":" "},null,{"$f":"IF(AO6=0,\" \",IF(OR(AO6<1,AO6>350),\" \",LOOKUP(AO6,waarden!$A$4:$A$353,waarden!$B$4:$B$353)))","v":" "},null,{"$f":"IF(AQ6=0,\" \",IF(OR(AQ6<1,AQ6>350),\" \",LOOKUP(AQ6,waarden!$A$4:$A$353,waarden!$B$4:$B$353)))","v":" "},null,{"$f":"IF(AS6=0,\" \",IF(OR(AS6<1,AS6>350),\" \",LOOKUP(AS6,waarden!$A$4:$A$353,waarden!$B$4:$B$353)))","v":" "},null,{"$f":"IF(AU6=0,\" \",IF(OR(AU6<1,AU6>350),\" \",LOOKUP(AU6,waarden!$A$4:$A$353,waarden!$B$4:$B$353)))","v":" "},null,{"$f":"IF(AW6=0,\" \",IF(OR(AW6<1,AW6>350),\" \",LOOKUP(AW6,waarden!$A$4:$A$353,waarden!$B$4:$B$353)))","v":" "},null,{"$f":"IF(AY6=0,\" \",IF(OR(AY6<1,AY6>350),\" \",LOOKUP(AY6,waarden!$A$4:$A$353,waarden!$B$4:$B$353)))","v":" "},null,{"$f":"IF(BA6=0,\" \",IF(OR(BA6<1,BA6>350),\" \",LOOKUP(BA6,waarden!$A$4:$A$353,waarden!$B$4:$B$353)))","v":" "},null,{"$f":"IF(BC6=0,\" \",IF(OR(BC6<1,BC6>350),\" \",LOOKUP(BC6,waarden!$A$4:$A$353,waarden!$B$4:$B$353)))","v":" "},null,{"$f":"IF(BE6=0,\" \",IF(OR(BE6<1,BE6>350),\" \",LOOKUP(BE6,waarden!$A$4:$A$353,waarden!$B$4:$B$353)))","v":" "},null,{"$f":"IF(BG6=0,\" \",IF(OR(BG6<1,BG6>350),\" \",LOOKUP(BG6,waarden!$A$4:$A$353,waarden!$B$4:$B$353)))","v":" "},null,{"$f":"IF(BI6=0,\" \",IF(OR(BI6<1,BI6>350),\" \",LOOKUP(BI6,waarden!$A$4:$A$353,waarden!$B$4:$B$353)))","v":" "},null,{"$f":"IF(BK6=0,\" \",IF(OR(BK6<1,BK6>350),\" \",LOOKUP(BK6,waarden!$A$4:$A$353,waarden!$B$4:$B$353)))","v":" "},null,{"$f":"IF(BM6=0,\" \",IF(OR(BM6<1,BM6>350),\" \",LOOKUP(BM6,waarden!$A$4:$A$353,waarden!$B$4:$B$353)))","v":" "},{"$f":"SUM(E6,G6,I6,K6,M6,O6,Q6,S6,U6,W6,Y6,AA6,AC6,AE6,AG6,AI6,AK6,AM6,AO6,AQ6,AS6,AU6,AW6,AY6,BA6,BC6,BE6,BG6,BI6,BK6,BM6)","v":0},{"$f":"SUM(F6,H6,J6,L6,N6,P6,R6,T6,V6,X6,Z6,AB6,AD6,AF6,AH6,AJ6,AL6,AN6,AP6,AR6,AT6,AV6,AX6,AZ6,BB6,BD6,BF6,BH6,BJ6,BL6,BN6)","v":0}]
[null,null,null,"Chauffeur personeel",null,{"$f":"IF(E7=0,\" \",IF(OR(E7<1,E7>350),\" \",LOOKUP(E7,waarden!$G$4:$G$353,waarden!$H$4:$H$353)))","v":" "},null,{"$f":"IF(G7=0,\" \",IF(OR(G7<1,G7>350),\" \",LOOKUP(G7,waarden!$G$4:$G$353,waarden!$H$4:$H$353)))","v":" "},null,{"$f":"IF(I7=0,\" \",IF(OR(I7<1,I7>350),\" \",LOOKUP(I7,waarden!$G$4:$G$353,waarden!$H$4:$H$353)))","v":" "},null,{"$f":"IF(K7=0,\" \",IF(OR(K7<1,K7>350),\" \",LOOKUP(K7,waarden!$G$4:$G$353,waarden!$H$4:$H$353)))","v":" "},null,{"$f":"IF(M7=0,\" \",IF(OR(M7<1,M7>350),\" \",LOOKUP(M7,waarden!$G$4:$G$353,waarden!$H$4:$H$353)))","v":" "},null,{"$f":"IF(O7=0,\" \",IF(OR(O7<1,O7>350),\" \",LOOKUP(O7,waarden!$G$4:$G$353,waarden!$H$4:$H$353)))","v":" "},null,{"$f":"IF(Q7=0,\" \",IF(OR(Q7<1,Q7>350),\" \",LOOKUP(Q7,waarden!$G$4:$G$353,waarden!$H$4:$H$353)))","v":" "},null,{"$f":"IF(S7=0,\" \",IF(OR(S7<1,S7>350),\" \",LOOKUP(S7,waarden!$G$4:$G$353,waarden!$H$4:$H$353)))","v":" "},null,{"$f":"IF(U7=0,\" \",IF(OR(U7<1,U7>350),\" \",LOOKUP(U7,waarden!$G$4:$G$353,waarden!$H$4:$H$353)))","v":" "},null,{"$f":"IF(W7=0,\" \",IF(OR(W7<1,W7>350),\" \",LOOKUP(W7,waarden!$G$4:$G$353,waarden!$H$4:$H$353)))","v":" "},null,{"$f":"IF(Y7=0,\" \",IF(OR(Y7<1,Y7>350),\" \",LOOKUP(Y7,waarden!$G$4:$G$353,waarden!$H$4:$H$353)))","v":" "},null,{"$f":"IF(AA7=0,\" \",IF(OR(AA7<1,AA7>350),\" \",LOOKUP(AA7,waarden!$G$4:$G$353,waarden!$H$4:$H$353)))","v":" "},null,{"$f":"IF(AC7=0,\" \",IF(OR(AC7<1,AC7>350),\" \",LOOKUP(AC7,waarden!$G$4:$G$353,waarden!$H$4:$H$353)))","v":" "},null,{"$f":"IF(AE7=0,\" \",IF(OR(AE7<1,AE7>350),\" \",LOOKUP(AE7,waarden!$G$4:$G$353,waarden!$H$4:$H$353)))","v":" "},null,{"$f":"IF(AG7=0,\" \",IF(OR(AG7<1,AG7>350),\" \",LOOKUP(AG7,waarden!$G$4:$G$353,waarden!$H$4:$H$353)))","v":" "},null,{"$f":"IF(AI7=0,\" \",IF(OR(AI7<1,AI7>350),\" \",LOOKUP(AI7,waarden!$G$4:$G$353,waarden!$H$4:$H$353)))","v":" "},null,{"$f":"IF(AK7=0,\" \",IF(OR(AK7<1,AK7>350),\" \",LOOKUP(AK7,waarden!$G$4:$G$353,waarden!$H$4:$H$353)))","v":" "},null,{"$f":"IF(AM7=0,\" \",IF(OR(AM7<1,AM7>350),\" \",LOOKUP(AM7,waarden!$G$4:$G$353,waarden!$H$4:$H$353)))","v":" "},null,{"$f":"IF(AO7=0,\" \",IF(OR(AO7<1,AO7>350),\" \",LOOKUP(AO7,waarden!$G$4:$G$353,waarden!$H$4:$H$353)))","v":" "},null,{"$f":"IF(AQ7=0,\" \",IF(OR(AQ7<1,AQ7>350),\" \",LOOKUP(AQ7,waarden!$G$4:$G$353,waarden!$H$4:$H$353)))","v":" "},null,{"$f":"IF(AS7=0,\" \",IF(OR(AS7<1,AS7>350),\" \",LOOKUP(AS7,waarden!$G$4:$G$353,waarden!$H$4:$H$353)))","v":" "},null,{"$f":"IF(AU7=0,\" \",IF(OR(AU7<1,AU7>350),\" \",LOOKUP(AU7,waarden!$G$4:$G$353,waarden!$H$4:$H$353)))","v":" "},null,{"$f":"IF(AW7=0,\" \",IF(OR(AW7<1,AW7>350),\" \",LOOKUP(AW7,waarden!$G$4:$G$353,waarden!$H$4:$H$353)))","v":" "},null,{"$f":"IF(AY7=0,\" \",IF(OR(AY7<1,AY7>350),\" \",LOOKUP(AY7,waarden!$G$4:$G$353,waarden!$H$4:$H$353)))","v":" "},null,{"$f":"IF(BA7=0,\" \",IF(OR(BA7<1,BA7>350),\" \",LOOKUP(BA7,waarden!$G$4:$G$353,waarden!$H$4:$H$353)))","v":" "},null,{"$f":"IF(BC7=0,\" \",IF(OR(BC7<1,BC7>350),\" \",LOOKUP(BC7,waarden!$G$4:$G$353,waarden!$H$4:$H$353)))","v":" "},null,{"$f":"IF(BE7=0,\" \",IF(OR(BE7<1,BE7>350),\" \",LOOKUP(BE7,waarden!$G$4:$G$353,waarden!$H$4:$H$353)))","v":" "},null,{"$f":"IF(BG7=0,\" \",IF(OR(BG7<1,BG7>350),\" \",LOOKUP(BG7,waarden!$G$4:$G$353,waarden!$H$4:$H$353)))","v":" "},null,{"$f":"IF(BI7=0,\" \",IF(OR(BI7<1,BI7>350),\" \",LOOKUP(BI7,waarden!$G$4:$G$353,waarden!$H$4:$H$353)))","v":" "},null,{"$f":"IF(BK7=0,\" \",IF(OR(BK7<1,BK7>350),\" \",LOOKUP(BK7,waarden!$G$4:$G$353,waarden!$H$4:$H$353)))","v":" "},null,{"$f":"IF(BM7=0,\" \",IF(OR(BM7<1,BM7>350),\" \",LOOKUP(BM7,waarden!$G$4:$G$353,waarden!$H$4:$H$353)))","v":" "},{"$f":"SUM(E7,G7,I7,K7,M7,O7,Q7,S7,U7,W7,Y7,AA7,AC7,AE7,AG7,AI7,AK7,AM7,AO7,AQ7,AS7,AU7,AW7,AY7,BA7,BC7,BE7,BG7,BI7,BK7,BM7)","v":0},{"$f":"SUM(F7,H7,J7,L7,N7,P7,R7,T7,V7,X7,Z7,AB7,AD7,AF7,AH7,AJ7,AL7,AN7,AP7,AR7,AT7,AV7,AX7,AZ7,BB7,BD7,BF7,BH7,BJ7,BL7,BN7)","v":0}]
[null,null,null,"Chauffeur alleen",null,{"$f":"IF(E8=0,\" \",IF(OR(E8<1,E8>350),\" \",LOOKUP(E8,waarden!$D$4:$D$353,waarden!$E$4:$E$353)))","v":" "},null,{"$f":"IF(G8=0,\" \",IF(OR(G8<1,G8>350),\" \",LOOKUP(G8,waarden!$D$4:$D$353,waarden!$E$4:$E$353)))","v":" "},null,{"$f":"IF(I8=0,\" \",IF(OR(I8<1,I8>350),\" \",LOOKUP(I8,waarden!$D$4:$D$353,waarden!$E$4:$E$353)))","v":" "},null,{"$f":"IF(K8=0,\" \",IF(OR(K8<1,K8>350),\" \",LOOKUP(K8,waarden!$D$4:$D$353,waarden!$E$4:$E$353)))","v":" "},null,{"$f":"IF(M8=0,\" \",IF(OR(M8<1,M8>350),\" \",LOOKUP(M8,waarden!$D$4:$D$353,waarden!$E$4:$E$353)))","v":" "},null,{"$f":"IF(O8=0,\" \",IF(OR(O8<1,O8>350),\" \",LOOKUP(O8,waarden!$D$4:$D$353,waarden!$E$4:$E$353)))","v":" "},null,{"$f":"IF(Q8=0,\" \",IF(OR(Q8<1,Q8>350),\" \",LOOKUP(Q8,waarden!$D$4:$D$353,waarden!$E$4:$E$353)))","v":" "},null,{"$f":"IF(S8=0,\" \",IF(OR(S8<1,S8>350),\" \",LOOKUP(S8,waarden!$D$4:$D$353,waarden!$E$4:$E$353)))","v":" "},null,{"$f":"IF(U8=0,\" \",IF(OR(U8<1,U8>350),\" \",LOOKUP(U8,waarden!$D$4:$D$353,waarden!$E$4:$E$353)))","v":" "},null,{"$f":"IF(W8=0,\" \",IF(OR(W8<1,W8>350),\" \",LOOKUP(W8,waarden!$D$4:$D$353,waarden!$E$4:$E$353)))","v":" "},null,{"$f":"IF(Y8=0,\" \",IF(OR(Y8<1,Y8>350),\" \",LOOKUP(Y8,waarden!$D$4:$D$353,waarden!$E$4:$E$353)))","v":" "},null,{"$f":"IF(AA8=0,\" \",IF(OR(AA8<1,AA8>350),\" \",LOOKUP(AA8,waarden!$D$4:$D$353,waarden!$E$4:$E$353)))","v":" "},null,{"$f":"IF(AC8=0,\" \",IF(OR(AC8<1,AC8>350),\" \",LOOKUP(AC8,waarden!$D$4:$D$353,waarden!$E$4:$E$353)))","v":" "},null,{"$f":"IF(AE8=0,\" \",IF(OR(AE8<1,AE8>350),\" \",LOOKUP(AE8,waarden!$D$4:$D$353,waarden!$E$4:$E$353)))","v":" "},null,{"$f":"IF(AG8=0,\" \",IF(OR(AG8<1,AG8>350),\" \",LOOKUP(AG8,waarden!$D$4:$D$353,waarden!$E$4:$E$353)))","v":" "},null,{"$f":"IF(AI8=0,\" \",IF(OR(AI8<1,AI8>350),\" \",LOOKUP(AI8,waarden!$D$4:$D$353,waarden!$E$4:$E$353)))","v":" "},null,{"$f":"IF(AK8=0,\" \",IF(OR(AK8<1,AK8>350),\" \",LOOKUP(AK8,waarden!$D$4:$D$353,waarden!$E$4:$E$353)))","v":" "},null,{"$f":"IF(AM8=0,\" \",IF(OR(AM8<1,AM8>350),\" \",LOOKUP(AM8,waarden!$D$4:$D$353,waarden!$E$4:$E$353)))","v":" "},null,{"$f":"IF(AO8=0,\" \",IF(OR(AO8<1,AO8>350),\" \",LOOKUP(AO8,waarden!$D$4:$D$353,waarden!$E$4:$E$353)))","v":" "},null,{"$f":"IF(AQ8=0,\" \",IF(OR(AQ8<1,AQ8>350),\" \",LOOKUP(AQ8,waarden!$D$4:$D$353,waarden!$E$4:$E$353)))","v":" "},null,{"$f":"IF(AS8=0,\" \",IF(OR(AS8<1,AS8>350),\" \",LOOKUP(AS8,waarden!$D$4:$D$353,waarden!$E$4:$E$353)))","v":" "},null,{"$f":"IF(AU8=0,\" \",IF(OR(AU8<1,AU8>350),\" \",LOOKUP(AU8,waarden!$D$4:$D$353,waarden!$E$4:$E$353)))","v":" "},null,{"$f":"IF(AW8=0,\" \",IF(OR(AW8<1,AW8>350),\" \",LOOKUP(AW8,waarden!$D$4:$D$353,waarden!$E$4:$E$353)))","v":" "},null,{"$f":"IF(AY8=0,\" \",IF(OR(AY8<1,AY8>350),\" \",LOOKUP(AY8,waarden!$D$4:$D$353,waarden!$E$4:$E$353)))","v":" "},null,{"$f":"IF(BA8=0,\" \",IF(OR(BA8<1,BA8>350),\" \",LOOKUP(BA8,waarden!$D$4:$D$353,waarden!$E$4:$E$353)))","v":" "},null,{"$f":"IF(BC8=0,\" \",IF(OR(BC8<1,BC8>350),\" \",LOOKUP(BC8,waarden!$D$4:$D$353,waarden!$E$4:$E$353)))","v":" "},null,{"$f":"IF(BE8=0,\" \",IF(OR(BE8<1,BE8>350),\" \",LOOKUP(BE8,waarden!$D$4:$D$353,waarden!$E$4:$E$353)))","v":" "},null,{"$f":"IF(BG8=0,\" \",IF(OR(BG8<1,BG8>350),\" \",LOOKUP(BG8,waarden!$D$4:$D$353,waarden!$E$4:$E$353)))","v":" "},null,{"$f":"IF(BI8=0,\" \",IF(OR(BI8<1,BI8>350),\" \",LOOKUP(BI8,waarden!$D$4:$D$353,waarden!$E$4:$E$353)))","v":" "},null,{"$f":"IF(BK8=0,\" \",IF(OR(BK8<1,BK8>350),\" \",LOOKUP(BK8,waarden!$D$4:$D$353,waarden!$E$4:$E$353)))","v":" "},null,{"$f":"IF(BM8=0,\" \",IF(OR(BM8<1,BM8>350),\" \",LOOKUP(BM8,waarden!$D$4:$D$353,waarden!$E$4:$E$353)))","v":" "},0,{"$f":"SUM(F8,H8,J8,L8,N8,P8,R8,T8,V8,X8,Z8,AB8,AD8,AF8,AH8,AJ8,AL8,AN8,AP8,AR8,AT8,AV8,AX8,AZ8,BB8,BD8,BF8,BH8,BJ8,BL8,BN8)","v":0}]
[null,null,null,"Passagier",null,{"$f":"IF(E9=0,\" \",IF(OR(E9<1,E9>350),\" \",LOOKUP(E9,waarden!$A$4:$A$353,waarden!$B$4:$B$353)))","v":" "},null,{"$f":"IF(G9=0,\" \",IF(OR(G9<1,G9>350),\" \",LOOKUP(G9,waarden!$A$4:$A$353,waarden!$B$4:$B$353)))","v":" "},null,{"$f":"IF(I9=0,\" \",IF(OR(I9<1,I9>350),\" \",LOOKUP(I9,waarden!$A$4:$A$353,waarden!$B$4:$B$353)))","v":" "},null,{"$f":"IF(K9=0,\" \",IF(OR(K9<1,K9>350),\" \",LOOKUP(K9,waarden!$A$4:$A$353,waarden!$B$4:$B$353)))","v":" "},null,{"$f":"IF(M9=0,\" \",IF(OR(M9<1,M9>350),\" \",LOOKUP(M9,waarden!$A$4:$A$353,waarden!$B$4:$B$353)))","v":" "},null,{"$f":"IF(O9=0,\" \",IF(OR(O9<1,O9>350),\" \",LOOKUP(O9,waarden!$A$4:$A$353,waarden!$B$4:$B$353)))","v":" "},null,{"$f":"IF(Q9=0,\" \",IF(OR(Q9<1,Q9>350),\" \",LOOKUP(Q9,waarden!$A$4:$A$353,waarden!$B$4:$B$353)))","v":" "},null,{"$f":"IF(S9=0,\" \",IF(OR(S9<1,S9>350),\" \",LOOKUP(S9,waarden!$A$4:$A$353,waarden!$B$4:$B$353)))","v":" "},null,{"$f":"IF(U9=0,\" \",IF(OR(U9<1,U9>350),\" \",LOOKUP(U9,waarden!$A$4:$A$353,waarden!$B$4:$B$353)))","v":" "},null,{"$f":"IF(W9=0,\" \",IF(OR(W9<1,W9>350),\" \",LOOKUP(W9,waarden!$A$4:$A$353,waarden!$B$4:$B$353)))","v":" "},null,{"$f":"IF(Y9=0,\" \",IF(OR(Y9<1,Y9>350),\" \",LOOKUP(Y9,waarden!$A$4:$A$353,waarden!$B$4:$B$353)))","v":" "},null,{"$f":"IF(AA9=0,\" \",IF(OR(AA9<1,AA9>350),\" \",LOOKUP(AA9,waarden!$A$4:$A$353,waarden!$B$4:$B$353)))","v":" "},null,{"$f":"IF(AC9=0,\" \",IF(OR(AC9<1,AC9>350),\" \",LOOKUP(AC9,waarden!$A$4:$A$353,waarden!$B$4:$B$353)))","v":" "},null,{"$f":"IF(AE9=0,\" \",IF(OR(AE9<1,AE9>350),\" \",LOOKUP(AE9,waarden!$A$4:$A$353,waarden!$B$4:$B$353)))","v":" "},null,{"$f":"IF(AG9=0,\" \",IF(OR(AG9<1,AG9>350),\" \",LOOKUP(AG9,waarden!$A$4:$A$353,waarden!$B$4:$B$353)))","v":" "},null,{"$f":"IF(AI9=0,\" \",IF(OR(AI9<1,AI9>350),\" \",LOOKUP(AI9,waarden!$A$4:$A$353,waarden!$B$4:$B$353)))","v":" "},null,{"$f":"IF(AK9=0,\" \",IF(OR(AK9<1,AK9>350),\" \",LOOKUP(AK9,waarden!$A$4:$A$353,waarden!$B$4:$B$353)))","v":" "},null,{"$f":"IF(AM9=0,\" \",IF(OR(AM9<1,AM9>350),\" \",LOOKUP(AM9,waarden!$A$4:$A$353,waarden!$B$4:$B$353)))","v":" "},null,{"$f":"IF(AO9=0,\" \",IF(OR(AO9<1,AO9>350),\" \",LOOKUP(AO9,waarden!$A$4:$A$353,waarden!$B$4:$B$353)))","v":" "},null,{"$f":"IF(AQ9=0,\" \",IF(OR(AQ9<1,AQ9>350),\" \",LOOKUP(AQ9,waarden!$A$4:$A$353,waarden!$B$4:$B$353)))","v":" "},null,{"$f":"IF(AS9=0,\" \",IF(OR(AS9<1,AS9>350),\" \",LOOKUP(AS9,waarden!$A$4:$A$353,waarden!$B$4:$B$353)))","v":" "},null,{"$f":"IF(AU9=0,\" \",IF(OR(AU9<1,AU9>350),\" \",LOOKUP(AU9,waarden!$A$4:$A$353,waarden!$B$4:$B$353)))","v":" "},null,{"$f":"IF(AW9=0,\" \",IF(OR(AW9<1,AW9>350),\" \",LOOKUP(AW9,waarden!$A$4:$A$353,waarden!$B$4:$B$353)))","v":" "},null,{"$f":"IF(AY9=0,\" \",IF(OR(AY9<1,AY9>350),\" \",LOOKUP(AY9,waarden!$A$4:$A$353,waarden!$B$4:$B$353)))","v":" "},null,{"$f":"IF(BA9=0,\" \",IF(OR(BA9<1,BA9>350),\" \",LOOKUP(BA9,waarden!$A$4:$A$353,waarden!$B$4:$B$353)))","v":" "},null,{"$f":"IF(BC9=0,\" \",IF(OR(BC9<1,BC9>350),\" \",LOOKUP(BC9,waarden!$A$4:$A$353,waarden!$B$4:$B$353)))","v":" "},null,{"$f":"IF(BE9=0,\" \",IF(OR(BE9<1,BE9>350),\" \",LOOKUP(BE9,waarden!$A$4:$A$353,waarden!$B$4:$B$353)))","v":" "},null,{"$f":"IF(BG9=0,\" \",IF(OR(BG9<1,BG9>350),\" \",LOOKUP(BG9,waarden!$A$4:$A$353,waarden!$B$4:$B$353)))","v":" "},null,{"$f":"IF(BI9=0,\" \",IF(OR(BI9<1,BI9>350),\" \",LOOKUP(BI9,waarden!$A$4:$A$353,waarden!$B$4:$B$353)))","v":" "},null,{"$f":"IF(BK9=0,\" \",IF(OR(BK9<1,BK9>350),\" \",LOOKUP(BK9,waarden!$A$4:$A$353,waarden!$B$4:$B$353)))","v":" "},null,{"$f":"IF(BM9=0,\" \",IF(OR(BM9<1,BM9>350),\" \",LOOKUP(BM9,waarden!$A$4:$A$353,waarden!$B$4:$B$353)))","v":" "},0,{"$f":"SUM(F9,H9,J9,L9,N9,P9,R9,T9,V9,X9,Z9,AB9,AD9,AF9,AH9,AJ9,AL9,AN9,AP9,AR9,AT9,AV9,AX9,AZ9,BB9,BD9,BF9,BH9,BJ9,BL9,BN9)","v":0}]
[null,null,null,"Chauffeur personeel",null,{"$f":"IF(E10=0,\" \",IF(OR(E10<1,E10>350),\" \",LOOKUP(E10,waarden!$A$4:$A$353,waarden!$B$4:$B$353)))","v":" "},null,{"$f":"IF(G10=0,\" \",IF(OR(G10<1,G10>350),\" \",LOOKUP(G10,waarden!$A$4:$A$353,waarden!$B$4:$B$353)))","v":" "},null,{"$f":"IF(I10=0,\" \",IF(OR(I10<1,I10>350),\" \",LOOKUP(I10,waarden!$A$4:$A$353,waarden!$B$4:$B$353)))","v":" "},null,{"$f":"IF(K10=0,\" \",IF(OR(K10<1,K10>350),\" \",LOOKUP(K10,waarden!$G$4:$G$353,waarden!$H$4:$H$353)))","v":" "},null,{"$f":"IF(M10=0,\" \",IF(OR(M10<1,M10>350),\" \",LOOKUP(M10,waarden!$G$4:$G$353,waarden!$H$4:$H$353)))","v":" "},null,{"$f":"IF(O10=0,\" \",IF(OR(O10<1,O10>350),\" \",LOOKUP(O10,waarden!$G$4:$G$353,waarden!$H$4:$H$353)))","v":" "},null,{"$f":"IF(Q10=0,\" \",IF(OR(Q10<1,Q10>350),\" \",LOOKUP(Q10,waarden!$G$4:$G$353,waarden!$H$4:$H$353)))","v":" "},null,{"$f":"IF(S10=0,\" \",IF(OR(S10<1,S10>350),\" \",LOOKUP(S10,waarden!$G$4:$G$353,waarden!$H$4:$H$353)))","v":" "},null,{"$f":"IF(U10=0,\" \",IF(OR(U10<1,U10>350),\" \",LOOKUP(U10,waarden!$G$4:$G$353,waarden!$H$4:$H$353)))","v":" "},null,{"$f":"IF(W10=0,\" \",IF(OR(W10<1,W10>350),\" \",LOOKUP(W10,waarden!$G$4:$G$353,waarden!$H$4:$H$353)))","v":" "},null,{"$f":"IF(Y10=0,\" \",IF(OR(Y10<1,Y10>350),\" \",LOOKUP(Y10,waarden!$G$4:$G$353,waarden!$H$4:$H$353)))","v":" "},null,{"$f":"IF(AA10=0,\" \",IF(OR(AA10<1,AA10>350),\" \",LOOKUP(AA10,waarden!$G$4:$G$353,waarden!$H$4:$H$353)))","v":" "},null,{"$f":"IF(AC10=0,\" \",IF(OR(AC10<1,AC10>350),\" \",LOOKUP(AC10,waarden!$G$4:$G$353,waarden!$H$4:$H$353)))","v":" "},null,{"$f":"IF(AE10=0,\" \",IF(OR(AE10<1,AE10>350),\" \",LOOKUP(AE10,waarden!$G$4:$G$353,waarden!$H$4:$H$353)))","v":" "},null,{"$f":"IF(AG10=0,\" \",IF(OR(AG10<1,AG10>350),\" \",LOOKUP(AG10,waarden!$G$4:$G$353,waarden!$H$4:$H$353)))","v":" "},null,{"$f":"IF(AI10=0,\" \",IF(OR(AI10<1,AI10>350),\" \",LOOKUP(AI10,waarden!$G$4:$G$353,waarden!$H$4:$H$353)))","v":" "},null,{"$f":"IF(AK10=0,\" \",IF(OR(AK10<1,AK10>350),\" \",LOOKUP(AK10,waarden!$G$4:$G$353,waarden!$H$4:$H$353)))","v":" "},null,{"$f":"IF(AM10=0,\" \",IF(OR(AM10<1,AM10>350),\" \",LOOKUP(AM10,waarden!$G$4:$G$353,waarden!$H$4:$H$353)))","v":" "},null,{"$f":"IF(AO10=0,\" \",IF(OR(AO10<1,AO10>350),\" \",LOOKUP(AO10,waarden!$G$4:$G$353,waarden!$H$4:$H$353)))","v":" "},null,{"$f":"IF(AQ10=0,\" \",IF(OR(AQ10<1,AQ10>350),\" \",LOOKUP(AQ10,waarden!$G$4:$G$353,waarden!$H$4:$H$353)))","v":" "},null,{"$f":"IF(AS10=0,\" \",IF(OR(AS10<1,AS10>350),\" \",LOOKUP(AS10,waarden!$G$4:$G$353,waarden!$H$4:$H$353)))","v":" "},null,{"$f":"IF(AU10=0,\" \",IF(OR(AU10<1,AU10>350),\" \",LOOKUP(AU10,waarden!$G$4:$G$353,waarden!$H$4:$H$353)))","v":" "},null,{"$f":"IF(AW10=0,\" \",IF(OR(AW10<1,AW10>350),\" \",LOOKUP(AW10,waarden!$G$4:$G$353,waarden!$H$4:$H$353)))","v":" "},null,{"$f":"IF(AY10=0,\" \",IF(OR(AY10<1,AY10>350),\" \",LOOKUP(AY10,waarden!$G$4:$G$353,waarden!$H$4:$H$353)))","v":" "},null,{"$f":"IF(BA10=0,\" \",IF(OR(BA10<1,BA10>350),\" \",LOOKUP(BA10,waarden!$G$4:$G$353,waarden!$H$4:$H$353)))","v":" "},null,{"$f":"IF(BC10=0,\" \",IF(OR(BC10<1,BC10>350),\" \",LOOKUP(BC10,waarden!$G$4:$G$353,waarden!$H$4:$H$353)))","v":" "},null,{"$f":"IF(BE10=0,\" \",IF(OR(BE10<1,BE10>350),\" \",LOOKUP(BE10,waarden!$G$4:$G$353,waarden!$H$4:$H$353)))","v":" "},null,{"$f":"IF(BG10=0,\" \",IF(OR(BG10<1,BG10>350),\" \",LOOKUP(BG10,waarden!$G$4:$G$353,waarden!$H$4:$H$353)))","v":" "},null,{"$f":"IF(BI10=0,\" \",IF(OR(BI10<1,BI10>350),\" \",LOOKUP(BI10,waarden!$G$4:$G$353,waarden!$H$4:$H$353)))","v":" "},null,{"$f":"IF(BK10=0,\" \",IF(OR(BK10<1,BK10>350),\" \",LOOKUP(BK10,waarden!$G$4:$G$353,waarden!$H$4:$H$353)))","v":" "},null,{"$f":"IF(BM10=0,\" \",IF(OR(BM10<1,BM10>350),\" \",LOOKUP(BM10,waarden!$G$4:$G$353,waarden!$H$4:$H$353)))","v":" "},{"$f":"SUM(E10,G10,I10,K10,M10,O10,Q10,S10,U10,W10,Y10,AA10,AC10,AE10,AG10,AI10,AK10,AM10,AO10,AQ10,AS10,AU10,AW10,AY10,BA10,BC10,BE10,BG10,BI10,BK10,BM10)","v":0},{"$f":"SUM(F10,H10,J10,L10,N10,P10,R10,T10,V10,X10,Z10,AB10,AD10,AF10,AH10,AJ10,AL10,AN10,AP10,AR10,AT10,AV10,AX10,AZ10,BB10,BD10,BF10,BH10,BJ10,BL10,BN10)","v":0}]
[null,null,null,"Chauffeur alleen",null,{"$f":"IF(E11=0,\" \",IF(OR(E11<1,E11>350),\" \",LOOKUP(E11,waarden!$A$4:$A$353,waarden!$B$4:$B$353)))","v":" "},null,{"$f":"IF(G11=0,\" \",IF(OR(G11<1,G11>350),\" \",LOOKUP(G11,waarden!$A$4:$A$353,waarden!$B$4:$B$353)))","v":" "},null,{"$f":"IF(I11=0,\" \",IF(OR(I11<1,I11>350),\" \",LOOKUP(I11,waarden!$A$4:$A$353,waarden!$B$4:$B$353)))","v":" "},null,{"$f":"IF(K11=0,\" \",IF(OR(K11<1,K11>350),\" \",LOOKUP(K11,waarden!$D$4:$D$353,waarden!$E$4:$E$353)))","v":" "},null,{"$f":"IF(M11=0,\" \",IF(OR(M11<1,M11>350),\" \",LOOKUP(M11,waarden!$D$4:$D$353,waarden!$E$4:$E$353)))","v":" "},null,{"$f":"IF(O11=0,\" \",IF(OR(O11<1,O11>350),\" \",LOOKUP(O11,waarden!$D$4:$D$353,waarden!$E$4:$E$353)))","v":" "},null,{"$f":"IF(Q11=0,\" \",IF(OR(Q11<1,Q11>350),\" \",LOOKUP(Q11,waarden!$D$4:$D$353,waarden!$E$4:$E$353)))","v":" "},null,{"$f":"IF(S11=0,\" \",IF(OR(S11<1,S11>350),\" \",LOOKUP(S11,waarden!$D$4:$D$353,waarden!$E$4:$E$353)))","v":" "},null,{"$f":"IF(U11=0,\" \",IF(OR(U11<1,U11>350),\" \",LOOKUP(U11,waarden!$D$4:$D$353,waarden!$E$4:$E$353)))","v":" "},null,{"$f":"IF(W11=0,\" \",IF(OR(W11<1,W11>350),\" \",LOOKUP(W11,waarden!$D$4:$D$353,waarden!$E$4:$E$353)))","v":" "},null,{"$f":"IF(Y11=0,\" \",IF(OR(Y11<1,Y11>350),\" \",LOOKUP(Y11,waarden!$D$4:$D$353,waarden!$E$4:$E$353)))","v":" "},null,{"$f":"IF(AA11=0,\" \",IF(OR(AA11<1,AA11>350),\" \",LOOKUP(AA11,waarden!$D$4:$D$353,waarden!$E$4:$E$353)))","v":" "},null,{"$f":"IF(AC11=0,\" \",IF(OR(AC11<1,AC11>350),\" \",LOOKUP(AC11,waarden!$D$4:$D$353,waarden!$E$4:$E$353)))","v":" "},null,{"$f":"IF(AE11=0,\" \",IF(OR(AE11<1,AE11>350),\" \",LOOKUP(AE11,waarden!$D$4:$D$353,waarden!$E$4:$E$353)))","v":" "},null,{"$f":"IF(AG11=0,\" \",IF(OR(AG11<1,AG11>350),\" \",LOOKUP(AG11,waarden!$D$4:$D$353,waarden!$E$4:$E$353)))","v":" "},null,{"$f":"IF(AI11=0,\" \",IF(OR(AI11<1,AI11>350),\" \",LOOKUP(AI11,waarden!$D$4:$D$353,waarden!$E$4:$E$353)))","v":" "},null,{"$f":"IF(AK11=0,\" \",IF(OR(AK11<1,AK11>350),\" \",LOOKUP(AK11,waarden!$D$4:$D$353,waarden!$E$4:$E$353)))","v":" "},null,{"$f":"IF(AM11=0,\" \",IF(OR(AM11<1,AM11>350),\" \",LOOKUP(AM11,waarden!$D$4:$D$353,waarden!$E$4:$E$353)))","v":" "},null,{"$f":"IF(AO11=0,\" \",IF(OR(AO11<1,AO11>350),\" \",LOOKUP(AO11,waarden!$D$4:$D$353,waarden!$E$4:$E$353)))","v":" "},null,{"$f":"IF(AQ11=0,\" \",IF(OR(AQ11<1,AQ11>350),\" \",LOOKUP(AQ11,waarden!$D$4:$D$353,waarden!$E$4:$E$353)))","v":" "},null,{"$f":"IF(AS11=0,\" \",IF(OR(AS11<1,AS11>350),\" \",LOOKUP(AS11,waarden!$D$4:$D$353,waarden!$E$4:$E$353)))","v":" "},null,{"$f":"IF(AU11=0,\" \",IF(OR(AU11<1,AU11>350),\" \",LOOKUP(AU11,waarden!$D$4:$D$353,waarden!$E$4:$E$353)))","v":" "},null,{"$f":"IF(AW11=0,\" \",IF(OR(AW11<1,AW11>350),\" \",LOOKUP(AW11,waarden!$D$4:$D$353,waarden!$E$4:$E$353)))","v":" "},null,{"$f":"IF(AY11=0,\" \",IF(OR(AY11<1,AY11>350),\" \",LOOKUP(AY11,waarden!$D$4:$D$353,waarden!$E$4:$E$353)))","v":" "},null,{"$f":"IF(BA11=0,\" \",IF(OR(BA11<1,BA11>350),\" \",LOOKUP(BA11,waarden!$D$4:$D$353,waarden!$E$4:$E$353)))","v":" "},null,{"$f":"IF(BC11=0,\" \",IF(OR(BC11<1,BC11>350),\" \",LOOKUP(BC11,waarden!$D$4:$D$353,waarden!$E$4:$E$353)))","v":" "},null,{"$f":"IF(BE11=0,\" \",IF(OR(BE11<1,BE11>350),\" \",LOOKUP(BE11,waarden!$D$4:$D$353,waarden!$E$4:$E$353)))","v":" "},null,{"$f":"IF(BG11=0,\" \",IF(OR(BG11<1,BG11>350),\" \",LOOKUP(BG11,waarden!$D$4:$D$353,waarden!$E$4:$E$353)))","v":" "},null,{"$f":"IF(BI11=0,\" \",IF(OR(BI11<1,BI11>350),\" \",LOOKUP(BI11,waarden!$D$4:$D$353,waarden!$E$4:$E$353)))","v":" "},null,{"$f":"IF(BK11=0,\" \",IF(OR(BK11<1,BK11>350),\" \",LOOKUP(BK11,waarden!$D$4:$D$353,waarden!$E$4:$E$353)))","v":" "},null,{"$f":"IF(BM11=0,\" \",IF(OR(BM11<1,BM11>350),\" \",LOOKUP(BM11,waarden!$D$4:$D$353,waarden!$E$4:$E$353)))","v":" "},0,0]
[null,null,null,"Passagier",null,{"$f":"IF(E12=0,\" \",IF(OR(E12<1,E12>350),\" \",LOOKUP(E12,waarden!$A$4:$A$353,waarden!$B$4:$B$353)))","v":" "},null,{"$f":"IF(G12=0,\" \",IF(OR(G12<1,G12>350),\" \",LOOKUP(G12,waarden!$A$4:$A$353,waarden!$B$4:$B$353)))","v":" "},null,{"$f":"IF(I12=0,\" \",IF(OR(I12<1,I12>350),\" \",LOOKUP(I12,waarden!$A$4:$A$353,waarden!$B$4:$B$353)))","v":" "},null,{"$f":"IF(K12=0,\" \",IF(OR(K12<1,K12>350),\" \",LOOKUP(K12,waarden!$A$4:$A$353,waarden!$B$4:$B$353)))","v":" "},null,{"$f":"IF(M12=0,\" \",IF(OR(M12<1,M12>350),\" \",LOOKUP(M12,waarden!$A$4:$A$353,waarden!$B$4:$B$353)))","v":" "},null,{"$f":"IF(O12=0,\" \",IF(OR(O12<1,O12>350),\" \",LOOKUP(O12,waarden!$A$4:$A$353,waarden!$B$4:$B$353)))","v":" "},null,{"$f":"IF(Q12=0,\" \",IF(OR(Q12<1,Q12>350),\" \",LOOKUP(Q12,waarden!$A$4:$A$353,waarden!$B$4:$B$353)))","v":" "},null,{"$f":"IF(S12=0,\" \",IF(OR(S12<1,S12>350),\" \",LOOKUP(S12,waarden!$A$4:$A$353,waarden!$B$4:$B$353)))","v":" "},null,{"$f":"IF(U12=0,\" \",IF(OR(U12<1,U12>350),\" \",LOOKUP(U12,waarden!$A$4:$A$353,waarden!$B$4:$B$353)))","v":" "},null,{"$f":"IF(W12=0,\" \",IF(OR(W12<1,W12>350),\" \",LOOKUP(W12,waarden!$A$4:$A$353,waarden!$B$4:$B$353)))","v":" "},null,{"$f":"IF(Y12=0,\" \",IF(OR(Y12<1,Y12>350),\" \",LOOKUP(Y12,waarden!$A$4:$A$353,waarden!$B$4:$B$353)))","v":" "},null,{"$f":"IF(AA12=0,\" \",IF(OR(AA12<1,AA12>350),\" \",LOOKUP(AA12,waarden!$A$4:$A$353,waarden!$B$4:$B$353)))","v":" "},null,{"$f":"IF(AC12=0,\" \",IF(OR(AC12<1,AC12>350),\" \",LOOKUP(AC12,waarden!$A$4:$A$353,waarden!$B$4:$B$353)))","v":" "},null,{"$f":"IF(AE12=0,\" \",IF(OR(AE12<1,AE12>350),\" \",LOOKUP(AE12,waarden!$A$4:$A$353,waarden!$B$4:$B$353)))","v":" "},null,{"$f":"IF(AG12=0,\" \",IF(OR(AG12<1,AG12>350),\" \",LOOKUP(AG12,waarden!$A$4:$A$353,waarden!$B$4:$B$353)))","v":" "},null,{"$f":"IF(AI12=0,\" \",IF(OR(AI12<1,AI12>350),\" \",LOOKUP(AI12,waarden!$A$4:$A$353,waarden!$B$4:$B$353)))","v":" "},null,{"$f":"IF(AK12=0,\" \",IF(OR(AK12<1,AK12>350),\" \",LOOKUP(AK12,waarden!$A$4:$A$353,waarden!$B$4:$B$353)))","v":" "},null,{"$f":"IF(AM12=0,\" \",IF(OR(AM12<1,AM12>350),\" \",LOOKUP(AM12,waarden!$A$4:$A$353,waarden!$B$4:$B$353)))","v":" "},null,{"$f":"IF(AO12=0,\" \",IF(OR(AO12<1,AO12>350),\" \",LOOKUP(AO12,waarden!$A$4:$A$353,waarden!$B$4:$B$353)))","v":" "},null,{"$f":"IF(AQ12=0,\" \",IF(OR(AQ12<1,AQ12>350),\" \",LOOKUP(AQ12,waarden!$A$4:$A$353,waarden!$B$4:$B$353)))","v":" "},null,{"$f":"IF(AS12=0,\" \",IF(OR(AS12<1,AS12>350),\" \",LOOKUP(AS12,waarden!$A$4:$A$353,waarden!$B$4:$B$353)))","v":" "},null,{"$f":"IF(AU12=0,\" \",IF(OR(AU12<1,AU12>350),\" \",LOOKUP(AU12,waarden!$A$4:$A$353,waarden!$B$4:$B$353)))","v":" "},null,{"$f":"IF(AW12=0,\" \",IF(OR(AW12<1,AW12>350),\" \",LOOKUP(AW12,waarden!$A$4:$A$353,waarden!$B$4:$B$353)))","v":" "},null,{"$f":"IF(AY12=0,\" \",IF(OR(AY12<1,AY12>350),\" \",LOOKUP(AY12,waarden!$A$4:$A$353,waarden!$B$4:$B$353)))","v":" "},null,{"$f":"IF(BA12=0,\" \",IF(OR(BA12<1,BA12>350),\" \",LOOKUP(BA12,waarden!$A$4:$A$353,waarden!$B$4:$B$353)))","v":" "},null,{"$f":"IF(BC12=0,\" \",IF(OR(BC12<1,BC12>350),\" \",LOOKUP(BC12,waarden!$A$4:$A$353,waarden!$B$4:$B$353)))","v":" "},null,{"$f":"IF(BE12=0,\" \",IF(OR(BE12<1,BE12>350),\" \",LOOKUP(BE12,waarden!$A$4:$A$353,waarden!$B$4:$B$353)))","v":" "},null,{"$f":"IF(BG12=0,\" \",IF(OR(BG12<1,BG12>350),\" \",LOOKUP(BG12,waarden!$A$4:$A$353,waarden!$B$4:$B$353)))","v":" "},null,{"$f":"IF(BI12=0,\" \",IF(OR(BI12<1,BI12>350),\" \",LOOKUP(BI12,waarden!$A$4:$A$353,waarden!$B$4:$B$353)))","v":" "},null,{"$f":"IF(BK12=0,\" \",IF(OR(BK12<1,BK12>350),\" \",LOOKUP(BK12,waarden!$A$4:$A$353,waarden!$B$4:$B$353)))","v":" "},null,{"$f":"IF(BM12=0,\" \",IF(OR(BM12<1,BM12>350),\" \",LOOKUP(BM12,waarden!$A$4:$A$353,waarden!$B$4:$B$353)))","v":" "},0,0]
[null,null,null,"Chauffeur personeel",null,{"$f":"IF(E13=0,\" \",IF(OR(E13<1,E13>350),\" \",LOOKUP(E13,waarden!$A$4:$A$353,waarden!$B$4:$B$353)))","v":" "},null,{"$f":"IF(G13=0,\" \",IF(OR(G13<1,G13>350),\" \",LOOKUP(G13,waarden!$A$4:$A$353,waarden!$B$4:$B$353)))","v":" "},null,{"$f":"IF(I13=0,\" \",IF(OR(I13<1,I13>350),\" \",LOOKUP(I13,waarden!$A$4:$A$353,waarden!$B$4:$B$353)))","v":" "},null,{"$f":"IF(K13=0,\" \",IF(OR(K13<1,K13>350),\" \",LOOKUP(K13,waarden!$G$4:$G$353,waarden!$H$4:$H$353)))","v":" "},null,{"$f":"IF(M13=0,\" \",IF(OR(M13<1,M13>350),\" \",LOOKUP(M13,waarden!$G$4:$G$353,waarden!$H$4:$H$353)))","v":" "},null,{"$f":"IF(O13=0,\" \",IF(OR(O13<1,O13>350),\" \",LOOKUP(O13,waarden!$G$4:$G$353,waarden!$H$4:$H$353)))","v":" "},null,{"$f":"IF(Q13=0,\" \",IF(OR(Q13<1,Q13>350),\" \",LOOKUP(Q13,waarden!$G$4:$G$353,waarden!$H$4:$H$353)))","v":" "},null,{"$f":"IF(S13=0,\" \",IF(OR(S13<1,S13>350),\" \",LOOKUP(S13,waarden!$G$4:$G$353,waarden!$H$4:$H$353)))","v":" "},null,{"$f":"IF(U13=0,\" \",IF(OR(U13<1,U13>350),\" \",LOOKUP(U13,waarden!$G$4:$G$353,waarden!$H$4:$H$353)))","v":" "},null,{"$f":"IF(W13=0,\" \",IF(OR(W13<1,W13>350),\" \",LOOKUP(W13,waarden!$G$4:$G$353,waarden!$H$4:$H$353)))","v":" "},null,{"$f":"IF(Y13=0,\" \",IF(OR(Y13<1,Y13>350),\" \",LOOKUP(Y13,waarden!$G$4:$G$353,waarden!$H$4:$H$353)))","v":" "},null,{"$f":"IF(AA13=0,\" \",IF(OR(AA13<1,AA13>350),\" \",LOOKUP(AA13,waarden!$G$4:$G$353,waarden!$H$4:$H$353)))","v":" "},null,{"$f":"IF(AC13=0,\" \",IF(OR(AC13<1,AC13>350),\" \",LOOKUP(AC13,waarden!$G$4:$G$353,waarden!$H$4:$H$353)))","v":" "},null,{"$f":"IF(AE13=0,\" \",IF(OR(AE13<1,AE13>350),\" \",LOOKUP(AE13,waarden!$G$4:$G$353,waarden!$H$4:$H$353)))","v":" "},null,{"$f":"IF(AG13=0,\" \",IF(OR(AG13<1,AG13>350),\" \",LOOKUP(AG13,waarden!$G$4:$G$353,waarden!$H$4:$H$353)))","v":" "},null,{"$f":"IF(AI13=0,\" \",IF(OR(AI13<1,AI13>350),\" \",LOOKUP(AI13,waarden!$G$4:$G$353,waarden!$H$4:$H$353)))","v":" "},null,{"$f":"IF(AK13=0,\" \",IF(OR(AK13<1,AK13>350),\" \",LOOKUP(AK13,waarden!$G$4:$G$353,waarden!$H$4:$H$353)))","v":" "},null,{"$f":"IF(AM13=0,\" \",IF(OR(AM13<1,AM13>350),\" \",LOOKUP(AM13,waarden!$G$4:$G$353,waarden!$H$4:$H$353)))","v":" "},null,{"$f":"IF(AO13=0,\" \",IF(OR(AO13<1,AO13>350),\" \",LOOKUP(AO13,waarden!$G$4:$G$353,waarden!$H$4:$H$353)))","v":" "},null,{"$f":"IF(AQ13=0,\" \",IF(OR(AQ13<1,AQ13>350),\" \",LOOKUP(AQ13,waarden!$G$4:$G$353,waarden!$H$4:$H$353)))","v":" "},null,{"$f":"IF(AS13=0,\" \",IF(OR(AS13<1,AS13>350),\" \",LOOKUP(AS13,waarden!$G$4:$G$353,waarden!$H$4:$H$353)))","v":" "},null,{"$f":"IF(AU13=0,\" \",IF(OR(AU13<1,AU13>350),\" \",LOOKUP(AU13,waarden!$G$4:$G$353,waarden!$H$4:$H$353)))","v":" "},null,{"$f":"IF(AW13=0,\" \",IF(OR(AW13<1,AW13>350),\" \",LOOKUP(AW13,waarden!$G$4:$G$353,waarden!$H$4:$H$353)))","v":" "},null,{"$f":"IF(AY13=0,\" \",IF(OR(AY13<1,AY13>350),\" \",LOOKUP(AY13,waarden!$G$4:$G$353,waarden!$H$4:$H$353)))","v":" "},null,{"$f":"IF(BA13=0,\" \",IF(OR(BA13<1,BA13>350),\" \",LOOKUP(BA13,waarden!$G$4:$G$353,waarden!$H$4:$H$353)))","v":" "},null,{"$f":"IF(BC13=0,\" \",IF(OR(BC13<1,BC13>350),\" \",LOOKUP(BC13,waarden!$G$4:$G$353,waarden!$H$4:$H$353)))","v":" "},null,{"$f":"IF(BE13=0,\" \",IF(OR(BE13<1,BE13>350),\" \",LOOKUP(BE13,waarden!$G$4:$G$353,waarden!$H$4:$H$353)))","v":" "},null,{"$f":"IF(BG13=0,\" \",IF(OR(BG13<1,BG13>350),\" \",LOOKUP(BG13,waarden!$G$4:$G$353,waarden!$H$4:$H$353)))","v":" "},null,{"$f":"IF(BI13=0,\" \",IF(OR(BI13<1,BI13>350),\" \",LOOKUP(BI13,waarden!$G$4:$G$353,waarden!$H$4:$H$353)))","v":" "},null,{"$f":"IF(BK13=0,\" \",IF(OR(BK13<1,BK13>350),\" \",LOOKUP(BK13,waarden!$G$4:$G$353,waarden!$H$4:$H$353)))","v":" "},null,{"$f":"IF(BM13=0,\" \",IF(OR(BM13<1,BM13>350),\" \",LOOKUP(BM13,waarden!$G$4:$G$353,waarden!$H$4:$H$353)))","v":" "},{"$f":"SUM(E13,G13,I13,K13,M13,O13,Q13,S13,U13,W13,Y13,AA13,AC13,AE13,AG13,AI13,AK13,AM13,AO13,AQ13,AS13,AU13,AW13,AY13,BA13,BC13,BE13,BG13,BI13,BK13,BM13)","v":0},{"$f":"SUM(F13,H13,J13,L13,N13,P13,R13,T13,V13,X13,Z13,AB13,AD13,AF13,AH13,AJ13,AL13,AN13,AP13,AR13,AT13,AV13,AX13,AZ13,BB13,BD13,BF13,BH13,BJ13,BL13,BN13)","v":0}]
[null,null,null,"Chauffeur alleen",null,{"$f":"IF(E14=0,\" \",IF(OR(E14<1,E14>350),\" \",LOOKUP(E14,waarden!$A$4:$A$353,waarden!$B$4:$B$353)))","v":" "},null,{"$f":"IF(G14=0,\" \",IF(OR(G14<1,G14>350),\" \",LOOKUP(G14,waarden!$A$4:$A$353,waarden!$B$4:$B$353)))","v":" "},null,{"$f":"IF(I14=0,\" \",IF(OR(I14<1,I14>350),\" \",LOOKUP(I14,waarden!$A$4:$A$353,waarden!$B$4:$B$353)))","v":" "},null,{"$f":"IF(K14=0,\" \",IF(OR(K14<1,K14>350),\" \",LOOKUP(K14,waarden!$D$4:$D$353,waarden!$E$4:$E$353)))","v":" "},null,{"$f":"IF(M14=0,\" \",IF(OR(M14<1,M14>350),\" \",LOOKUP(M14,waarden!$D$4:$D$353,waarden!$E$4:$E$353)))","v":" "},null,{"$f":"IF(O14=0,\" \",IF(OR(O14<1,O14>350),\" \",LOOKUP(O14,waarden!$D$4:$D$353,waarden!$E$4:$E$353)))","v":" "},null,{"$f":"IF(Q14=0,\" \",IF(OR(Q14<1,Q14>350),\" \",LOOKUP(Q14,waarden!$D$4:$D$353,waarden!$E$4:$E$353)))","v":" "},null,{"$f":"IF(S14=0,\" \",IF(OR(S14<1,S14>350),\" \",LOOKUP(S14,waarden!$D$4:$D$353,waarden!$E$4:$E$353)))","v":" "},null,{"$f":"IF(U14=0,\" \",IF(OR(U14<1,U14>350),\" \",LOOKUP(U14,waarden!$D$4:$D$353,waarden!$E$4:$E$353)))","v":" "},null,{"$f":"IF(W14=0,\" \",IF(OR(W14<1,W14>350),\" \",LOOKUP(W14,waarden!$D$4:$D$353,waarden!$E$4:$E$353)))","v":" "},null,{"$f":"IF(Y14=0,\" \",IF(OR(Y14<1,Y14>350),\" \",LOOKUP(Y14,waarden!$D$4:$D$353,waarden!$E$4:$E$353)))","v":" "},null,{"$f":"IF(AA14=0,\" \",IF(OR(AA14<1,AA14>350),\" \",LOOKUP(AA14,waarden!$D$4:$D$353,waarden!$E$4:$E$353)))","v":" "},null,{"$f":"IF(AC14=0,\" \",IF(OR(AC14<1,AC14>350),\" \",LOOKUP(AC14,waarden!$D$4:$D$353,waarden!$E$4:$E$353)))","v":" "},null,{"$f":"IF(AE14=0,\" \",IF(OR(AE14<1,AE14>350),\" \",LOOKUP(AE14,waarden!$D$4:$D$353,waarden!$E$4:$E$353)))","v":" "},null,{"$f":"IF(AG14=0,\" \",IF(OR(AG14<1,AG14>350),\" \",LOOKUP(AG14,waarden!$D$4:$D$353,waarden!$E$4:$E$353)))","v":" "},null,{"$f":"IF(AI14=0,\" \",IF(OR(AI14<1,AI14>350),\" \",LOOKUP(AI14,waarden!$D$4:$D$353,waarden!$E$4:$E$353)))","v":" "},null,{"$f":"IF(AK14=0,\" \",IF(OR(AK14<1,AK14>350),\" \",LOOKUP(AK14,waarden!$D$4:$D$353,waarden!$E$4:$E$353)))","v":" "},null,{"$f":"IF(AM14=0,\" \",IF(OR(AM14<1,AM14>350),\" \",LOOKUP(AM14,waarden!$D$4:$D$353,waarden!$E$4:$E$353)))","v":" "},null,{"$f":"IF(AO14=0,\" \",IF(OR(AO14<1,AO14>350),\" \",LOOKUP(AO14,waarden!$D$4:$D$353,waarden!$E$4:$E$353)))","v":" "},null,{"$f":"IF(AQ14=0,\" \",IF(OR(AQ14<1,AQ14>350),\" \",LOOKUP(AQ14,waarden!$D$4:$D$353,waarden!$E$4:$E$353)))","v":" "},null,{"$f":"IF(AS14=0,\" \",IF(OR(AS14<1,AS14>350),\" \",LOOKUP(AS14,waarden!$D$4:$D$353,waarden!$E$4:$E$353)))","v":" "},null,{"$f":"IF(AU14=0,\" \",IF(OR(AU14<1,AU14>350),\" \",LOOKUP(AU14,waarden!$D$4:$D$353,waarden!$E$4:$E$353)))","v":" "},null,{"$f":"IF(AW14=0,\" \",IF(OR(AW14<1,AW14>350),\" \",LOOKUP(AW14,waarden!$D$4:$D$353,waarden!$E$4:$E$353)))","v":" "},null,{"$f":"IF(AY14=0,\" \",IF(OR(AY14<1,AY14>350),\" \",LOOKUP(AY14,waarden!$D$4:$D$353,waarden!$E$4:$E$353)))","v":" "},null,{"$f":"IF(BA14=0,\" \",IF(OR(BA14<1,BA14>350),\" \",LOOKUP(BA14,waarden!$D$4:$D$353,waarden!$E$4:$E$353)))","v":" "},null,{"$f":"IF(BC14=0,\" \",IF(OR(BC14<1,BC14>350),\" \",LOOKUP(BC14,waarden!$D$4:$D$353,waarden!$E$4:$E$353)))","v":" "},null,{"$f":"IF(BE14=0,\" \",IF(OR(BE14<1,BE14>350),\" \",LOOKUP(BE14,waarden!$D$4:$D$353,waarden!$E$4:$E$353)))","v":" "},null,{"$f":"IF(BG14=0,\" \",IF(OR(BG14<1,BG14>350),\" \",LOOKUP(BG14,waarden!$D$4:$D$353,waarden!$E$4:$E$353)))","v":" "},null,{"$f":"IF(BI14=0,\" \",IF(OR(BI14<1,BI14>350),\" \",LOOKUP(BI14,waarden!$D$4:$D$353,waarden!$E$4:$E$353)))","v":" "},null,{"$f":"IF(BK14=0,\" \",IF(OR(BK14<1,BK14>350),\" \",LOOKUP(BK14,waarden!$D$4:$D$353,waarden!$E$4:$E$353)))","v":" "},null,{"$f":"IF(BM14=0,\" \",IF(OR(BM14<1,BM14>350),\" \",LOOKUP(BM14,waarden!$D$4:$D$353,waarden!$E$4:$E$353)))","v":" "},0,0]
[null,null,null,"Passagier",null,{"$f":"IF(E15=0,\" \",IF(OR(E15<1,E15>350),\" \",LOOKUP(E15,waarden!$A$4:$A$353,waarden!$B$4:$B$353)))","v":" "},null,{"$f":"IF(G15=0,\" \",IF(OR(G15<1,G15>350),\" \",LOOKUP(G15,waarden!$A$4:$A$353,waarden!$B$4:$B$353)))","v":" "},null,{"$f":"IF(I15=0,\" \",IF(OR(I15<1,I15>350),\" \",LOOKUP(I15,waarden!$A$4:$A$353,waarden!$B$4:$B$353)))","v":" "},null,{"$f":"IF(K15=0,\" \",IF(OR(K15<1,K15>350),\" \",LOOKUP(K15,waarden!$A$4:$A$353,waarden!$B$4:$B$353)))","v":" "},null,{"$f":"IF(M15=0,\" \",IF(OR(M15<1,M15>350),\" \",LOOKUP(M15,waarden!$A$4:$A$353,waarden!$B$4:$B$353)))","v":" "},null,{"$f":"IF(O15=0,\" \",IF(OR(O15<1,O15>350),\" \",LOOKUP(O15,waarden!$A$4:$A$353,waarden!$B$4:$B$353)))","v":" "},null,{"$f":"IF(Q15=0,\" \",IF(OR(Q15<1,Q15>350),\" \",LOOKUP(Q15,waarden!$A$4:$A$353,waarden!$B$4:$B$353)))","v":" "},null,{"$f":"IF(S15=0,\" \",IF(OR(S15<1,S15>350),\" \",LOOKUP(S15,waarden!$A$4:$A$353,waarden!$B$4:$B$353)))","v":" "},null,{"$f":"IF(U15=0,\" \",IF(OR(U15<1,U15>350),\" \",LOOKUP(U15,waarden!$A$4:$A$353,waarden!$B$4:$B$353)))","v":" "},null,{"$f":"IF(W15=0,\" \",IF(OR(W15<1,W15>350),\" \",LOOKUP(W15,waarden!$A$4:$A$353,waarden!$B$4:$B$353)))","v":" "},null,{"$f":"IF(Y15=0,\" \",IF(OR(Y15<1,Y15>350),\" \",LOOKUP(Y15,waarden!$A$4:$A$353,waarden!$B$4:$B$353)))","v":" "},null,{"$f":"IF(AA15=0,\" \",IF(OR(AA15<1,AA15>350),\" \",LOOKUP(AA15,waarden!$A$4:$A$353,waarden!$B$4:$B$353)))","v":" "},null,{"$f":"IF(AC15=0,\" \",IF(OR(AC15<1,AC15>350),\" \",LOOKUP(AC15,waarden!$A$4:$A$353,waarden!$B$4:$B$353)))","v":" "},null,{"$f":"IF(AE15=0,\" \",IF(OR(AE15<1,AE15>350),\" \",LOOKUP(AE15,waarden!$A$4:$A$353,waarden!$B$4:$B$353)))","v":" "},null,{"$f":"IF(AG15=0,\" \",IF(OR(AG15<1,AG15>350),\" \",LOOKUP(AG15,waarden!$A$4:$A$353,waarden!$B$4:$B$353)))","v":" "},null,{"$f":"IF(AI15=0,\" \",IF(OR(AI15<1,AI15>350),\" \",LOOKUP(AI15,waarden!$A$4:$A$353,waarden!$B$4:$B$353)))","v":" "},null,{"$f":"IF(AK15=0,\" \",IF(OR(AK15<1,AK15>350),\" \",LOOKUP(AK15,waarden!$A$4:$A$353,waarden!$B$4:$B$353)))","v":" "},null,{"$f":"IF(AM15=0,\" \",IF(OR(AM15<1,AM15>350),\" \",LOOKUP(AM15,waarden!$A$4:$A$353,waarden!$B$4:$B$353)))","v":" "},null,{"$f":"IF(AO15=0,\" \",IF(OR(AO15<1,AO15>350),\" \",LOOKUP(AO15,waarden!$A$4:$A$353,waarden!$B$4:$B$353)))","v":" "},null,{"$f":"IF(AQ15=0,\" \",IF(OR(AQ15<1,AQ15>350),\" \",LOOKUP(AQ15,waarden!$A$4:$A$353,waarden!$B$4:$B$353)))","v":" "},null,{"$f":"IF(AS15=0,\" \",IF(OR(AS15<1,AS15>350),\" \",LOOKUP(AS15,waarden!$A$4:$A$353,waarden!$B$4:$B$353)))","v":" "},null,{"$f":"IF(AU15=0,\" \",IF(OR(AU15<1,AU15>350),\" \",LOOKUP(AU15,waarden!$A$4:$A$353,waarden!$B$4:$B$353)))","v":" "},null,{"$f":"IF(AW15=0,\" \",IF(OR(AW15<1,AW15>350),\" \",LOOKUP(AW15,waarden!$A$4:$A$353,waarden!$B$4:$B$353)))","v":" "},null,{"$f":"IF(AY15=0,\" \",IF(OR(AY15<1,AY15>350),\" \",LOOKUP(AY15,waarden!$A$4:$A$353,waarden!$B$4:$B$353)))","v":" "},null,{"$f":"IF(BA15=0,\" \",IF(OR(BA15<1,BA15>350),\" \",LOOKUP(BA15,waarden!$A$4:$A$353,waarden!$B$4:$B$353)))","v":" "},null,{"$f":"IF(BC15=0,\" \",IF(OR(BC15<1,BC15>350),\" \",LOOKUP(BC15,waarden!$A$4:$A$353,waarden!$B$4:$B$353)))","v":" "},null,{"$f":"IF(BE15=0,\" \",IF(OR(BE15<1,BE15>350),\" \",LOOKUP(BE15,waarden!$A$4:$A$353,waarden!$B$4:$B$353)))","v":" "},null,{"$f":"IF(BG15=0,\" \",IF(OR(BG15<1,BG15>350),\" \",LOOKUP(BG15,waarden!$A$4:$A$353,waarden!$B$4:$B$353)))","v":" "},null,{"$f":"IF(BI15=0,\" \",IF(OR(BI15<1,BI15>350),\" \",LOOKUP(BI15,waarden!$A$4:$A$353,waarden!$B$4:$B$353)))","v":" "},null,{"$f":"IF(BK15=0,\" \",IF(OR(BK15<1,BK15>350),\" \",LOOKUP(BK15,waarden!$A$4:$A$353,waarden!$B$4:$B$353)))","v":" "},null,{"$f":"IF(BM15=0,\" \",IF(OR(BM15<1,BM15>350),\" \",LOOKUP(BM15,waarden!$A$4:$A$353,waarden!$B$4:$B$353)))","v":" "},0,0]
[null,null,null,"Chauffeur personeel",null,{"$f":"IF(E16=0,\" \",IF(OR(E16<1,E16>350),\" \",LOOKUP(E16,waarden!$G$4:$G$353,waarden!$H$4:$H$353)))","v":" "},null,{"$f":"IF(G16=0,\" \",IF(OR(G16<1,G16>350),\" \",LOOKUP(G16,waarden!$G$4:$G$353,waarden!$H$4:$H$353)))","v":" "},null,{"$f":"IF(I16=0,\" \",IF(OR(I16<1,I16>350),\" \",LOOKUP(I16,waarden!$G$4:$G$353,waarden!$H$4:$H$353)))","v":" "},null,{"$f":"IF(K16=0,\" \",IF(OR(K16<1,K16>350),\" \",LOOKUP(K16,waarden!$G$4:$G$353,waarden!$H$4:$H$353)))","v":" "},null,{"$f":"IF(M16=0,\" \",IF(OR(M16<1,M16>350),\" \",LOOKUP(M16,waarden!$G$4:$G$353,waarden!$H$4:$H$353)))","v":" "},null,{"$f":"IF(O16=0,\" \",IF(OR(O16<1,O16>350),\" \",LOOKUP(O16,waarden!$G$4:$G$353,waarden!$H$4:$H$353)))","v":" "},null,{"$f":"IF(Q16=0,\" \",IF(OR(Q16<1,Q16>350),\" \",LOOKUP(Q16,waarden!$G$4:$G$353,waarden!$H$4:$H$353)))","v":" "},null,{"$f":"IF(S16=0,\" \",IF(OR(S16<1,S16>350),\" \",LOOKUP(S16,waarden!$G$4:$G$353,waarden!$H$4:$H$353)))","v":" "},null,{"$f":"IF(U16=0,\" \",IF(OR(U16<1,U16>350),\" \",LOOKUP(U16,waarden!$G$4:$G$353,waarden!$H$4:$H$353)))","v":" "},null,{"$f":"IF(W16=0,\" \",IF(OR(W16<1,W16>350),\" \",LOOKUP(W16,waarden!$G$4:$G$353,waarden!$H$4:$H$353)))","v":" "},null,{"$f":"IF(Y16=0,\" \",IF(OR(Y16<1,Y16>350),\" \",LOOKUP(Y16,waarden!$G$4:$G$353,waarden!$H$4:$H$353)))","v":" "},null,{"$f":"IF(AA16=0,\" \",IF(OR(AA16<1,AA16>350),\" \",LOOKUP(AA16,waarden!$G$4:$G$353,waarden!$H$4:$H$353)))","v":" "},null,{"$f":"IF(AC16=0,\" \",IF(OR(AC16<1,AC16>350),\" \",LOOKUP(AC16,waarden!$G$4:$G$353,waarden!$H$4:$H$353)))","v":" "},null,{"$f":"IF(AE16=0,\" \",IF(OR(AE16<1,AE16>350),\" \",LOOKUP(AE16,waarden!$G$4:$G$353,waarden!$H$4:$H$353)))","v":" "},null,{"$f":"IF(AG16=0,\" \",IF(OR(AG16<1,AG16>350),\" \",LOOKUP(AG16,waarden!$G$4:$G$353,waarden!$H$4:$H$353)))","v":" "},null,{"$f":"IF(AI16=0,\" \",IF(OR(AI16<1,AI16>350),\" \",LOOKUP(AI16,waarden!$G$4:$G$353,waarden!$H$4:$H$353)))","v":" "},null,{"$f":"IF(AK16=0,\" \",IF(OR(AK16<1,AK16>350),\" \",LOOKUP(AK16,waarden!$G$4:$G$353,waarden!$H$4:$H$353)))","v":" "},null,{"$f":"IF(AM16=0,\" \",IF(OR(AM16<1,AM16>350),\" \",LOOKUP(AM16,waarden!$G$4:$G$353,waarden!$H$4:$H$353)))","v":" "},null,{"$f":"IF(AO16=0,\" \",IF(OR(AO16<1,AO16>350),\" \",LOOKUP(AO16,waarden!$G$4:$G$353,waarden!$H$4:$H$353)))","v":" "},null,{"$f":"IF(AQ16=0,\" \",IF(OR(AQ16<1,AQ16>350),\" \",LOOKUP(AQ16,waarden!$G$4:$G$353,waarden!$H$4:$H$353)))","v":" "},null,{"$f":"IF(AS16=0,\" \",IF(OR(AS16<1,AS16>350),\" \",LOOKUP(AS16,waarden!$G$4:$G$353,waarden!$H$4:$H$353)))","v":" "},null,{"$f":"IF(AU16=0,\" \",IF(OR(AU16<1,AU16>350),\" \",LOOKUP(AU16,waarden!$G$4:$G$353,waarden!$H$4:$H$353)))","v":" "},null,{"$f":"IF(AW16=0,\" \",IF(OR(AW16<1,AW16>350),\" \",LOOKUP(AW16,waarden!$G$4:$G$353,waarden!$H$4:$H$353)))","v":" "},null,{"$f":"IF(AY16=0,\" \",IF(OR(AY16<1,AY16>350),\" \",LOOKUP(AY16,waarden!$G$4:$G$353,waarden!$H$4:$H$353)))","v":" "},null,{"$f":"IF(BA16=0,\" \",IF(OR(BA16<1,BA16>350),\" \",LOOKUP(BA16,waarden!$G$4:$G$353,waarden!$H$4:$H$353)))","v":" "},null,{"$f":"IF(BC16=0,\" \",IF(OR(BC16<1,BC16>350),\" \",LOOKUP(BC16,waarden!$G$4:$G$353,waarden!$H$4:$H$353)))","v":" "},null,{"$f":"IF(BE16=0,\" \",IF(OR(BE16<1,BE16>350),\" \",LOOKUP(BE16,waarden!$G$4:$G$353,waarden!$H$4:$H$353)))","v":" "},null,{"$f":"IF(BG16=0,\" \",IF(OR(BG16<1,BG16>350),\" \",LOOKUP(BG16,waarden!$G$4:$G$353,waarden!$H$4:$H$353)))","v":" "},null,{"$f":"IF(BI16=0,\" \",IF(OR(BI16<1,BI16>350),\" \",LOOKUP(BI16,waarden!$G$4:$G$353,waarden!$H$4:$H$353)))","v":" "},null,{"$f":"IF(BK16=0,\" \",IF(OR(BK16<1,BK16>350),\" \",LOOKUP(BK16,waarden!$G$4:$G$353,waarden!$H$4:$H$353)))","v":" "},null,{"$f":"IF(BM16=0,\" \",IF(OR(BM16<1,BM16>350),\" \",LOOKUP(BM16,waarden!$G$4:$G$353,waarden!$H$4:$H$353)))","v":" "},{"$f":"SUM(E16,G16,I16,K16,M16,O16,Q16,S16,U16,W16,Y16,AA16,AC16,AE16,AG16,AI16,AK16,AM16,AO16,AQ16,AS16,AU16,AW16,AY16,BA16,BC16,BE16,BG16,BI16,BK16,BM16)","v":0},{"$f":"SUM(F16,H16,J16,L16,N16,P16,R16,T16,V16,X16,Z16,AB16,AD16,AF16,AH16,AJ16,AL16,AN16,AP16,AR16,AT16,AV16,AX16,AZ16,BB16,BD16,BF16,BH16,BJ16,BL16,BN16)","v":0}]
[null,null,null,"Chauffeur alleen",null,{"$f":"IF(E17=0,\" \",IF(OR(E17<1,E17>350),\" \",LOOKUP(E17,waarden!$D$4:$D$353,waarden!$E$4:$E$353)))","v":" "},null,{"$f":"IF(G17=0,\" \",IF(OR(G17<1,G17>350),\" \",LOOKUP(G17,waarden!$D$4:$D$353,waarden!$E$4:$E$353)))","v":" "},null,{"$f":"IF(I17=0,\" \",IF(OR(I17<1,I17>350),\" \",LOOKUP(I17,waarden!$D$4:$D$353,waarden!$E$4:$E$353)))","v":" "},null,{"$f":"IF(K17=0,\" \",IF(OR(K17<1,K17>350),\" \",LOOKUP(K17,waarden!$D$4:$D$353,waarden!$E$4:$E$353)))","v":" "},null,{"$f":"IF(M17=0,\" \",IF(OR(M17<1,M17>350),\" \",LOOKUP(M17,waarden!$D$4:$D$353,waarden!$E$4:$E$353)))","v":" "},null,{"$f":"IF(O17=0,\" \",IF(OR(O17<1,O17>350),\" \",LOOKUP(O17,waarden!$D$4:$D$353,waarden!$E$4:$E$353)))","v":" "},null,{"$f":"IF(Q17=0,\" \",IF(OR(Q17<1,Q17>350),\" \",LOOKUP(Q17,waarden!$D$4:$D$353,waarden!$E$4:$E$353)))","v":" "},null,{"$f":"IF(S17=0,\" \",IF(OR(S17<1,S17>350),\" \",LOOKUP(S17,waarden!$D$4:$D$353,waarden!$E$4:$E$353)))","v":" "},null,{"$f":"IF(U17=0,\" \",IF(OR(U17<1,U17>350),\" \",LOOKUP(U17,waarden!$D$4:$D$353,waarden!$E$4:$E$353)))","v":" "},null,{"$f":"IF(W17=0,\" \",IF(OR(W17<1,W17>350),\" \",LOOKUP(W17,waarden!$D$4:$D$353,waarden!$E$4:$E$353)))","v":" "},null,{"$f":"IF(Y17=0,\" \",IF(OR(Y17<1,Y17>350),\" \",LOOKUP(Y17,waarden!$D$4:$D$353,waarden!$E$4:$E$353)))","v":" "},null,{"$f":"IF(AA17=0,\" \",IF(OR(AA17<1,AA17>350),\" \",LOOKUP(AA17,waarden!$D$4:$D$353,waarden!$E$4:$E$353)))","v":" "},null,{"$f":"IF(AC17=0,\" \",IF(OR(AC17<1,AC17>350),\" \",LOOKUP(AC17,waarden!$D$4:$D$353,waarden!$E$4:$E$353)))","v":" "},null,{"$f":"IF(AE17=0,\" \",IF(OR(AE17<1,AE17>350),\" \",LOOKUP(AE17,waarden!$D$4:$D$353,waarden!$E$4:$E$353)))","v":" "},null,{"$f":"IF(AG17=0,\" \",IF(OR(AG17<1,AG17>350),\" \",LOOKUP(AG17,waarden!$D$4:$D$353,waarden!$E$4:$E$353)))","v":" "},null,{"$f":"IF(AI17=0,\" \",IF(OR(AI17<1,AI17>350),\" \",LOOKUP(AI17,waarden!$D$4:$D$353,waarden!$E$4:$E$353)))","v":" "},null,{"$f":"IF(AK17=0,\" \",IF(OR(AK17<1,AK17>350),\" \",LOOKUP(AK17,waarden!$D$4:$D$353,waarden!$E$4:$E$353)))","v":" "},null,{"$f":"IF(AM17=0,\" \",IF(OR(AM17<1,AM17>350),\" \",LOOKUP(AM17,waarden!$D$4:$D$353,waarden!$E$4:$E$353)))","v":" "},null,{"$f":"IF(AO17=0,\" \",IF(OR(AO17<1,AO17>350),\" \",LOOKUP(AO17,waarden!$D$4:$D$353,waarden!$E$4:$E$353)))","v":" "},null,{"$f":"IF(AQ17=0,\" \",IF(OR(AQ17<1,AQ17>350),\" \",LOOKUP(AQ17,waarden!$D$4:$D$353,waarden!$E$4:$E$353)))","v":" "},null,{"$f":"IF(AS17=0,\" \",IF(OR(AS17<1,AS17>350),\" \",LOOKUP(AS17,waarden!$D$4:$D$353,waarden!$E$4:$E$353)))","v":" "},null,{"$f":"IF(AU17=0,\" \",IF(OR(AU17<1,AU17>350),\" \",LOOKUP(AU17,waarden!$D$4:$D$353,waarden!$E$4:$E$353)))","v":" "},null,{"$f":"IF(AW17=0,\" \",IF(OR(AW17<1,AW17>350),\" \",LOOKUP(AW17,waarden!$D$4:$D$353,waarden!$E$4:$E$353)))","v":" "},null,{"$f":"IF(AY17=0,\" \",IF(OR(AY17<1,AY17>350),\" \",LOOKUP(AY17,waarden!$D$4:$D$353,waarden!$E$4:$E$353)))","v":" "},null,{"$f":"IF(BA17=0,\" \",IF(OR(BA17<1,BA17>350),\" \",LOOKUP(BA17,waarden!$D$4:$D$353,waarden!$E$4:$E$353)))","v":" "},null,{"$f":"IF(BC17=0,\" \",IF(OR(BC17<1,BC17>350),\" \",LOOKUP(BC17,waarden!$D$4:$D$353,waarden!$E$4:$E$353)))","v":" "},null,{"$f":"IF(BE17=0,\" \",IF(OR(BE17<1,BE17>350),\" \",LOOKUP(BE17,waarden!$D$4:$D$353,waarden!$E$4:$E$353)))","v":" "},null,{"$f":"IF(BG17=0,\" \",IF(OR(BG17<1,BG17>350),\" \",LOOKUP(BG17,waarden!$D$4:$D$353,waarden!$E$4:$E$353)))","v":" "},null,{"$f":"IF(BI17=0,\" \",IF(OR(BI17<1,BI17>350),\" \",LOOKUP(BI17,waarden!$D$4:$D$353,waarden!$E$4:$E$353)))","v":" "},null,{"$f":"IF(BK17=0,\" \",IF(OR(BK17<1,BK17>350),\" \",LOOKUP(BK17,waarden!$D$4:$D$353,waarden!$E$4:$E$353)))","v":" "},null,{"$f":"IF(BM17=0,\" \",IF(OR(BM17<1,BM17>350),\" \",LOOKUP(BM17,waarden!$D$4:$D$353,waarden!$E$4:$E$353)))","v":" "},0,0]
[null,null,null,"Passagier",null,{"$f":"IF(E18=0,\" \",IF(OR(E18<1,E18>350),\" \",LOOKUP(E18,waarden!$A$4:$A$353,waarden!$B$4:$B$353)))","v":" "},null,{"$f":"IF(G18=0,\" \",IF(OR(G18<1,G18>350),\" \",LOOKUP(G18,waarden!$A$4:$A$353,waarden!$B$4:$B$353)))","v":" "},null,{"$f":"IF(I18=0,\" \",IF(OR(I18<1,I18>350),\" \",LOOKUP(I18,waarden!$A$4:$A$353,waarden!$B$4:$B$353)))","v":" "},null,{"$f":"IF(K18=0,\" \",IF(OR(K18<1,K18>350),\" \",LOOKUP(K18,waarden!$A$4:$A$353,waarden!$B$4:$B$353)))","v":" "},null,{"$f":"IF(M18=0,\" \",IF(OR(M18<1,M18>350),\" \",LOOKUP(M18,waarden!$A$4:$A$353,waarden!$B$4:$B$353)))","v":" "},null,{"$f":"IF(O18=0,\" \",IF(OR(O18<1,O18>350),\" \",LOOKUP(O18,waarden!$A$4:$A$353,waarden!$B$4:$B$353)))","v":" "},null,{"$f":"IF(Q18=0,\" \",IF(OR(Q18<1,Q18>350),\" \",LOOKUP(Q18,waarden!$A$4:$A$353,waarden!$B$4:$B$353)))","v":" "},null,{"$f":"IF(S18=0,\" \",IF(OR(S18<1,S18>350),\" \",LOOKUP(S18,waarden!$A$4:$A$353,waarden!$B$4:$B$353)))","v":" "},null,{"$f":"IF(U18=0,\" \",IF(OR(U18<1,U18>350),\" \",LOOKUP(U18,waarden!$A$4:$A$353,waarden!$B$4:$B$353)))","v":" "},null,{"$f":"IF(W18=0,\" \",IF(OR(W18<1,W18>350),\" \",LOOKUP(W18,waarden!$A$4:$A$353,waarden!$B$4:$B$353)))","v":" "},null,{"$f":"IF(Y18=0,\" \",IF(OR(Y18<1,Y18>350),\" \",LOOKUP(Y18,waarden!$A$4:$A$353,waarden!$B$4:$B$353)))","v":" "},null,{"$f":"IF(AA18=0,\" \",IF(OR(AA18<1,AA18>350),\" \",LOOKUP(AA18,waarden!$A$4:$A$353,waarden!$B$4:$B$353)))","v":" "},null,{"$f":"IF(AC18=0,\" \",IF(OR(AC18<1,AC18>350),\" \",LOOKUP(AC18,waarden!$A$4:$A$353,waarden!$B$4:$B$353)))","v":" "},null,{"$f":"IF(AE18=0,\" \",IF(OR(AE18<1,AE18>350),\" \",LOOKUP(AE18,waarden!$A$4:$A$353,waarden!$B$4:$B$353)))","v":" "},null,{"$f":"IF(AG18=0,\" \",IF(OR(AG18<1,AG18>350),\" \",LOOKUP(AG18,waarden!$A$4:$A$353,waarden!$B$4:$B$353)))","v":" "},null,{"$f":"IF(AI18=0,\" \",IF(OR(AI18<1,AI18>350),\" \",LOOKUP(AI18,waarden!$A$4:$A$353,waarden!$B$4:$B$353)))","v":" "},null,{"$f":"IF(AK18=0,\" \",IF(OR(AK18<1,AK18>350),\" \",LOOKUP(AK18,waarden!$A$4:$A$353,waarden!$B$4:$B$353)))","v":" "},null,{"$f":"IF(AM18=0,\" \",IF(OR(AM18<1,AM18>350),\" \",LOOKUP(AM18,waarden!$A$4:$A$353,waarden!$B$4:$B$353)))","v":" "},null,{"$f":"IF(AO18=0,\" \",IF(OR(AO18<1,AO18>350),\" \",LOOKUP(AO18,waarden!$A$4:$A$353,waarden!$B$4:$B$353)))","v":" "},null,{"$f":"IF(AQ18=0,\" \",IF(OR(AQ18<1,AQ18>350),\" \",LOOKUP(AQ18,waarden!$A$4:$A$353,waarden!$B$4:$B$353)))","v":" "},null,{"$f":"IF(AS18=0,\" \",IF(OR(AS18<1,AS18>350),\" \",LOOKUP(AS18,waarden!$A$4:$A$353,waarden!$B$4:$B$353)))","v":" "},null,{"$f":"IF(AU18=0,\" \",IF(OR(AU18<1,AU18>350),\" \",LOOKUP(AU18,waarden!$A$4:$A$353,waarden!$B$4:$B$353)))","v":" "},null,{"$f":"IF(AW18=0,\" \",IF(OR(AW18<1,AW18>350),\" \",LOOKUP(AW18,waarden!$A$4:$A$353,waarden!$B$4:$B$353)))","v":" "},null,{"$f":"IF(AY18=0,\" \",IF(OR(AY18<1,AY18>350),\" \",LOOKUP(AY18,waarden!$A$4:$A$353,waarden!$B$4:$B$353)))","v":" "},null,{"$f":"IF(BA18=0,\" \",IF(OR(BA18<1,BA18>350),\" \",LOOKUP(BA18,waarden!$A$4:$A$353,waarden!$B$4:$B$353)))","v":" "},null,{"$f":"IF(BC18=0,\" \",IF(OR(BC18<1,BC18>350),\" \",LOOKUP(BC18,waarden!$A$4:$A$353,waarden!$B$4:$B$353)))","v":" "},null,{"$f":"IF(BE18=0,\" \",IF(OR(BE18<1,BE18>350),\" \",LOOKUP(BE18,waarden!$A$4:$A$353,waarden!$B$4:$B$353)))","v":" "},null,{"$f":"IF(BG18=0,\" \",IF(OR(BG18<1,BG18>350),\" \",LOOKUP(BG18,waarden!$A$4:$A$353,waarden!$B$4:$B$353)))","v":" "},null,{"$f":"IF(BI18=0,\" \",IF(OR(BI18<1,BI18>350),\" \",LOOKUP(BI18,waarden!$A$4:$A$353,waarden!$B$4:$B$353)))","v":" "},null,{"$f":"IF(BK18=0,\" \",IF(OR(BK18<1,BK18>350),\" \",LOOKUP(BK18,waarden!$A$4:$A$353,waarden!$B$4:$B$353)))","v":" "},null,{"$f":"IF(BM18=0,\" \",IF(OR(BM18<1,BM18>350),\" \",LOOKUP(BM18,waarden!$A$4:$A$353,waarden!$B$4:$B$353)))","v":" "},0,0]
[null,null,null,"Chauffeur personeel",null,{"$f":"IF(E19=0,\" \",IF(OR(E19<1,E19>350),\" \",LOOKUP(E19,waarden!$G$4:$G$353,waarden!$H$4:$H$353)))","v":" "},null,{"$f":"IF(G19=0,\" \",IF(OR(G19<1,G19>350),\" \",LOOKUP(G19,waarden!$G$4:$G$353,waarden!$H$4:$H$353)))","v":" "},null,{"$f":"IF(I19=0,\" \",IF(OR(I19<1,I19>350),\" \",LOOKUP(I19,waarden!$G$4:$G$353,waarden!$H$4:$H$353)))","v":" "},null,{"$f":"IF(K19=0,\" \",IF(OR(K19<1,K19>350),\" \",LOOKUP(K19,waarden!$G$4:$G$353,waarden!$H$4:$H$353)))","v":" "},null,{"$f":"IF(M19=0,\" \",IF(OR(M19<1,M19>350),\" \",LOOKUP(M19,waarden!$G$4:$G$353,waarden!$H$4:$H$353)))","v":" "},null,{"$f":"IF(O19=0,\" \",IF(OR(O19<1,O19>350),\" \",LOOKUP(O19,waarden!$G$4:$G$353,waarden!$H$4:$H$353)))","v":" "},null,{"$f":"IF(Q19=0,\" \",IF(OR(Q19<1,Q19>350),\" \",LOOKUP(Q19,waarden!$G$4:$G$353,waarden!$H$4:$H$353)))","v":" "},null,{"$f":"IF(S19=0,\" \",IF(OR(S19<1,S19>350),\" \",LOOKUP(S19,waarden!$G$4:$G$353,waarden!$H$4:$H$353)))","v":" "},null,{"$f":"IF(U19=0,\" \",IF(OR(U19<1,U19>350),\" \",LOOKUP(U19,waarden!$G$4:$G$353,waarden!$H$4:$H$353)))","v":" "},null,{"$f":"IF(W19=0,\" \",IF(OR(W19<1,W19>350),\" \",LOOKUP(W19,waarden!$G$4:$G$353,waarden!$H$4:$H$353)))","v":" "},null,{"$f":"IF(Y19=0,\" \",IF(OR(Y19<1,Y19>350),\" \",LOOKUP(Y19,waarden!$G$4:$G$353,waarden!$H$4:$H$353)))","v":" "},null,{"$f":"IF(AA19=0,\" \",IF(OR(AA19<1,AA19>350),\" \",LOOKUP(AA19,waarden!$G$4:$G$353,waarden!$H$4:$H$353)))","v":" "},null,{"$f":"IF(AC19=0,\" \",IF(OR(AC19<1,AC19>350),\" \",LOOKUP(AC19,waarden!$G$4:$G$353,waarden!$H$4:$H$353)))","v":" "},null,{"$f":"IF(AE19=0,\" \",IF(OR(AE19<1,AE19>350),\" \",LOOKUP(AE19,waarden!$G$4:$G$353,waarden!$H$4:$H$353)))","v":" "},null,{"$f":"IF(AG19=0,\" \",IF(OR(AG19<1,AG19>350),\" \",LOOKUP(AG19,waarden!$G$4:$G$353,waarden!$H$4:$H$353)))","v":" "},null,{"$f":"IF(AI19=0,\" \",IF(OR(AI19<1,AI19>350),\" \",LOOKUP(AI19,waarden!$G$4:$G$353,waarden!$H$4:$H$353)))","v":" "},null,{"$f":"IF(AK19=0,\" \",IF(OR(AK19<1,AK19>350),\" \",LOOKUP(AK19,waarden!$G$4:$G$353,waarden!$H$4:$H$353)))","v":" "},null,{"$f":"IF(AM19=0,\" \",IF(OR(AM19<1,AM19>350),\" \",LOOKUP(AM19,waarden!$G$4:$G$353,waarden!$H$4:$H$353)))","v":" "},null,{"$f":"IF(AO19=0,\" \",IF(OR(AO19<1,AO19>350),\" \",LOOKUP(AO19,waarden!$G$4:$G$353,waarden!$H$4:$H$353)))","v":" "},null,{"$f":"IF(AQ19=0,\" \",IF(OR(AQ19<1,AQ19>350),\" \",LOOKUP(AQ19,waarden!$G$4:$G$353,waarden!$H$4:$H$353)))","v":" "},null,{"$f":"IF(AS19=0,\" \",IF(OR(AS19<1,AS19>350),\" \",LOOKUP(AS19,waarden!$G$4:$G$353,waarden!$H$4:$H$353)))","v":" "},null,{"$f":"IF(AU19=0,\" \",IF(OR(AU19<1,AU19>350),\" \",LOOKUP(AU19,waarden!$G$4:$G$353,waarden!$H$4:$H$353)))","v":" "},null,{"$f":"IF(AW19=0,\" \",IF(OR(AW19<1,AW19>350),\" \",LOOKUP(AW19,waarden!$G$4:$G$353,waarden!$H$4:$H$353)))","v":" "},null,{"$f":"IF(AY19=0,\" \",IF(OR(AY19<1,AY19>350),\" \",LOOKUP(AY19,waarden!$G$4:$G$353,waarden!$H$4:$H$353)))","v":" "},null,{"$f":"IF(BA19=0,\" \",IF(OR(BA19<1,BA19>350),\" \",LOOKUP(BA19,waarden!$G$4:$G$353,waarden!$H$4:$H$353)))","v":" "},null,{"$f":"IF(BC19=0,\" \",IF(OR(BC19<1,BC19>350),\" \",LOOKUP(BC19,waarden!$G$4:$G$353,waarden!$H$4:$H$353)))","v":" "},null,{"$f":"IF(BE19=0,\" \",IF(OR(BE19<1,BE19>350),\" \",LOOKUP(BE19,waarden!$G$4:$G$353,waarden!$H$4:$H$353)))","v":" "},null,{"$f":"IF(BG19=0,\" \",IF(OR(BG19<1,BG19>350),\" \",LOOKUP(BG19,waarden!$G$4:$G$353,waarden!$H$4:$H$353)))","v":" "},null,{"$f":"IF(BI19=0,\" \",IF(OR(BI19<1,BI19>350),\" \",LOOKUP(BI19,waarden!$G$4:$G$353,waarden!$H$4:$H$353)))","v":" "},null,{"$f":"IF(BK19=0,\" \",IF(OR(BK19<1,BK19>350),\" \",LOOKUP(BK19,waarden!$G$4:$G$353,waarden!$H$4:$H$353)))","v":" "},null,{"$f":"IF(BM19=0,\" \",IF(OR(BM19<1,BM19>350),\" \",LOOKUP(BM19,waarden!$G$4:$G$353,waarden!$H$4:$H$353)))","v":" "},{"$f":"SUM(E19,G19,I19,K19,M19,O19,Q19,S19,U19,W19,Y19,AA19,AC19,AE19,AG19,AI19,AK19,AM19,AO19,AQ19,AS19,AU19,AW19,AY19,BA19,BC19,BE19,BG19,BI19,BK19,BM19)","v":0},{"$f":"SUM(F19,H19,J19,L19,N19,P19,R19,T19,V19,X19,Z19,AB19,AD19,AF19,AH19,AJ19,AL19,AN19,AP19,AR19,AT19,AV19,AX19,AZ19,BB19,BD19,BF19,BH19,BJ19,BL19,BN19)","v":0}]
[null,null,null,"Chauffeur alleen",null,{"$f":"IF(E20=0,\" \",IF(OR(E20<1,E20>350),\" \",LOOKUP(E20,waarden!$D$4:$D$353,waarden!$E$4:$E$353)))","v":" "},null,{"$f":"IF(G20=0,\" \",IF(OR(G20<1,G20>350),\" \",LOOKUP(G20,waarden!$D$4:$D$353,waarden!$E$4:$E$353)))","v":" "},null,{"$f":"IF(I20=0,\" \",IF(OR(I20<1,I20>350),\" \",LOOKUP(I20,waarden!$D$4:$D$353,waarden!$E$4:$E$353)))","v":" "},null,{"$f":"IF(K20=0,\" \",IF(OR(K20<1,K20>350),\" \",LOOKUP(K20,waarden!$D$4:$D$353,waarden!$E$4:$E$353)))","v":" "},null,{"$f":"IF(M20=0,\" \",IF(OR(M20<1,M20>350),\" \",LOOKUP(M20,waarden!$D$4:$D$353,waarden!$E$4:$E$353)))","v":" "},null,{"$f":"IF(O20=0,\" \",IF(OR(O20<1,O20>350),\" \",LOOKUP(O20,waarden!$D$4:$D$353,waarden!$E$4:$E$353)))","v":" "},null,{"$f":"IF(Q20=0,\" \",IF(OR(Q20<1,Q20>350),\" \",LOOKUP(Q20,waarden!$D$4:$D$353,waarden!$E$4:$E$353)))","v":" "},null,{"$f":"IF(S20=0,\" \",IF(OR(S20<1,S20>350),\" \",LOOKUP(S20,waarden!$D$4:$D$353,waarden!$E$4:$E$353)))","v":" "},null,{"$f":"IF(U20=0,\" \",IF(OR(U20<1,U20>350),\" \",LOOKUP(U20,waarden!$D$4:$D$353,waarden!$E$4:$E$353)))","v":" "},null,{"$f":"IF(W20=0,\" \",IF(OR(W20<1,W20>350),\" \",LOOKUP(W20,waarden!$D$4:$D$353,waarden!$E$4:$E$353)))","v":" "},null,{"$f":"IF(Y20=0,\" \",IF(OR(Y20<1,Y20>350),\" \",LOOKUP(Y20,waarden!$D$4:$D$353,waarden!$E$4:$E$353)))","v":" "},null,{"$f":"IF(AA20=0,\" \",IF(OR(AA20<1,AA20>350),\" \",LOOKUP(AA20,waarden!$D$4:$D$353,waarden!$E$4:$E$353)))","v":" "},null,{"$f":"IF(AC20=0,\" \",IF(OR(AC20<1,AC20>350),\" \",LOOKUP(AC20,waarden!$D$4:$D$353,waarden!$E$4:$E$353)))","v":" "},null,{"$f":"IF(AE20=0,\" \",IF(OR(AE20<1,AE20>350),\" \",LOOKUP(AE20,waarden!$D$4:$D$353,waarden!$E$4:$E$353)))","v":" "},null,{"$f":"IF(AG20=0,\" \",IF(OR(AG20<1,AG20>350),\" \",LOOKUP(AG20,waarden!$D$4:$D$353,waarden!$E$4:$E$353)))","v":" "},null,{"$f":"IF(AI20=0,\" \",IF(OR(AI20<1,AI20>350),\" \",LOOKUP(AI20,waarden!$D$4:$D$353,waarden!$E$4:$E$353)))","v":" "},null,{"$f":"IF(AK20=0,\" \",IF(OR(AK20<1,AK20>350),\" \",LOOKUP(AK20,waarden!$D$4:$D$353,waarden!$E$4:$E$353)))","v":" "},null,{"$f":"IF(AM20=0,\" \",IF(OR(AM20<1,AM20>350),\" \",LOOKUP(AM20,waarden!$D$4:$D$353,waarden!$E$4:$E$353)))","v":" "},null,{"$f":"IF(AO20=0,\" \",IF(OR(AO20<1,AO20>350),\" \",LOOKUP(AO20,waarden!$D$4:$D$353,waarden!$E$4:$E$353)))","v":" "},null,{"$f":"IF(AQ20=0,\" \",IF(OR(AQ20<1,AQ20>350),\" \",LOOKUP(AQ20,waarden!$D$4:$D$353,waarden!$E$4:$E$353)))","v":" "},null,{"$f":"IF(AS20=0,\" \",IF(OR(AS20<1,AS20>350),\" \",LOOKUP(AS20,waarden!$D$4:$D$353,waarden!$E$4:$E$353)))","v":" "},null,{"$f":"IF(AU20=0,\" \",IF(OR(AU20<1,AU20>350),\" \",LOOKUP(AU20,waarden!$D$4:$D$353,waarden!$E$4:$E$353)))","v":" "},null,{"$f":"IF(AW20=0,\" \",IF(OR(AW20<1,AW20>350),\" \",LOOKUP(AW20,waarden!$D$4:$D$353,waarden!$E$4:$E$353)))","v":" "},null,{"$f":"IF(AY20=0,\" \",IF(OR(AY20<1,AY20>350),\" \",LOOKUP(AY20,waarden!$D$4:$D$353,waarden!$E$4:$E$353)))","v":" "},null,{"$f":"IF(BA20=0,\" \",IF(OR(BA20<1,BA20>350),\" \",LOOKUP(BA20,waarden!$D$4:$D$353,waarden!$E$4:$E$353)))","v":" "},null,{"$f":"IF(BC20=0,\" \",IF(OR(BC20<1,BC20>350),\" \",LOOKUP(BC20,waarden!$D$4:$D$353,waarden!$E$4:$E$353)))","v":" "},null,{"$f":"IF(BE20=0,\" \",IF(OR(BE20<1,BE20>350),\" \",LOOKUP(BE20,waarden!$D$4:$D$353,waarden!$E$4:$E$353)))","v":" "},null,{"$f":"IF(BG20=0,\" \",IF(OR(BG20<1,BG20>350),\" \",LOOKUP(BG20,waarden!$D$4:$D$353,waarden!$E$4:$E$353)))","v":" "},null,{"$f":"IF(BI20=0,\" \",IF(OR(BI20<1,BI20>350),\" \",LOOKUP(BI20,waarden!$D$4:$D$353,waarden!$E$4:$E$353)))","v":" "},null,{"$f":"IF(BK20=0,\" \",IF(OR(BK20<1,BK20>350),\" \",LOOKUP(BK20,waarden!$D$4:$D$353,waarden!$E$4:$E$353)))","v":" "},null,{"$f":"IF(BM20=0,\" \",IF(OR(BM20<1,BM20>350),\" \",LOOKUP(BM20,waarden!$D$4:$D$353,waarden!$E$4:$E$353)))","v":" "},0,0]
[null,null,null,"Passagier",null,{"$f":"IF(E21=0,\" \",IF(OR(E21<1,E21>350),\" \",LOOKUP(E21,waarden!$A$4:$A$353,waarden!$B$4:$B$353)))","v":" "},null,{"$f":"IF(G21=0,\" \",IF(OR(G21<1,G21>350),\" \",LOOKUP(G21,waarden!$A$4:$A$353,waarden!$B$4:$B$353)))","v":" "},null,{"$f":"IF(I21=0,\" \",IF(OR(I21<1,I21>350),\" \",LOOKUP(I21,waarden!$A$4:$A$353,waarden!$B$4:$B$353)))","v":" "},null,{"$f":"IF(K21=0,\" \",IF(OR(K21<1,K21>350),\" \",LOOKUP(K21,waarden!$A$4:$A$353,waarden!$B$4:$B$353)))","v":" "},null,{"$f":"IF(M21=0,\" \",IF(OR(M21<1,M21>350),\" \",LOOKUP(M21,waarden!$A$4:$A$353,waarden!$B$4:$B$353)))","v":" "},null,{"$f":"IF(O21=0,\" \",IF(OR(O21<1,O21>350),\" \",LOOKUP(O21,waarden!$A$4:$A$353,waarden!$B$4:$B$353)))","v":" "},null,{"$f":"IF(Q21=0,\" \",IF(OR(Q21<1,Q21>350),\" \",LOOKUP(Q21,waarden!$A$4:$A$353,waarden!$B$4:$B$353)))","v":" "},null,{"$f":"IF(S21=0,\" \",IF(OR(S21<1,S21>350),\" \",LOOKUP(S21,waarden!$A$4:$A$353,waarden!$B$4:$B$353)))","v":" "},null,{"$f":"IF(U21=0,\" \",IF(OR(U21<1,U21>350),\" \",LOOKUP(U21,waarden!$A$4:$A$353,waarden!$B$4:$B$353)))","v":" "},null,{"$f":"IF(W21=0,\" \",IF(OR(W21<1,W21>350),\" \",LOOKUP(W21,waarden!$A$4:$A$353,waarden!$B$4:$B$353)))","v":" "},null,{"$f":"IF(Y21=0,\" \",IF(OR(Y21<1,Y21>350),\" \",LOOKUP(Y21,waarden!$A$4:$A$353,waarden!$B$4:$B$353)))","v":" "},null,{"$f":"IF(AA21=0,\" \",IF(OR(AA21<1,AA21>350),\" \",LOOKUP(AA21,waarden!$A$4:$A$353,waarden!$B$4:$B$353)))","v":" "},null,{"$f":"IF(AC21=0,\" \",IF(OR(AC21<1,AC21>350),\" \",LOOKUP(AC21,waarden!$A$4:$A$353,waarden!$B$4:$B$353)))","v":" "},null,{"$f":"IF(AE21=0,\" \",IF(OR(AE21<1,AE21>350),\" \",LOOKUP(AE21,waarden!$A$4:$A$353,waarden!$B$4:$B$353)))","v":" "},null,{"$f":"IF(AG21=0,\" \",IF(OR(AG21<1,AG21>350),\" \",LOOKUP(AG21,waarden!$A$4:$A$353,waarden!$B$4:$B$353)))","v":" "},null,{"$f":"IF(AI21=0,\" \",IF(OR(AI21<1,AI21>350),\" \",LOOKUP(AI21,waarden!$A$4:$A$353,waarden!$B$4:$B$353)))","v":" "},null,{"$f":"IF(AK21=0,\" \",IF(OR(AK21<1,AK21>350),\" \",LOOKUP(AK21,waarden!$A$4:$A$353,waarden!$B$4:$B$353)))","v":" "},null,{"$f":"IF(AM21=0,\" \",IF(OR(AM21<1,AM21>350),\" \",LOOKUP(AM21,waarden!$A$4:$A$353,waarden!$B$4:$B$353)))","v":" "},null,{"$f":"IF(AO21=0,\" \",IF(OR(AO21<1,AO21>350),\" \",LOOKUP(AO21,waarden!$A$4:$A$353,waarden!$B$4:$B$353)))","v":" "},null,{"$f":"IF(AQ21=0,\" \",IF(OR(AQ21<1,AQ21>350),\" \",LOOKUP(AQ21,waarden!$A$4:$A$353,waarden!$B$4:$B$353)))","v":" "},null,{"$f":"IF(AS21=0,\" \",IF(OR(AS21<1,AS21>350),\" \",LOOKUP(AS21,waarden!$A$4:$A$353,waarden!$B$4:$B$353)))","v":" "},null,{"$f":"IF(AU21=0,\" \",IF(OR(AU21<1,AU21>350),\" \",LOOKUP(AU21,waarden!$A$4:$A$353,waarden!$B$4:$B$353)))","v":" "},null,{"$f":"IF(AW21=0,\" \",IF(OR(AW21<1,AW21>350),\" \",LOOKUP(AW21,waarden!$A$4:$A$353,waarden!$B$4:$B$353)))","v":" "},null,{"$f":"IF(AY21=0,\" \",IF(OR(AY21<1,AY21>350),\" \",LOOKUP(AY21,waarden!$A$4:$A$353,waarden!$B$4:$B$353)))","v":" "},null,{"$f":"IF(BA21=0,\" \",IF(OR(BA21<1,BA21>350),\" \",LOOKUP(BA21,waarden!$A$4:$A$353,waarden!$B$4:$B$353)))","v":" "},null,{"$f":"IF(BC21=0,\" \",IF(OR(BC21<1,BC21>350),\" \",LOOKUP(BC21,waarden!$A$4:$A$353,waarden!$B$4:$B$353)))","v":" "},null,{"$f":"IF(BE21=0,\" \",IF(OR(BE21<1,BE21>350),\" \",LOOKUP(BE21,waarden!$A$4:$A$353,waarden!$B$4:$B$353)))","v":" "},null,{"$f":"IF(BG21=0,\" \",IF(OR(BG21<1,BG21>350),\" \",LOOKUP(BG21,waarden!$A$4:$A$353,waarden!$B$4:$B$353)))","v":" "},null,{"$f":"IF(BI21=0,\" \",IF(OR(BI21<1,BI21>350),\" \",LOOKUP(BI21,waarden!$A$4:$A$353,waarden!$B$4:$B$353)))","v":" "},null,{"$f":"IF(BK21=0,\" \",IF(OR(BK21<1,BK21>350),\" \",LOOKUP(BK21,waarden!$A$4:$A$353,waarden!$B$4:$B$353)))","v":" "},null,{"$f":"IF(BM21=0,\" \",IF(OR(BM21<1,BM21>350),\" \",LOOKUP(BM21,waarden!$A$4:$A$353,waarden!$B$4:$B$353)))","v":" "},0,0]
[null,null,null,"Chauffeur personeel",null,{"$f":"IF(E22=0,\" \",IF(OR(E22<1,E22>350),\" \",LOOKUP(E22,waarden!$G$4:$G$353,waarden!$H$4:$H$353)))","v":" "},null,{"$f":"IF(G22=0,\" \",IF(OR(G22<1,G22>350),\" \",LOOKUP(G22,waarden!$G$4:$G$353,waarden!$H$4:$H$353)))","v":" "},null,{"$f":"IF(I22=0,\" \",IF(OR(I22<1,I22>350),\" \",LOOKUP(I22,waarden!$G$4:$G$353,waarden!$H$4:$H$353)))","v":" "},null,{"$f":"IF(K22=0,\" \",IF(OR(K22<1,K22>350),\" \",LOOKUP(K22,waarden!$G$4:$G$353,waarden!$H$4:$H$353)))","v":" "},null,{"$f":"IF(M22=0,\" \",IF(OR(M22<1,M22>350),\" \",LOOKUP(M22,waarden!$G$4:$G$353,waarden!$H$4:$H$353)))","v":" "},null,{"$f":"IF(O22=0,\" \",IF(OR(O22<1,O22>350),\" \",LOOKUP(O22,waarden!$G$4:$G$353,waarden!$H$4:$H$353)))","v":" "},null,{"$f":"IF(Q22=0,\" \",IF(OR(Q22<1,Q22>350),\" \",LOOKUP(Q22,waarden!$G$4:$G$353,waarden!$H$4:$H$353)))","v":" "},null,{"$f":"IF(S22=0,\" \",IF(OR(S22<1,S22>350),\" \",LOOKUP(S22,waarden!$G$4:$G$353,waarden!$H$4:$H$353)))","v":" "},null,{"$f":"IF(U22=0,\" \",IF(OR(U22<1,U22>350),\" \",LOOKUP(U22,waarden!$G$4:$G$353,waarden!$H$4:$H$353)))","v":" "},null,{"$f":"IF(W22=0,\" \",IF(OR(W22<1,W22>350),\" \",LOOKUP(W22,waarden!$G$4:$G$353,waarden!$H$4:$H$353)))","v":" "},null,{"$f":"IF(Y22=0,\" \",IF(OR(Y22<1,Y22>350),\" \",LOOKUP(Y22,waarden!$G$4:$G$353,waarden!$H$4:$H$353)))","v":" "},null,{"$f":"IF(AA22=0,\" \",IF(OR(AA22<1,AA22>350),\" \",LOOKUP(AA22,waarden!$G$4:$G$353,waarden!$H$4:$H$353)))","v":" "},null,{"$f":"IF(AC22=0,\" \",IF(OR(AC22<1,AC22>350),\" \",LOOKUP(AC22,waarden!$G$4:$G$353,waarden!$H$4:$H$353)))","v":" "},null,{"$f":"IF(AE22=0,\" \",IF(OR(AE22<1,AE22>350),\" \",LOOKUP(AE22,waarden!$G$4:$G$353,waarden!$H$4:$H$353)))","v":" "},null,{"$f":"IF(AG22=0,\" \",IF(OR(AG22<1,AG22>350),\" \",LOOKUP(AG22,waarden!$G$4:$G$353,waarden!$H$4:$H$353)))","v":" "},null,{"$f":"IF(AI22=0,\" \",IF(OR(AI22<1,AI22>350),\" \",LOOKUP(AI22,waarden!$G$4:$G$353,waarden!$H$4:$H$353)))","v":" "},null,{"$f":"IF(AK22=0,\" \",IF(OR(AK22<1,AK22>350),\" \",LOOKUP(AK22,waarden!$G$4:$G$353,waarden!$H$4:$H$353)))","v":" "},null,{"$f":"IF(AM22=0,\" \",IF(OR(AM22<1,AM22>350),\" \",LOOKUP(AM22,waarden!$G$4:$G$353,waarden!$H$4:$H$353)))","v":" "},null,{"$f":"IF(AO22=0,\" \",IF(OR(AO22<1,AO22>350),\" \",LOOKUP(AO22,waarden!$G$4:$G$353,waarden!$H$4:$H$353)))","v":" "},null,{"$f":"IF(AQ22=0,\" \",IF(OR(AQ22<1,AQ22>350),\" \",LOOKUP(AQ22,waarden!$G$4:$G$353,waarden!$H$4:$H$353)))","v":" "},null,{"$f":"IF(AS22=0,\" \",IF(OR(AS22<1,AS22>350),\" \",LOOKUP(AS22,waarden!$G$4:$G$353,waarden!$H$4:$H$353)))","v":" "},null,{"$f":"IF(AU22=0,\" \",IF(OR(AU22<1,AU22>350),\" \",LOOKUP(AU22,waarden!$G$4:$G$353,waarden!$H$4:$H$353)))","v":" "},null,{"$f":"IF(AW22=0,\" \",IF(OR(AW22<1,AW22>350),\" \",LOOKUP(AW22,waarden!$G$4:$G$353,waarden!$H$4:$H$353)))","v":" "},null,{"$f":"IF(AY22=0,\" \",IF(OR(AY22<1,AY22>350),\" \",LOOKUP(AY22,waarden!$G$4:$G$353,waarden!$H$4:$H$353)))","v":" "},null,{"$f":"IF(BA22=0,\" \",IF(OR(BA22<1,BA22>350),\" \",LOOKUP(BA22,waarden!$G$4:$G$353,waarden!$H$4:$H$353)))","v":" "},null,{"$f":"IF(BC22=0,\" \",IF(OR(BC22<1,BC22>350),\" \",LOOKUP(BC22,waarden!$G$4:$G$353,waarden!$H$4:$H$353)))","v":" "},null,{"$f":"IF(BE22=0,\" \",IF(OR(BE22<1,BE22>350),\" \",LOOKUP(BE22,waarden!$G$4:$G$353,waarden!$H$4:$H$353)))","v":" "},null,{"$f":"IF(BG22=0,\" \",IF(OR(BG22<1,BG22>350),\" \",LOOKUP(BG22,waarden!$G$4:$G$353,waarden!$H$4:$H$353)))","v":" "},null,{"$f":"IF(BI22=0,\" \",IF(OR(BI22<1,BI22>350),\" \",LOOKUP(BI22,waarden!$G$4:$G$353,waarden!$H$4:$H$353)))","v":" "},null,{"$f":"IF(BK22=0,\" \",IF(OR(BK22<1,BK22>350),\" \",LOOKUP(BK22,waarden!$G$4:$G$353,waarden!$H$4:$H$353)))","v":" "},null,{"$f":"IF(BM22=0,\" \",IF(OR(BM22<1,BM22>350),\" \",LOOKUP(BM22,waarden!$G$4:$G$353,waarden!$H$4:$H$353)))","v":" "},{"$f":"SUM(E22,G22,I22,K22,M22,O22,Q22,S22,U22,W22,Y22,AA22,AC22,AE22,AG22,AI22,AK22,AM22,AO22,AQ22,AS22,AU22,AW22,AY22,BA22,BC22,BE22,BG22,BI22,BK22,BM22)","v":0},{"$f":"SUM(F22,H22,J22,L22,N22,P22,R22,T22,V22,X22,Z22,AB22,AD22,AF22,AH22,AJ22,AL22,AN22,AP22,AR22,AT22,AV22,AX22,AZ22,BB22,BD22,BF22,BH22,BJ22,BL22,BN22)","v":0}]
[null,null,null,"Chauffeur alleen",null,{"$f":"IF(E23=0,\" \",IF(OR(E23<1,E23>350),\" \",LOOKUP(E23,waarden!$D$4:$D$353,waarden!$E$4:$E$353)))","v":" "},null,{"$f":"IF(G23=0,\" \",IF(OR(G23<1,G23>350),\" \",LOOKUP(G23,waarden!$D$4:$D$353,waarden!$E$4:$E$353)))","v":" "},null,{"$f":"IF(I23=0,\" \",IF(OR(I23<1,I23>350),\" \",LOOKUP(I23,waarden!$D$4:$D$353,waarden!$E$4:$E$353)))","v":" "},null,{"$f":"IF(K23=0,\" \",IF(OR(K23<1,K23>350),\" \",LOOKUP(K23,waarden!$D$4:$D$353,waarden!$E$4:$E$353)))","v":" "},null,{"$f":"IF(M23=0,\" \",IF(OR(M23<1,M23>350),\" \",LOOKUP(M23,waarden!$D$4:$D$353,waarden!$E$4:$E$353)))","v":" "},null,{"$f":"IF(O23=0,\" \",IF(OR(O23<1,O23>350),\" \",LOOKUP(O23,waarden!$D$4:$D$353,waarden!$E$4:$E$353)))","v":" "},null,{"$f":"IF(Q23=0,\" \",IF(OR(Q23<1,Q23>350),\" \",LOOKUP(Q23,waarden!$D$4:$D$353,waarden!$E$4:$E$353)))","v":" "},null,{"$f":"IF(S23=0,\" \",IF(OR(S23<1,S23>350),\" \",LOOKUP(S23,waarden!$D$4:$D$353,waarden!$E$4:$E$353)))","v":" "},null,{"$f":"IF(U23=0,\" \",IF(OR(U23<1,U23>350),\" \",LOOKUP(U23,waarden!$D$4:$D$353,waarden!$E$4:$E$353)))","v":" "},null,{"$f":"IF(W23=0,\" \",IF(OR(W23<1,W23>350),\" \",LOOKUP(W23,waarden!$D$4:$D$353,waarden!$E$4:$E$353)))","v":" "},null,{"$f":"IF(Y23=0,\" \",IF(OR(Y23<1,Y23>350),\" \",LOOKUP(Y23,waarden!$D$4:$D$353,waarden!$E$4:$E$353)))","v":" "},null,{"$f":"IF(AA23=0,\" \",IF(OR(AA23<1,AA23>350),\" \",LOOKUP(AA23,waarden!$D$4:$D$353,waarden!$E$4:$E$353)))","v":" "},null,{"$f":"IF(AC23=0,\" \",IF(OR(AC23<1,AC23>350),\" \",LOOKUP(AC23,waarden!$D$4:$D$353,waarden!$E$4:$E$353)))","v":" "},null,{"$f":"IF(AE23=0,\" \",IF(OR(AE23<1,AE23>350),\" \",LOOKUP(AE23,waarden!$D$4:$D$353,waarden!$E$4:$E$353)))","v":" "},null,{"$f":"IF(AG23=0,\" \",IF(OR(AG23<1,AG23>350),\" \",LOOKUP(AG23,waarden!$D$4:$D$353,waarden!$E$4:$E$353)))","v":" "},null,{"$f":"IF(AI23=0,\" \",IF(OR(AI23<1,AI23>350),\" \",LOOKUP(AI23,waarden!$D$4:$D$353,waarden!$E$4:$E$353)))","v":" "},null,{"$f":"IF(AK23=0,\" \",IF(OR(AK23<1,AK23>350),\" \",LOOKUP(AK23,waarden!$D$4:$D$353,waarden!$E$4:$E$353)))","v":" "},null,{"$f":"IF(AM23=0,\" \",IF(OR(AM23<1,AM23>350),\" \",LOOKUP(AM23,waarden!$D$4:$D$353,waarden!$E$4:$E$353)))","v":" "},null,{"$f":"IF(AO23=0,\" \",IF(OR(AO23<1,AO23>350),\" \",LOOKUP(AO23,waarden!$D$4:$D$353,waarden!$E$4:$E$353)))","v":" "},null,{"$f":"IF(AQ23=0,\" \",IF(OR(AQ23<1,AQ23>350),\" \",LOOKUP(AQ23,waarden!$D$4:$D$353,waarden!$E$4:$E$353)))","v":" "},null,{"$f":"IF(AS23=0,\" \",IF(OR(AS23<1,AS23>350),\" \",LOOKUP(AS23,waarden!$D$4:$D$353,waarden!$E$4:$E$353)))","v":" "},null,{"$f":"IF(AU23=0,\" \",IF(OR(AU23<1,AU23>350),\" \",LOOKUP(AU23,waarden!$D$4:$D$353,waarden!$E$4:$E$353)))","v":" "},null,{"$f":"IF(AW23=0,\" \",IF(OR(AW23<1,AW23>350),\" \",LOOKUP(AW23,waarden!$D$4:$D$353,waarden!$E$4:$E$353)))","v":" "},null,{"$f":"IF(AY23=0,\" \",IF(OR(AY23<1,AY23>350),\" \",LOOKUP(AY23,waarden!$D$4:$D$353,waarden!$E$4:$E$353)))","v":" "},null,{"$f":"IF(BA23=0,\" \",IF(OR(BA23<1,BA23>350),\" \",LOOKUP(BA23,waarden!$D$4:$D$353,waarden!$E$4:$E$353)))","v":" "},null,{"$f":"IF(BC23=0,\" \",IF(OR(BC23<1,BC23>350),\" \",LOOKUP(BC23,waarden!$D$4:$D$353,waarden!$E$4:$E$353)))","v":" "},null,{"$f":"IF(BE23=0,\" \",IF(OR(BE23<1,BE23>350),\" \",LOOKUP(BE23,waarden!$D$4:$D$353,waarden!$E$4:$E$353)))","v":" "},null,{"$f":"IF(BG23=0,\" \",IF(OR(BG23<1,BG23>350),\" \",LOOKUP(BG23,waarden!$D$4:$D$353,waarden!$E$4:$E$353)))","v":" "},null,{"$f":"IF(BI23=0,\" \",IF(OR(BI23<1,BI23>350),\" \",LOOKUP(BI23,waarden!$D$4:$D$353,waarden!$E$4:$E$353)))","v":" "},null,{"$f":"IF(BK23=0,\" \",IF(OR(BK23<1,BK23>350),\" \",LOOKUP(BK23,waarden!$D$4:$D$353,waarden!$E$4:$E$353)))","v":" "},null,{"$f":"IF(BM23=0,\" \",IF(OR(BM23<1,BM23>350),\" \",LOOKUP(BM23,waarden!$D$4:$D$353,waarden!$E$4:$E$353)))","v":" "},0,0]
[null,null,null,"Passagier",null,{"$f":"IF(E24=0,\" \",IF(OR(E24<1,E24>350),\" \",LOOKUP(E24,waarden!$A$4:$A$353,waarden!$B$4:$B$353)))","v":" "},null,{"$f":"IF(G24=0,\" \",IF(OR(G24<1,G24>350),\" \",LOOKUP(G24,waarden!$A$4:$A$353,waarden!$B$4:$B$353)))","v":" "},null,{"$f":"IF(I24=0,\" \",IF(OR(I24<1,I24>350),\" \",LOOKUP(I24,waarden!$A$4:$A$353,waarden!$B$4:$B$353)))","v":" "},null,{"$f":"IF(K24=0,\" \",IF(OR(K24<1,K24>350),\" \",LOOKUP(K24,waarden!$A$4:$A$353,waarden!$B$4:$B$353)))","v":" "},null,{"$f":"IF(M24=0,\" \",IF(OR(M24<1,M24>350),\" \",LOOKUP(M24,waarden!$A$4:$A$353,waarden!$B$4:$B$353)))","v":" "},null,{"$f":"IF(O24=0,\" \",IF(OR(O24<1,O24>350),\" \",LOOKUP(O24,waarden!$A$4:$A$353,waarden!$B$4:$B$353)))","v":" "},null,{"$f":"IF(Q24=0,\" \",IF(OR(Q24<1,Q24>350),\" \",LOOKUP(Q24,waarden!$A$4:$A$353,waarden!$B$4:$B$353)))","v":" "},null,{"$f":"IF(S24=0,\" \",IF(OR(S24<1,S24>350),\" \",LOOKUP(S24,waarden!$A$4:$A$353,waarden!$B$4:$B$353)))","v":" "},null,{"$f":"IF(U24=0,\" \",IF(OR(U24<1,U24>350),\" \",LOOKUP(U24,waarden!$A$4:$A$353,waarden!$B$4:$B$353)))","v":" "},null,{"$f":"IF(W24=0,\" \",IF(OR(W24<1,W24>350),\" \",LOOKUP(W24,waarden!$A$4:$A$353,waarden!$B$4:$B$353)))","v":" "},null,{"$f":"IF(Y24=0,\" \",IF(OR(Y24<1,Y24>350),\" \",LOOKUP(Y24,waarden!$A$4:$A$353,waarden!$B$4:$B$353)))","v":" "},null,{"$f":"IF(AA24=0,\" \",IF(OR(AA24<1,AA24>350),\" \",LOOKUP(AA24,waarden!$A$4:$A$353,waarden!$B$4:$B$353)))","v":" "},null,{"$f":"IF(AC24=0,\" \",IF(OR(AC24<1,AC24>350),\" \",LOOKUP(AC24,waarden!$A$4:$A$353,waarden!$B$4:$B$353)))","v":" "},null,{"$f":"IF(AE24=0,\" \",IF(OR(AE24<1,AE24>350),\" \",LOOKUP(AE24,waarden!$A$4:$A$353,waarden!$B$4:$B$353)))","v":" "},null,{"$f":"IF(AG24=0,\" \",IF(OR(AG24<1,AG24>350),\" \",LOOKUP(AG24,waarden!$A$4:$A$353,waarden!$B$4:$B$353)))","v":" "},null,{"$f":"IF(AI24=0,\" \",IF(OR(AI24<1,AI24>350),\" \",LOOKUP(AI24,waarden!$A$4:$A$353,waarden!$B$4:$B$353)))","v":" "},null,{"$f":"IF(AK24=0,\" \",IF(OR(AK24<1,AK24>350),\" \",LOOKUP(AK24,waarden!$A$4:$A$353,waarden!$B$4:$B$353)))","v":" "},null,{"$f":"IF(AM24=0,\" \",IF(OR(AM24<1,AM24>350),\" \",LOOKUP(AM24,waarden!$A$4:$A$353,waarden!$B$4:$B$353)))","v":" "},null,{"$f":"IF(AO24=0,\" \",IF(OR(AO24<1,AO24>350),\" \",LOOKUP(AO24,waarden!$A$4:$A$353,waarden!$B$4:$B$353)))","v":" "},null,{"$f":"IF(AQ24=0,\" \",IF(OR(AQ24<1,AQ24>350),\" \",LOOKUP(AQ24,waarden!$A$4:$A$353,waarden!$B$4:$B$353)))","v":" "},null,{"$f":"IF(AS24=0,\" \",IF(OR(AS24<1,AS24>350),\" \",LOOKUP(AS24,waarden!$A$4:$A$353,waarden!$B$4:$B$353)))","v":" "},null,{"$f":"IF(AU24=0,\" \",IF(OR(AU24<1,AU24>350),\" \",LOOKUP(AU24,waarden!$A$4:$A$353,waarden!$B$4:$B$353)))","v":" "},null,{"$f":"IF(AW24=0,\" \",IF(OR(AW24<1,AW24>350),\" \",LOOKUP(AW24,waarden!$A$4:$A$353,waarden!$B$4:$B$353)))","v":" "},null,{"$f":"IF(AY24=0,\" \",IF(OR(AY24<1,AY24>350),\" \",LOOKUP(AY24,waarden!$A$4:$A$353,waarden!$B$4:$B$353)))","v":" "},null,{"$f":"IF(BA24=0,\" \",IF(OR(BA24<1,BA24>350),\" \",LOOKUP(BA24,waarden!$A$4:$A$353,waarden!$B$4:$B$353)))","v":" "},null,{"$f":"IF(BC24=0,\" \",IF(OR(BC24<1,BC24>350),\" \",LOOKUP(BC24,waarden!$A$4:$A$353,waarden!$B$4:$B$353)))","v":" "},null,{"$f":"IF(BE24=0,\" \",IF(OR(BE24<1,BE24>350),\" \",LOOKUP(BE24,waarden!$A$4:$A$353,waarden!$B$4:$B$353)))","v":" "},null,{"$f":"IF(BG24=0,\" \",IF(OR(BG24<1,BG24>350),\" \",LOOKUP(BG24,waarden!$A$4:$A$353,waarden!$B$4:$B$353)))","v":" "},null,{"$f":"IF(BI24=0,\" \",IF(OR(BI24<1,BI24>350),\" \",LOOKUP(BI24,waarden!$A$4:$A$353,waarden!$B$4:$B$353)))","v":" "},null,{"$f":"IF(BK24=0,\" \",IF(OR(BK24<1,BK24>350),\" \",LOOKUP(BK24,waarden!$A$4:$A$353,waarden!$B$4:$B$353)))","v":" "},null,{"$f":"IF(BM24=0,\" \",IF(OR(BM24<1,BM24>350),\" \",LOOKUP(BM24,waarden!$A$4:$A$353,waarden!$B$4:$B$353)))","v":" "},0,0]
[null,null,null,"Chauffeur personeel",null,{"$f":"IF(E25=0,\" \",IF(OR(E25<1,E25>350),\" \",LOOKUP(E25,waarden!$G$4:$G$353,waarden!$H$4:$H$353)))","v":" "},null,{"$f":"IF(G25=0,\" \",IF(OR(G25<1,G25>350),\" \",LOOKUP(G25,waarden!$G$4:$G$353,waarden!$H$4:$H$353)))","v":" "},null,{"$f":"IF(I25=0,\" \",IF(OR(I25<1,I25>350),\" \",LOOKUP(I25,waarden!$G$4:$G$353,waarden!$H$4:$H$353)))","v":" "},null,{"$f":"IF(K25=0,\" \",IF(OR(K25<1,K25>350),\" \",LOOKUP(K25,waarden!$G$4:$G$353,waarden!$H$4:$H$353)))","v":" "},null,{"$f":"IF(M25=0,\" \",IF(OR(M25<1,M25>350),\" \",LOOKUP(M25,waarden!$G$4:$G$353,waarden!$H$4:$H$353)))","v":" "},null,{"$f":"IF(O25=0,\" \",IF(OR(O25<1,O25>350),\" \",LOOKUP(O25,waarden!$G$4:$G$353,waarden!$H$4:$H$353)))","v":" "},null,{"$f":"IF(Q25=0,\" \",IF(OR(Q25<1,Q25>350),\" \",LOOKUP(Q25,waarden!$G$4:$G$353,waarden!$H$4:$H$353)))","v":" "},null,{"$f":"IF(S25=0,\" \",IF(OR(S25<1,S25>350),\" \",LOOKUP(S25,waarden!$G$4:$G$353,waarden!$H$4:$H$353)))","v":" "},null,{"$f":"IF(U25=0,\" \",IF(OR(U25<1,U25>350),\" \",LOOKUP(U25,waarden!$G$4:$G$353,waarden!$H$4:$H$353)))","v":" "},null,{"$f":"IF(W25=0,\" \",IF(OR(W25<1,W25>350),\" \",LOOKUP(W25,waarden!$G$4:$G$353,waarden!$H$4:$H$353)))","v":" "},null,{"$f":"IF(Y25=0,\" \",IF(OR(Y25<1,Y25>350),\" \",LOOKUP(Y25,waarden!$G$4:$G$353,waarden!$H$4:$H$353)))","v":" "},null,{"$f":"IF(AA25=0,\" \",IF(OR(AA25<1,AA25>350),\" \",LOOKUP(AA25,waarden!$G$4:$G$353,waarden!$H$4:$H$353)))","v":" "},null,{"$f":"IF(AC25=0,\" \",IF(OR(AC25<1,AC25>350),\" \",LOOKUP(AC25,waarden!$G$4:$G$353,waarden!$H$4:$H$353)))","v":" "},null,{"$f":"IF(AE25=0,\" \",IF(OR(AE25<1,AE25>350),\" \",LOOKUP(AE25,waarden!$G$4:$G$353,waarden!$H$4:$H$353)))","v":" "},null,{"$f":"IF(AG25=0,\" \",IF(OR(AG25<1,AG25>350),\" \",LOOKUP(AG25,waarden!$G$4:$G$353,waarden!$H$4:$H$353)))","v":" "},null,{"$f":"IF(AI25=0,\" \",IF(OR(AI25<1,AI25>350),\" \",LOOKUP(AI25,waarden!$G$4:$G$353,waarden!$H$4:$H$353)))","v":" "},null,{"$f":"IF(AK25=0,\" \",IF(OR(AK25<1,AK25>350),\" \",LOOKUP(AK25,waarden!$G$4:$G$353,waarden!$H$4:$H$353)))","v":" "},null,{"$f":"IF(AM25=0,\" \",IF(OR(AM25<1,AM25>350),\" \",LOOKUP(AM25,waarden!$G$4:$G$353,waarden!$H$4:$H$353)))","v":" "},null,{"$f":"IF(AO25=0,\" \",IF(OR(AO25<1,AO25>350),\" \",LOOKUP(AO25,waarden!$G$4:$G$353,waarden!$H$4:$H$353)))","v":" "},null,{"$f":"IF(AQ25=0,\" \",IF(OR(AQ25<1,AQ25>350),\" \",LOOKUP(AQ25,waarden!$G$4:$G$353,waarden!$H$4:$H$353)))","v":" "},null,{"$f":"IF(AS25=0,\" \",IF(OR(AS25<1,AS25>350),\" \",LOOKUP(AS25,waarden!$G$4:$G$353,waarden!$H$4:$H$353)))","v":" "},null,{"$f":"IF(AU25=0,\" \",IF(OR(AU25<1,AU25>350),\" \",LOOKUP(AU25,waarden!$G$4:$G$353,waarden!$H$4:$H$353)))","v":" "},null,{"$f":"IF(AW25=0,\" \",IF(OR(AW25<1,AW25>350),\" \",LOOKUP(AW25,waarden!$G$4:$G$353,waarden!$H$4:$H$353)))","v":" "},null,{"$f":"IF(AY25=0,\" \",IF(OR(AY25<1,AY25>350),\" \",LOOKUP(AY25,waarden!$G$4:$G$353,waarden!$H$4:$H$353)))","v":" "},null,{"$f":"IF(BA25=0,\" \",IF(OR(BA25<1,BA25>350),\" \",LOOKUP(BA25,waarden!$G$4:$G$353,waarden!$H$4:$H$353)))","v":" "},null,{"$f":"IF(BC25=0,\" \",IF(OR(BC25<1,BC25>350),\" \",LOOKUP(BC25,waarden!$G$4:$G$353,waarden!$H$4:$H$353)))","v":" "},null,{"$f":"IF(BE25=0,\" \",IF(OR(BE25<1,BE25>350),\" \",LOOKUP(BE25,waarden!$G$4:$G$353,waarden!$H$4:$H$353)))","v":" "},null,{"$f":"IF(BG25=0,\" \",IF(OR(BG25<1,BG25>350),\" \",LOOKUP(BG25,waarden!$G$4:$G$353,waarden!$H$4:$H$353)))","v":" "},null,{"$f":"IF(BI25=0,\" \",IF(OR(BI25<1,BI25>350),\" \",LOOKUP(BI25,waarden!$G$4:$G$353,waarden!$H$4:$H$353)))","v":" "},null,{"$f":"IF(BK25=0,\" \",IF(OR(BK25<1,BK25>350),\" \",LOOKUP(BK25,waarden!$G$4:$G$353,waarden!$H$4:$H$353)))","v":" "},null,{"$f":"IF(BM25=0,\" \",IF(OR(BM25<1,BM25>350),\" \",LOOKUP(BM25,waarden!$G$4:$G$353,waarden!$H$4:$H$353)))","v":" "},{"$f":"SUM(E25,G25,I25,K25,M25,O25,Q25,S25,U25,W25,Y25,AA25,AC25,AE25,AG25,AI25,AK25,AM25,AO25,AQ25,AS25,AU25,AW25,AY25,BA25,BC25,BE25,BG25,BI25,BK25,BM25)","v":0},{"$f":"SUM(F25,H25,J25,L25,N25,P25,R25,T25,V25,X25,Z25,AB25,AD25,AF25,AH25,AJ25,AL25,AN25,AP25,AR25,AT25,AV25,AX25,AZ25,BB25,BD25,BF25,BH25,BJ25,BL25,BN25)","v":0}]
[null,null,null,"Chauffeur alleen",null,{"$f":"IF(E26=0,\" \",IF(OR(E26<1,E26>350),\" \",LOOKUP(E26,waarden!$D$4:$D$353,waarden!$E$4:$E$353)))","v":" "},null,{"$f":"IF(G26=0,\" \",IF(OR(G26<1,G26>350),\" \",LOOKUP(G26,waarden!$D$4:$D$353,waarden!$E$4:$E$353)))","v":" "},null,{"$f":"IF(I26=0,\" \",IF(OR(I26<1,I26>350),\" \",LOOKUP(I26,waarden!$D$4:$D$353,waarden!$E$4:$E$353)))","v":" "},null,{"$f":"IF(K26=0,\" \",IF(OR(K26<1,K26>350),\" \",LOOKUP(K26,waarden!$D$4:$D$353,waarden!$E$4:$E$353)))","v":" "},null,{"$f":"IF(M26=0,\" \",IF(OR(M26<1,M26>350),\" \",LOOKUP(M26,waarden!$D$4:$D$353,waarden!$E$4:$E$353)))","v":" "},null,{"$f":"IF(O26=0,\" \",IF(OR(O26<1,O26>350),\" \",LOOKUP(O26,waarden!$D$4:$D$353,waarden!$E$4:$E$353)))","v":" "},null,{"$f":"IF(Q26=0,\" \",IF(OR(Q26<1,Q26>350),\" \",LOOKUP(Q26,waarden!$D$4:$D$353,waarden!$E$4:$E$353)))","v":" "},null,{"$f":"IF(S26=0,\" \",IF(OR(S26<1,S26>350),\" \",LOOKUP(S26,waarden!$D$4:$D$353,waarden!$E$4:$E$353)))","v":" "},null,{"$f":"IF(U26=0,\" \",IF(OR(U26<1,U26>350),\" \",LOOKUP(U26,waarden!$D$4:$D$353,waarden!$E$4:$E$353)))","v":" "},null,{"$f":"IF(W26=0,\" \",IF(OR(W26<1,W26>350),\" \",LOOKUP(W26,waarden!$D$4:$D$353,waarden!$E$4:$E$353)))","v":" "},null,{"$f":"IF(Y26=0,\" \",IF(OR(Y26<1,Y26>350),\" \",LOOKUP(Y26,waarden!$D$4:$D$353,waarden!$E$4:$E$353)))","v":" "},null,{"$f":"IF(AA26=0,\" \",IF(OR(AA26<1,AA26>350),\" \",LOOKUP(AA26,waarden!$D$4:$D$353,waarden!$E$4:$E$353)))","v":" "},null,{"$f":"IF(AC26=0,\" \",IF(OR(AC26<1,AC26>350),\" \",LOOKUP(AC26,waarden!$D$4:$D$353,waarden!$E$4:$E$353)))","v":" "},null,{"$f":"IF(AE26=0,\" \",IF(OR(AE26<1,AE26>350),\" \",LOOKUP(AE26,waarden!$D$4:$D$353,waarden!$E$4:$E$353)))","v":" "},null,{"$f":"IF(AG26=0,\" \",IF(OR(AG26<1,AG26>350),\" \",LOOKUP(AG26,waarden!$D$4:$D$353,waarden!$E$4:$E$353)))","v":" "},null,{"$f":"IF(AI26=0,\" \",IF(OR(AI26<1,AI26>350),\" \",LOOKUP(AI26,waarden!$D$4:$D$353,waarden!$E$4:$E$353)))","v":" "},null,{"$f":"IF(AK26=0,\" \",IF(OR(AK26<1,AK26>350),\" \",LOOKUP(AK26,waarden!$D$4:$D$353,waarden!$E$4:$E$353)))","v":" "},null,{"$f":"IF(AM26=0,\" \",IF(OR(AM26<1,AM26>350),\" \",LOOKUP(AM26,waarden!$D$4:$D$353,waarden!$E$4:$E$353)))","v":" "},null,{"$f":"IF(AO26=0,\" \",IF(OR(AO26<1,AO26>350),\" \",LOOKUP(AO26,waarden!$D$4:$D$353,waarden!$E$4:$E$353)))","v":" "},null,{"$f":"IF(AQ26=0,\" \",IF(OR(AQ26<1,AQ26>350),\" \",LOOKUP(AQ26,waarden!$D$4:$D$353,waarden!$E$4:$E$353)))","v":" "},null,{"$f":"IF(AS26=0,\" \",IF(OR(AS26<1,AS26>350),\" \",LOOKUP(AS26,waarden!$D$4:$D$353,waarden!$E$4:$E$353)))","v":" "},null,{"$f":"IF(AU26=0,\" \",IF(OR(AU26<1,AU26>350),\" \",LOOKUP(AU26,waarden!$D$4:$D$353,waarden!$E$4:$E$353)))","v":" "},null,{"$f":"IF(AW26=0,\" \",IF(OR(AW26<1,AW26>350),\" \",LOOKUP(AW26,waarden!$D$4:$D$353,waarden!$E$4:$E$353)))","v":" "},null,{"$f":"IF(AY26=0,\" \",IF(OR(AY26<1,AY26>350),\" \",LOOKUP(AY26,waarden!$D$4:$D$353,waarden!$E$4:$E$353)))","v":" "},null,{"$f":"IF(BA26=0,\" \",IF(OR(BA26<1,BA26>350),\" \",LOOKUP(BA26,waarden!$D$4:$D$353,waarden!$E$4:$E$353)))","v":" "},null,{"$f":"IF(BC26=0,\" \",IF(OR(BC26<1,BC26>350),\" \",LOOKUP(BC26,waarden!$D$4:$D$353,waarden!$E$4:$E$353)))","v":" "},null,{"$f":"IF(BE26=0,\" \",IF(OR(BE26<1,BE26>350),\" \",LOOKUP(BE26,waarden!$D$4:$D$353,waarden!$E$4:$E$353)))","v":" "},null,{"$f":"IF(BG26=0,\" \",IF(OR(BG26<1,BG26>350),\" \",LOOKUP(BG26,waarden!$D$4:$D$353,waarden!$E$4:$E$353)))","v":" "},null,{"$f":"IF(BI26=0,\" \",IF(OR(BI26<1,BI26>350),\" \",LOOKUP(BI26,waarden!$D$4:$D$353,waarden!$E$4:$E$353)))","v":" "},null,{"$f":"IF(BK26=0,\" \",IF(OR(BK26<1,BK26>350),\" \",LOOKUP(BK26,waarden!$D$4:$D$353,waarden!$E$4:$E$353)))","v":" "},null,{"$f":"IF(BM26=0,\" \",IF(OR(BM26<1,BM26>350),\" \",LOOKUP(BM26,waarden!$D$4:$D$353,waarden!$E$4:$E$353)))","v":" "},0,0]
[null,null,null,"Passagier",null,{"$f":"IF(E27=0,\" \",IF(OR(E27<1,E27>350),\" \",LOOKUP(E27,waarden!$A$4:$A$353,waarden!$B$4:$B$353)))","v":" "},null,{"$f":"IF(G27=0,\" \",IF(OR(G27<1,G27>350),\" \",LOOKUP(G27,waarden!$A$4:$A$353,waarden!$B$4:$B$353)))","v":" "},null,{"$f":"IF(I27=0,\" \",IF(OR(I27<1,I27>350),\" \",LOOKUP(I27,waarden!$A$4:$A$353,waarden!$B$4:$B$353)))","v":" "},null,{"$f":"IF(K27=0,\" \",IF(OR(K27<1,K27>350),\" \",LOOKUP(K27,waarden!$A$4:$A$353,waarden!$B$4:$B$353)))","v":" "},null,{"$f":"IF(M27=0,\" \",IF(OR(M27<1,M27>350),\" \",LOOKUP(M27,waarden!$A$4:$A$353,waarden!$B$4:$B$353)))","v":" "},null,{"$f":"IF(O27=0,\" \",IF(OR(O27<1,O27>350),\" \",LOOKUP(O27,waarden!$A$4:$A$353,waarden!$B$4:$B$353)))","v":" "},null,{"$f":"IF(Q27=0,\" \",IF(OR(Q27<1,Q27>350),\" \",LOOKUP(Q27,waarden!$A$4:$A$353,waarden!$B$4:$B$353)))","v":" "},null,{"$f":"IF(S27=0,\" \",IF(OR(S27<1,S27>350),\" \",LOOKUP(S27,waarden!$A$4:$A$353,waarden!$B$4:$B$353)))","v":" "},null,{"$f":"IF(U27=0,\" \",IF(OR(U27<1,U27>350),\" \",LOOKUP(U27,waarden!$A$4:$A$353,waarden!$B$4:$B$353)))","v":" "},null,{"$f":"IF(W27=0,\" \",IF(OR(W27<1,W27>350),\" \",LOOKUP(W27,waarden!$A$4:$A$353,waarden!$B$4:$B$353)))","v":" "},null,{"$f":"IF(Y27=0,\" \",IF(OR(Y27<1,Y27>350),\" \",LOOKUP(Y27,waarden!$A$4:$A$353,waarden!$B$4:$B$353)))","v":" "},null,{"$f":"IF(AA27=0,\" \",IF(OR(AA27<1,AA27>350),\" \",LOOKUP(AA27,waarden!$A$4:$A$353,waarden!$B$4:$B$353)))","v":" "},null,{"$f":"IF(AC27=0,\" \",IF(OR(AC27<1,AC27>350),\" \",LOOKUP(AC27,waarden!$A$4:$A$353,waarden!$B$4:$B$353)))","v":" "},null,{"$f":"IF(AE27=0,\" \",IF(OR(AE27<1,AE27>350),\" \",LOOKUP(AE27,waarden!$A$4:$A$353,waarden!$B$4:$B$353)))","v":" "},null,{"$f":"IF(AG27=0,\" \",IF(OR(AG27<1,AG27>350),\" \",LOOKUP(AG27,waarden!$A$4:$A$353,waarden!$B$4:$B$353)))","v":" "},null,{"$f":"IF(AI27=0,\" \",IF(OR(AI27<1,AI27>350),\" \",LOOKUP(AI27,waarden!$A$4:$A$353,waarden!$B$4:$B$353)))","v":" "},null,{"$f":"IF(AK27=0,\" \",IF(OR(AK27<1,AK27>350),\" \",LOOKUP(AK27,waarden!$A$4:$A$353,waarden!$B$4:$B$353)))","v":" "},null,{"$f":"IF(AM27=0,\" \",IF(OR(AM27<1,AM27>350),\" \",LOOKUP(AM27,waarden!$A$4:$A$353,waarden!$B$4:$B$353)))","v":" "},null,{"$f":"IF(AO27=0,\" \",IF(OR(AO27<1,AO27>350),\" \",LOOKUP(AO27,waarden!$A$4:$A$353,waarden!$B$4:$B$353)))","v":" "},null,{"$f":"IF(AQ27=0,\" \",IF(OR(AQ27<1,AQ27>350),\" \",LOOKUP(AQ27,waarden!$A$4:$A$353,waarden!$B$4:$B$353)))","v":" "},null,{"$f":"IF(AS27=0,\" \",IF(OR(AS27<1,AS27>350),\" \",LOOKUP(AS27,waarden!$A$4:$A$353,waarden!$B$4:$B$353)))","v":" "},null,{"$f":"IF(AU27=0,\" \",IF(OR(AU27<1,AU27>350),\" \",LOOKUP(AU27,waarden!$A$4:$A$353,waarden!$B$4:$B$353)))","v":" "},null,{"$f":"IF(AW27=0,\" \",IF(OR(AW27<1,AW27>350),\" \",LOOKUP(AW27,waarden!$A$4:$A$353,waarden!$B$4:$B$353)))","v":" "},null,{"$f":"IF(AY27=0,\" \",IF(OR(AY27<1,AY27>350),\" \",LOOKUP(AY27,waarden!$A$4:$A$353,waarden!$B$4:$B$353)))","v":" "},null,{"$f":"IF(BA27=0,\" \",IF(OR(BA27<1,BA27>350),\" \",LOOKUP(BA27,waarden!$A$4:$A$353,waarden!$B$4:$B$353)))","v":" "},null,{"$f":"IF(BC27=0,\" \",IF(OR(BC27<1,BC27>350),\" \",LOOKUP(BC27,waarden!$A$4:$A$353,waarden!$B$4:$B$353)))","v":" "},null,{"$f":"IF(BE27=0,\" \",IF(OR(BE27<1,BE27>350),\" \",LOOKUP(BE27,waarden!$A$4:$A$353,waarden!$B$4:$B$353)))","v":" "},null,{"$f":"IF(BG27=0,\" \",IF(OR(BG27<1,BG27>350),\" \",LOOKUP(BG27,waarden!$A$4:$A$353,waarden!$B$4:$B$353)))","v":" "},null,{"$f":"IF(BI27=0,\" \",IF(OR(BI27<1,BI27>350),\" \",LOOKUP(BI27,waarden!$A$4:$A$353,waarden!$B$4:$B$353)))","v":" "},null,{"$f":"IF(BK27=0,\" \",IF(OR(BK27<1,BK27>350),\" \",LOOKUP(BK27,waarden!$A$4:$A$353,waarden!$B$4:$B$353)))","v":" "},null,{"$f":"IF(BM27=0,\" \",IF(OR(BM27<1,BM27>350),\" \",LOOKUP(BM27,waarden!$A$4:$A$353,waarden!$B$4:$B$353)))","v":" "},0,0]
[null,null,null,"Chauffeur personeel",null,{"$f":"IF(E28=0,\" \",IF(OR(E28<1,E28>350),\" \",LOOKUP(E28,waarden!$G$4:$G$353,waarden!$H$4:$H$353)))","v":" "},null,{"$f":"IF(G28=0,\" \",IF(OR(G28<1,G28>350),\" \",LOOKUP(G28,waarden!$G$4:$G$353,waarden!$H$4:$H$353)))","v":" "},null,{"$f":"IF(I28=0,\" \",IF(OR(I28<1,I28>350),\" \",LOOKUP(I28,waarden!$G$4:$G$353,waarden!$H$4:$H$353)))","v":" "},null,{"$f":"IF(K28=0,\" \",IF(OR(K28<1,K28>350),\" \",LOOKUP(K28,waarden!$G$4:$G$353,waarden!$H$4:$H$353)))","v":" "},null,{"$f":"IF(M28=0,\" \",IF(OR(M28<1,M28>350),\" \",LOOKUP(M28,waarden!$G$4:$G$353,waarden!$H$4:$H$353)))","v":" "},null,{"$f":"IF(O28=0,\" \",IF(OR(O28<1,O28>350),\" \",LOOKUP(O28,waarden!$G$4:$G$353,waarden!$H$4:$H$353)))","v":" "},null,{"$f":"IF(Q28=0,\" \",IF(OR(Q28<1,Q28>350),\" \",LOOKUP(Q28,waarden!$G$4:$G$353,waarden!$H$4:$H$353)))","v":" "},null,{"$f":"IF(S28=0,\" \",IF(OR(S28<1,S28>350),\" \",LOOKUP(S28,waarden!$G$4:$G$353,waarden!$H$4:$H$353)))","v":" "},null,{"$f":"IF(U28=0,\" \",IF(OR(U28<1,U28>350),\" \",LOOKUP(U28,waarden!$G$4:$G$353,waarden!$H$4:$H$353)))","v":" "},null,{"$f":"IF(W28=0,\" \",IF(OR(W28<1,W28>350),\" \",LOOKUP(W28,waarden!$G$4:$G$353,waarden!$H$4:$H$353)))","v":" "},null,{"$f":"IF(Y28=0,\" \",IF(OR(Y28<1,Y28>350),\" \",LOOKUP(Y28,waarden!$G$4:$G$353,waarden!$H$4:$H$353)))","v":" "},null,{"$f":"IF(AA28=0,\" \",IF(OR(AA28<1,AA28>350),\" \",LOOKUP(AA28,waarden!$G$4:$G$353,waarden!$H$4:$H$353)))","v":" "},null,{"$f":"IF(AC28=0,\" \",IF(OR(AC28<1,AC28>350),\" \",LOOKUP(AC28,waarden!$G$4:$G$353,waarden!$H$4:$H$353)))","v":" "},null,{"$f":"IF(AE28=0,\" \",IF(OR(AE28<1,AE28>350),\" \",LOOKUP(AE28,waarden!$G$4:$G$353,waarden!$H$4:$H$353)))","v":" "},null,{"$f":"IF(AG28=0,\" \",IF(OR(AG28<1,AG28>350),\" \",LOOKUP(AG28,waarden!$G$4:$G$353,waarden!$H$4:$H$353)))","v":" "},null,{"$f":"IF(AI28=0,\" \",IF(OR(AI28<1,AI28>350),\" \",LOOKUP(AI28,waarden!$G$4:$G$353,waarden!$H$4:$H$353)))","v":" "},null,{"$f":"IF(AK28=0,\" \",IF(OR(AK28<1,AK28>350),\" \",LOOKUP(AK28,waarden!$G$4:$G$353,waarden!$H$4:$H$353)))","v":" "},null,{"$f":"IF(AM28=0,\" \",IF(OR(AM28<1,AM28>350),\" \",LOOKUP(AM28,waarden!$G$4:$G$353,waarden!$H$4:$H$353)))","v":" "},null,{"$f":"IF(AO28=0,\" \",IF(OR(AO28<1,AO28>350),\" \",LOOKUP(AO28,waarden!$G$4:$G$353,waarden!$H$4:$H$353)))","v":" "},null,{"$f":"IF(AQ28=0,\" \",IF(OR(AQ28<1,AQ28>350),\" \",LOOKUP(AQ28,waarden!$G$4:$G$353,waarden!$H$4:$H$353)))","v":" "},null,{"$f":"IF(AS28=0,\" \",IF(OR(AS28<1,AS28>350),\" \",LOOKUP(AS28,waarden!$G$4:$G$353,waarden!$H$4:$H$353)))","v":" "},null,{"$f":"IF(AU28=0,\" \",IF(OR(AU28<1,AU28>350),\" \",LOOKUP(AU28,waarden!$G$4:$G$353,waarden!$H$4:$H$353)))","v":" "},null,{"$f":"IF(AW28=0,\" \",IF(OR(AW28<1,AW28>350),\" \",LOOKUP(AW28,waarden!$G$4:$G$353,waarden!$H$4:$H$353)))","v":" "},null,{"$f":"IF(AY28=0,\" \",IF(OR(AY28<1,AY28>350),\" \",LOOKUP(AY28,waarden!$G$4:$G$353,waarden!$H$4:$H$353)))","v":" "},null,{"$f":"IF(BA28=0,\" \",IF(OR(BA28<1,BA28>350),\" \",LOOKUP(BA28,waarden!$G$4:$G$353,waarden!$H$4:$H$353)))","v":" "},null,{"$f":"IF(BC28=0,\" \",IF(OR(BC28<1,BC28>350),\" \",LOOKUP(BC28,waarden!$G$4:$G$353,waarden!$H$4:$H$353)))","v":" "},null,{"$f":"IF(BE28=0,\" \",IF(OR(BE28<1,BE28>350),\" \",LOOKUP(BE28,waarden!$G$4:$G$353,waarden!$H$4:$H$353)))","v":" "},null,{"$f":"IF(BG28=0,\" \",IF(OR(BG28<1,BG28>350),\" \",LOOKUP(BG28,waarden!$G$4:$G$353,waarden!$H$4:$H$353)))","v":" "},null,{"$f":"IF(BI28=0,\" \",IF(OR(BI28<1,BI28>350),\" \",LOOKUP(BI28,waarden!$G$4:$G$353,waarden!$H$4:$H$353)))","v":" "},null,{"$f":"IF(BK28=0,\" \",IF(OR(BK28<1,BK28>350),\" \",LOOKUP(BK28,waarden!$G$4:$G$353,waarden!$H$4:$H$353)))","v":" "},null,{"$f":"IF(BM28=0,\" \",IF(OR(BM28<1,BM28>350),\" \",LOOKUP(BM28,waarden!$G$4:$G$353,waarden!$H$4:$H$353)))","v":" "},{"$f":"SUM(E28,G28,I28,K28,M28,O28,Q28,S28,U28,W28,Y28,AA28,AC28,AE28,AG28,AI28,AK28,AM28,AO28,AQ28,AS28,AU28,AW28,AY28,BA28,BC28,BE28,BG28,BI28,BK28,BM28)","v":0},{"$f":"SUM(F28,H28,J28,L28,N28,P28,R28,T28,V28,X28,Z28,AB28,AD28,AF28,AH28,AJ28,AL28,AN28,AP28,AR28,AT28,AV28,AX28,AZ28,BB28,BD28,BF28,BH28,BJ28,BL28,BN28)","v":0}]
[null,null,null,"Chauffeur alleen",null,{"$f":"IF(E29=0,\" \",IF(OR(E29<1,E29>350),\" \",LOOKUP(E29,waarden!$D$4:$D$353,waarden!$E$4:$E$353)))","v":" "},null,{"$f":"IF(G29=0,\" \",IF(OR(G29<1,G29>350),\" \",LOOKUP(G29,waarden!$D$4:$D$353,waarden!$E$4:$E$353)))","v":" "},null,{"$f":"IF(I29=0,\" \",IF(OR(I29<1,I29>350),\" \",LOOKUP(I29,waarden!$D$4:$D$353,waarden!$E$4:$E$353)))","v":" "},null,{"$f":"IF(K29=0,\" \",IF(OR(K29<1,K29>350),\" \",LOOKUP(K29,waarden!$D$4:$D$353,waarden!$E$4:$E$353)))","v":" "},null,{"$f":"IF(M29=0,\" \",IF(OR(M29<1,M29>350),\" \",LOOKUP(M29,waarden!$D$4:$D$353,waarden!$E$4:$E$353)))","v":" "},null,{"$f":"IF(O29=0,\" \",IF(OR(O29<1,O29>350),\" \",LOOKUP(O29,waarden!$D$4:$D$353,waarden!$E$4:$E$353)))","v":" "},null,{"$f":"IF(Q29=0,\" \",IF(OR(Q29<1,Q29>350),\" \",LOOKUP(Q29,waarden!$D$4:$D$353,waarden!$E$4:$E$353)))","v":" "},null,{"$f":"IF(S29=0,\" \",IF(OR(S29<1,S29>350),\" \",LOOKUP(S29,waarden!$D$4:$D$353,waarden!$E$4:$E$353)))","v":" "},null,{"$f":"IF(U29=0,\" \",IF(OR(U29<1,U29>350),\" \",LOOKUP(U29,waarden!$D$4:$D$353,waarden!$E$4:$E$353)))","v":" "},null,{"$f":"IF(W29=0,\" \",IF(OR(W29<1,W29>350),\" \",LOOKUP(W29,waarden!$D$4:$D$353,waarden!$E$4:$E$353)))","v":" "},null,{"$f":"IF(Y29=0,\" \",IF(OR(Y29<1,Y29>350),\" \",LOOKUP(Y29,waarden!$D$4:$D$353,waarden!$E$4:$E$353)))","v":" "},null,{"$f":"IF(AA29=0,\" \",IF(OR(AA29<1,AA29>350),\" \",LOOKUP(AA29,waarden!$D$4:$D$353,waarden!$E$4:$E$353)))","v":" "},null,{"$f":"IF(AC29=0,\" \",IF(OR(AC29<1,AC29>350),\" \",LOOKUP(AC29,waarden!$D$4:$D$353,waarden!$E$4:$E$353)))","v":" "},null,{"$f":"IF(AE29=0,\" \",IF(OR(AE29<1,AE29>350),\" \",LOOKUP(AE29,waarden!$D$4:$D$353,waarden!$E$4:$E$353)))","v":" "},null,{"$f":"IF(AG29=0,\" \",IF(OR(AG29<1,AG29>350),\" \",LOOKUP(AG29,waarden!$D$4:$D$353,waarden!$E$4:$E$353)))","v":" "},null,{"$f":"IF(AI29=0,\" \",IF(OR(AI29<1,AI29>350),\" \",LOOKUP(AI29,waarden!$D$4:$D$353,waarden!$E$4:$E$353)))","v":" "},null,{"$f":"IF(AK29=0,\" \",IF(OR(AK29<1,AK29>350),\" \",LOOKUP(AK29,waarden!$D$4:$D$353,waarden!$E$4:$E$353)))","v":" "},null,{"$f":"IF(AM29=0,\" \",IF(OR(AM29<1,AM29>350),\" \",LOOKUP(AM29,waarden!$D$4:$D$353,waarden!$E$4:$E$353)))","v":" "},null,{"$f":"IF(AO29=0,\" \",IF(OR(AO29<1,AO29>350),\" \",LOOKUP(AO29,waarden!$D$4:$D$353,waarden!$E$4:$E$353)))","v":" "},null,{"$f":"IF(AQ29=0,\" \",IF(OR(AQ29<1,AQ29>350),\" \",LOOKUP(AQ29,waarden!$D$4:$D$353,waarden!$E$4:$E$353)))","v":" "},null,{"$f":"IF(AS29=0,\" \",IF(OR(AS29<1,AS29>350),\" \",LOOKUP(AS29,waarden!$D$4:$D$353,waarden!$E$4:$E$353)))","v":" "},null,{"$f":"IF(AU29=0,\" \",IF(OR(AU29<1,AU29>350),\" \",LOOKUP(AU29,waarden!$D$4:$D$353,waarden!$E$4:$E$353)))","v":" "},null,{"$f":"IF(AW29=0,\" \",IF(OR(AW29<1,AW29>350),\" \",LOOKUP(AW29,waarden!$D$4:$D$353,waarden!$E$4:$E$353)))","v":" "},null,{"$f":"IF(AY29=0,\" \",IF(OR(AY29<1,AY29>350),\" \",LOOKUP(AY29,waarden!$D$4:$D$353,waarden!$E$4:$E$353)))","v":" "},null,{"$f":"IF(BA29=0,\" \",IF(OR(BA29<1,BA29>350),\" \",LOOKUP(BA29,waarden!$D$4:$D$353,waarden!$E$4:$E$353)))","v":" "},null,{"$f":"IF(BC29=0,\" \",IF(OR(BC29<1,BC29>350),\" \",LOOKUP(BC29,waarden!$D$4:$D$353,waarden!$E$4:$E$353)))","v":" "},null,{"$f":"IF(BE29=0,\" \",IF(OR(BE29<1,BE29>350),\" \",LOOKUP(BE29,waarden!$D$4:$D$353,waarden!$E$4:$E$353)))","v":" "},null,{"$f":"IF(BG29=0,\" \",IF(OR(BG29<1,BG29>350),\" \",LOOKUP(BG29,waarden!$D$4:$D$353,waarden!$E$4:$E$353)))","v":" "},null,{"$f":"IF(BI29=0,\" \",IF(OR(BI29<1,BI29>350),\" \",LOOKUP(BI29,waarden!$D$4:$D$353,waarden!$E$4:$E$353)))","v":" "},null,{"$f":"IF(BK29=0,\" \",IF(OR(BK29<1,BK29>350),\" \",LOOKUP(BK29,waarden!$D$4:$D$353,waarden!$E$4:$E$353)))","v":" "},null,{"$f":"IF(BM29=0,\" \",IF(OR(BM29<1,BM29>350),\" \",LOOKUP(BM29,waarden!$D$4:$D$353,waarden!$E$4:$E$353)))","v":" "},0,0]
[null,null,null,"Passagier",null,{"$f":"IF(E30=0,\" \",IF(OR(E30<1,E30>350),\" \",LOOKUP(E30,waarden!$A$4:$A$353,waarden!$B$4:$B$353)))","v":" "},null,{"$f":"IF(G30=0,\" \",IF(OR(G30<1,G30>350),\" \",LOOKUP(G30,waarden!$A$4:$A$353,waarden!$B$4:$B$353)))","v":" "},null,{"$f":"IF(I30=0,\" \",IF(OR(I30<1,I30>350),\" \",LOOKUP(I30,waarden!$A$4:$A$353,waarden!$B$4:$B$353)))","v":" "},null,{"$f":"IF(K30=0,\" \",IF(OR(K30<1,K30>350),\" \",LOOKUP(K30,waarden!$A$4:$A$353,waarden!$B$4:$B$353)))","v":" "},null,{"$f":"IF(M30=0,\" \",IF(OR(M30<1,M30>350),\" \",LOOKUP(M30,waarden!$A$4:$A$353,waarden!$B$4:$B$353)))","v":" "},null,{"$f":"IF(O30=0,\" \",IF(OR(O30<1,O30>350),\" \",LOOKUP(O30,waarden!$A$4:$A$353,waarden!$B$4:$B$353)))","v":" "},null,{"$f":"IF(Q30=0,\" \",IF(OR(Q30<1,Q30>350),\" \",LOOKUP(Q30,waarden!$A$4:$A$353,waarden!$B$4:$B$353)))","v":" "},null,{"$f":"IF(S30=0,\" \",IF(OR(S30<1,S30>350),\" \",LOOKUP(S30,waarden!$A$4:$A$353,waarden!$B$4:$B$353)))","v":" "},null,{"$f":"IF(U30=0,\" \",IF(OR(U30<1,U30>350),\" \",LOOKUP(U30,waarden!$A$4:$A$353,waarden!$B$4:$B$353)))","v":" "},null,{"$f":"IF(W30=0,\" \",IF(OR(W30<1,W30>350),\" \",LOOKUP(W30,waarden!$A$4:$A$353,waarden!$B$4:$B$353)))","v":" "},null,{"$f":"IF(Y30=0,\" \",IF(OR(Y30<1,Y30>350),\" \",LOOKUP(Y30,waarden!$A$4:$A$353,waarden!$B$4:$B$353)))","v":" "},null,{"$f":"IF(AA30=0,\" \",IF(OR(AA30<1,AA30>350),\" \",LOOKUP(AA30,waarden!$A$4:$A$353,waarden!$B$4:$B$353)))","v":" "},null,{"$f":"IF(AC30=0,\" \",IF(OR(AC30<1,AC30>350),\" \",LOOKUP(AC30,waarden!$A$4:$A$353,waarden!$B$4:$B$353)))","v":" "},null,{"$f":"IF(AE30=0,\" \",IF(OR(AE30<1,AE30>350),\" \",LOOKUP(AE30,waarden!$A$4:$A$353,waarden!$B$4:$B$353)))","v":" "},null,{"$f":"IF(AG30=0,\" \",IF(OR(AG30<1,AG30>350),\" \",LOOKUP(AG30,waarden!$A$4:$A$353,waarden!$B$4:$B$353)))","v":" "},null,{"$f":"IF(AI30=0,\" \",IF(OR(AI30<1,AI30>350),\" \",LOOKUP(AI30,waarden!$A$4:$A$353,waarden!$B$4:$B$353)))","v":" "},null,{"$f":"IF(AK30=0,\" \",IF(OR(AK30<1,AK30>350),\" \",LOOKUP(AK30,waarden!$A$4:$A$353,waarden!$B$4:$B$353)))","v":" "},null,{"$f":"IF(AM30=0,\" \",IF(OR(AM30<1,AM30>350),\" \",LOOKUP(AM30,waarden!$A$4:$A$353,waarden!$B$4:$B$353)))","v":" "},null,{"$f":"IF(AO30=0,\" \",IF(OR(AO30<1,AO30>350),\" \",LOOKUP(AO30,waarden!$A$4:$A$353,waarden!$B$4:$B$353)))","v":" "},null,{"$f":"IF(AQ30=0,\" \",IF(OR(AQ30<1,AQ30>350),\" \",LOOKUP(AQ30,waarden!$A$4:$A$353,waarden!$B$4:$B$353)))","v":" "},null,{"$f":"IF(AS30=0,\" \",IF(OR(AS30<1,AS30>350),\" \",LOOKUP(AS30,waarden!$A$4:$A$353,waarden!$B$4:$B$353)))","v":" "},null,{"$f":"IF(AU30=0,\" \",IF(OR(AU30<1,AU30>350),\" \",LOOKUP(AU30,waarden!$A$4:$A$353,waarden!$B$4:$B$353)))","v":" "},null,{"$f":"IF(AW30=0,\" \",IF(OR(AW30<1,AW30>350),\" \",LOOKUP(AW30,waarden!$A$4:$A$353,waarden!$B$4:$B$353)))","v":" "},null,{"$f":"IF(AY30=0,\" \",IF(OR(AY30<1,AY30>350),\" \",LOOKUP(AY30,waarden!$A$4:$A$353,waarden!$B$4:$B$353)))","v":" "},null,{"$f":"IF(BA30=0,\" \",IF(OR(BA30<1,BA30>350),\" \",LOOKUP(BA30,waarden!$A$4:$A$353,waarden!$B$4:$B$353)))","v":" "},null,{"$f":"IF(BC30=0,\" \",IF(OR(BC30<1,BC30>350),\" \",LOOKUP(BC30,waarden!$A$4:$A$353,waarden!$B$4:$B$353)))","v":" "},null,{"$f":"IF(BE30=0,\" \",IF(OR(BE30<1,BE30>350),\" \",LOOKUP(BE30,waarden!$A$4:$A$353,waarden!$B$4:$B$353)))","v":" "},null,{"$f":"IF(BG30=0,\" \",IF(OR(BG30<1,BG30>350),\" \",LOOKUP(BG30,waarden!$A$4:$A$353,waarden!$B$4:$B$353)))","v":" "},null,{"$f":"IF(BI30=0,\" \",IF(OR(BI30<1,BI30>350),\" \",LOOKUP(BI30,waarden!$A$4:$A$353,waarden!$B$4:$B$353)))","v":" "},null,{"$f":"IF(BK30=0,\" \",IF(OR(BK30<1,BK30>350),\" \",LOOKUP(BK30,waarden!$A$4:$A$353,waarden!$B$4:$B$353)))","v":" "},null,{"$f":"IF(BM30=0,\" \",IF(OR(BM30<1,BM30>350),\" \",LOOKUP(BM30,waarden!$A$4:$A$353,waarden!$B$4:$B$353)))","v":" "},0,0]
[null,null,null,"Chauffeur personeel",null,{"$f":"IF(E31=0,\" \",IF(OR(E31<1,E31>350),\" \",LOOKUP(E31,waarden!$G$4:$G$353,waarden!$H$4:$H$353)))","v":" "},null,{"$f":"IF(G31=0,\" \",IF(OR(G31<1,G31>350),\" \",LOOKUP(G31,waarden!$G$4:$G$353,waarden!$H$4:$H$353)))","v":" "},null,{"$f":"IF(I31=0,\" \",IF(OR(I31<1,I31>350),\" \",LOOKUP(I31,waarden!$G$4:$G$353,waarden!$H$4:$H$353)))","v":" "},null,{"$f":"IF(K31=0,\" \",IF(OR(K31<1,K31>350),\" \",LOOKUP(K31,waarden!$G$4:$G$353,waarden!$H$4:$H$353)))","v":" "},null,{"$f":"IF(M31=0,\" \",IF(OR(M31<1,M31>350),\" \",LOOKUP(M31,waarden!$G$4:$G$353,waarden!$H$4:$H$353)))","v":" "},null,{"$f":"IF(O31=0,\" \",IF(OR(O31<1,O31>350),\" \",LOOKUP(O31,waarden!$G$4:$G$353,waarden!$H$4:$H$353)))","v":" "},null,{"$f":"IF(Q31=0,\" \",IF(OR(Q31<1,Q31>350),\" \",LOOKUP(Q31,waarden!$G$4:$G$353,waarden!$H$4:$H$353)))","v":" "},null,{"$f":"IF(S31=0,\" \",IF(OR(S31<1,S31>350),\" \",LOOKUP(S31,waarden!$G$4:$G$353,waarden!$H$4:$H$353)))","v":" "},null,{"$f":"IF(U31=0,\" \",IF(OR(U31<1,U31>350),\" \",LOOKUP(U31,waarden!$G$4:$G$353,waarden!$H$4:$H$353)))","v":" "},null,{"$f":"IF(W31=0,\" \",IF(OR(W31<1,W31>350),\" \",LOOKUP(W31,waarden!$G$4:$G$353,waarden!$H$4:$H$353)))","v":" "},null,{"$f":"IF(Y31=0,\" \",IF(OR(Y31<1,Y31>350),\" \",LOOKUP(Y31,waarden!$G$4:$G$353,waarden!$H$4:$H$353)))","v":" "},null,{"$f":"IF(AA31=0,\" \",IF(OR(AA31<1,AA31>350),\" \",LOOKUP(AA31,waarden!$G$4:$G$353,waarden!$H$4:$H$353)))","v":" "},null,{"$f":"IF(AC31=0,\" \",IF(OR(AC31<1,AC31>350),\" \",LOOKUP(AC31,waarden!$G$4:$G$353,waarden!$H$4:$H$353)))","v":" "},null,{"$f":"IF(AE31=0,\" \",IF(OR(AE31<1,AE31>350),\" \",LOOKUP(AE31,waarden!$G$4:$G$353,waarden!$H$4:$H$353)))","v":" "},null,{"$f":"IF(AG31=0,\" \",IF(OR(AG31<1,AG31>350),\" \",LOOKUP(AG31,waarden!$G$4:$G$353,waarden!$H$4:$H$353)))","v":" "},null,{"$f":"IF(AI31=0,\" \",IF(OR(AI31<1,AI31>350),\" \",LOOKUP(AI31,waarden!$G$4:$G$353,waarden!$H$4:$H$353)))","v":" "},null,{"$f":"IF(AK31=0,\" \",IF(OR(AK31<1,AK31>350),\" \",LOOKUP(AK31,waarden!$G$4:$G$353,waarden!$H$4:$H$353)))","v":" "},null,{"$f":"IF(AM31=0,\" \",IF(OR(AM31<1,AM31>350),\" \",LOOKUP(AM31,waarden!$G$4:$G$353,waarden!$H$4:$H$353)))","v":" "},null,{"$f":"IF(AO31=0,\" \",IF(OR(AO31<1,AO31>350),\" \",LOOKUP(AO31,waarden!$G$4:$G$353,waarden!$H$4:$H$353)))","v":" "},null,{"$f":"IF(AQ31=0,\" \",IF(OR(AQ31<1,AQ31>350),\" \",LOOKUP(AQ31,waarden!$G$4:$G$353,waarden!$H$4:$H$353)))","v":" "},null,{"$f":"IF(AS31=0,\" \",IF(OR(AS31<1,AS31>350),\" \",LOOKUP(AS31,waarden!$G$4:$G$353,waarden!$H$4:$H$353)))","v":" "},null,{"$f":"IF(AU31=0,\" \",IF(OR(AU31<1,AU31>350),\" \",LOOKUP(AU31,waarden!$G$4:$G$353,waarden!$H$4:$H$353)))","v":" "},null,{"$f":"IF(AW31=0,\" \",IF(OR(AW31<1,AW31>350),\" \",LOOKUP(AW31,waarden!$G$4:$G$353,waarden!$H$4:$H$353)))","v":" "},null,{"$f":"IF(AY31=0,\" \",IF(OR(AY31<1,AY31>350),\" \",LOOKUP(AY31,waarden!$G$4:$G$353,waarden!$H$4:$H$353)))","v":" "},null,{"$f":"IF(BA31=0,\" \",IF(OR(BA31<1,BA31>350),\" \",LOOKUP(BA31,waarden!$G$4:$G$353,waarden!$H$4:$H$353)))","v":" "},null,{"$f":"IF(BC31=0,\" \",IF(OR(BC31<1,BC31>350),\" \",LOOKUP(BC31,waarden!$G$4:$G$353,waarden!$H$4:$H$353)))","v":" "},null,{"$f":"IF(BE31=0,\" \",IF(OR(BE31<1,BE31>350),\" \",LOOKUP(BE31,waarden!$G$4:$G$353,waarden!$H$4:$H$353)))","v":" "},null,{"$f":"IF(BG31=0,\" \",IF(OR(BG31<1,BG31>350),\" \",LOOKUP(BG31,waarden!$G$4:$G$353,waarden!$H$4:$H$353)))","v":" "},null,{"$f":"IF(BI31=0,\" \",IF(OR(BI31<1,BI31>350),\" \",LOOKUP(BI31,waarden!$G$4:$G$353,waarden!$H$4:$H$353)))","v":" "},null,{"$f":"IF(BK31=0,\" \",IF(OR(BK31<1,BK31>350),\" \",LOOKUP(BK31,waarden!$G$4:$G$353,waarden!$H$4:$H$353)))","v":" "},null,{"$f":"IF(BM31=0,\" \",IF(OR(BM31<1,BM31>350),\" \",LOOKUP(BM31,waarden!$G$4:$G$353,waarden!$H$4:$H$353)))","v":" "},{"$f":"SUM(E31,G31,I31,K31,M31,O31,Q31,S31,U31,W31,Y31,AA31,AC31,AE31,AG31,AI31,AK31,AM31,AO31,AQ31,AS31,AU31,AW31,AY31,BA31,BC31,BE31,BG31,BI31,BK31,BM31)","v":0},{"$f":"SUM(F31,H31,J31,L31,N31,P31,R31,T31,V31,X31,Z31,AB31,AD31,AF31,AH31,AJ31,AL31,AN31,AP31,AR31,AT31,AV31,AX31,AZ31,BB31,BD31,BF31,BH31,BJ31,BL31,BN31)","v":0}]
[null,null,null,"Chauffeur alleen",null,{"$f":"IF(E32=0,\" \",IF(OR(E32<1,E32>350),\" \",LOOKUP(E32,waarden!$D$4:$D$353,waarden!$E$4:$E$353)))","v":" "},null,{"$f":"IF(G32=0,\" \",IF(OR(G32<1,G32>350),\" \",LOOKUP(G32,waarden!$D$4:$D$353,waarden!$E$4:$E$353)))","v":" "},null,{"$f":"IF(I32=0,\" \",IF(OR(I32<1,I32>350),\" \",LOOKUP(I32,waarden!$D$4:$D$353,waarden!$E$4:$E$353)))","v":" "},null,{"$f":"IF(K32=0,\" \",IF(OR(K32<1,K32>350),\" \",LOOKUP(K32,waarden!$D$4:$D$353,waarden!$E$4:$E$353)))","v":" "},null,{"$f":"IF(M32=0,\" \",IF(OR(M32<1,M32>350),\" \",LOOKUP(M32,waarden!$D$4:$D$353,waarden!$E$4:$E$353)))","v":" "},null,{"$f":"IF(O32=0,\" \",IF(OR(O32<1,O32>350),\" \",LOOKUP(O32,waarden!$D$4:$D$353,waarden!$E$4:$E$353)))","v":" "},null,{"$f":"IF(Q32=0,\" \",IF(OR(Q32<1,Q32>350),\" \",LOOKUP(Q32,waarden!$D$4:$D$353,waarden!$E$4:$E$353)))","v":" "},null,{"$f":"IF(S32=0,\" \",IF(OR(S32<1,S32>350),\" \",LOOKUP(S32,waarden!$D$4:$D$353,waarden!$E$4:$E$353)))","v":" "},null,{"$f":"IF(U32=0,\" \",IF(OR(U32<1,U32>350),\" \",LOOKUP(U32,waarden!$D$4:$D$353,waarden!$E$4:$E$353)))","v":" "},null,{"$f":"IF(W32=0,\" \",IF(OR(W32<1,W32>350),\" \",LOOKUP(W32,waarden!$D$4:$D$353,waarden!$E$4:$E$353)))","v":" "},null,{"$f":"IF(Y32=0,\" \",IF(OR(Y32<1,Y32>350),\" \",LOOKUP(Y32,waarden!$D$4:$D$353,waarden!$E$4:$E$353)))","v":" "},null,{"$f":"IF(AA32=0,\" \",IF(OR(AA32<1,AA32>350),\" \",LOOKUP(AA32,waarden!$D$4:$D$353,waarden!$E$4:$E$353)))","v":" "},null,{"$f":"IF(AC32=0,\" \",IF(OR(AC32<1,AC32>350),\" \",LOOKUP(AC32,waarden!$D$4:$D$353,waarden!$E$4:$E$353)))","v":" "},null,{"$f":"IF(AE32=0,\" \",IF(OR(AE32<1,AE32>350),\" \",LOOKUP(AE32,waarden!$D$4:$D$353,waarden!$E$4:$E$353)))","v":" "},null,{"$f":"IF(AG32=0,\" \",IF(OR(AG32<1,AG32>350),\" \",LOOKUP(AG32,waarden!$D$4:$D$353,waarden!$E$4:$E$353)))","v":" "},null,{"$f":"IF(AI32=0,\" \",IF(OR(AI32<1,AI32>350),\" \",LOOKUP(AI32,waarden!$D$4:$D$353,waarden!$E$4:$E$353)))","v":" "},null,{"$f":"IF(AK32=0,\" \",IF(OR(AK32<1,AK32>350),\" \",LOOKUP(AK32,waarden!$D$4:$D$353,waarden!$E$4:$E$353)))","v":" "},null,{"$f":"IF(AM32=0,\" \",IF(OR(AM32<1,AM32>350),\" \",LOOKUP(AM32,waarden!$D$4:$D$353,waarden!$E$4:$E$353)))","v":" "},null,{"$f":"IF(AO32=0,\" \",IF(OR(AO32<1,AO32>350),\" \",LOOKUP(AO32,waarden!$D$4:$D$353,waarden!$E$4:$E$353)))","v":" "},null,{"$f":"IF(AQ32=0,\" \",IF(OR(AQ32<1,AQ32>350),\" \",LOOKUP(AQ32,waarden!$D$4:$D$353,waarden!$E$4:$E$353)))","v":" "},null,{"$f":"IF(AS32=0,\" \",IF(OR(AS32<1,AS32>350),\" \",LOOKUP(AS32,waarden!$D$4:$D$353,waarden!$E$4:$E$353)))","v":" "},null,{"$f":"IF(AU32=0,\" \",IF(OR(AU32<1,AU32>350),\" \",LOOKUP(AU32,waarden!$D$4:$D$353,waarden!$E$4:$E$353)))","v":" "},null,{"$f":"IF(AW32=0,\" \",IF(OR(AW32<1,AW32>350),\" \",LOOKUP(AW32,waarden!$D$4:$D$353,waarden!$E$4:$E$353)))","v":" "},null,{"$f":"IF(AY32=0,\" \",IF(OR(AY32<1,AY32>350),\" \",LOOKUP(AY32,waarden!$D$4:$D$353,waarden!$E$4:$E$353)))","v":" "},null,{"$f":"IF(BA32=0,\" \",IF(OR(BA32<1,BA32>350),\" \",LOOKUP(BA32,waarden!$D$4:$D$353,waarden!$E$4:$E$353)))","v":" "},null,{"$f":"IF(BC32=0,\" \",IF(OR(BC32<1,BC32>350),\" \",LOOKUP(BC32,waarden!$D$4:$D$353,waarden!$E$4:$E$353)))","v":" "},null,{"$f":"IF(BE32=0,\" \",IF(OR(BE32<1,BE32>350),\" \",LOOKUP(BE32,waarden!$D$4:$D$353,waarden!$E$4:$E$353)))","v":" "},null,{"$f":"IF(BG32=0,\" \",IF(OR(BG32<1,BG32>350),\" \",LOOKUP(BG32,waarden!$D$4:$D$353,waarden!$E$4:$E$353)))","v":" "},null,{"$f":"IF(BI32=0,\" \",IF(OR(BI32<1,BI32>350),\" \",LOOKUP(BI32,waarden!$D$4:$D$353,waarden!$E$4:$E$353)))","v":" "},null,{"$f":"IF(BK32=0,\" \",IF(OR(BK32<1,BK32>350),\" \",LOOKUP(BK32,waarden!$D$4:$D$353,waarden!$E$4:$E$353)))","v":" "},null,{"$f":"IF(BM32=0,\" \",IF(OR(BM32<1,BM32>350),\" \",LOOKUP(BM32,waarden!$D$4:$D$353,waarden!$E$4:$E$353)))","v":" "},0,0]
[null,null,null,"Passagier",null,{"$f":"IF(E33=0,\" \",IF(OR(E33<1,E33>350),\" \",LOOKUP(E33,waarden!$A$4:$A$353,waarden!$B$4:$B$353)))","v":" "},null,{"$f":"IF(G33=0,\" \",IF(OR(G33<1,G33>350),\" \",LOOKUP(G33,waarden!$A$4:$A$353,waarden!$B$4:$B$353)))","v":" "},null,{"$f":"IF(I33=0,\" \",IF(OR(I33<1,I33>350),\" \",LOOKUP(I33,waarden!$A$4:$A$353,waarden!$B$4:$B$353)))","v":" "},null,{"$f":"IF(K33=0,\" \",IF(OR(K33<1,K33>350),\" \",LOOKUP(K33,waarden!$A$4:$A$353,waarden!$B$4:$B$353)))","v":" "},null,{"$f":"IF(M33=0,\" \",IF(OR(M33<1,M33>350),\" \",LOOKUP(M33,waarden!$A$4:$A$353,waarden!$B$4:$B$353)))","v":" "},null,{"$f":"IF(O33=0,\" \",IF(OR(O33<1,O33>350),\" \",LOOKUP(O33,waarden!$A$4:$A$353,waarden!$B$4:$B$353)))","v":" "},null,{"$f":"IF(Q33=0,\" \",IF(OR(Q33<1,Q33>350),\" \",LOOKUP(Q33,waarden!$A$4:$A$353,waarden!$B$4:$B$353)))","v":" "},null,{"$f":"IF(S33=0,\" \",IF(OR(S33<1,S33>350),\" \",LOOKUP(S33,waarden!$A$4:$A$353,waarden!$B$4:$B$353)))","v":" "},null,{"$f":"IF(U33=0,\" \",IF(OR(U33<1,U33>350),\" \",LOOKUP(U33,waarden!$A$4:$A$353,waarden!$B$4:$B$353)))","v":" "},null,{"$f":"IF(W33=0,\" \",IF(OR(W33<1,W33>350),\" \",LOOKUP(W33,waarden!$A$4:$A$353,waarden!$B$4:$B$353)))","v":" "},null,{"$f":"IF(Y33=0,\" \",IF(OR(Y33<1,Y33>350),\" \",LOOKUP(Y33,waarden!$A$4:$A$353,waarden!$B$4:$B$353)))","v":" "},null,{"$f":"IF(AA33=0,\" \",IF(OR(AA33<1,AA33>350),\" \",LOOKUP(AA33,waarden!$A$4:$A$353,waarden!$B$4:$B$353)))","v":" "},null,{"$f":"IF(AC33=0,\" \",IF(OR(AC33<1,AC33>350),\" \",LOOKUP(AC33,waarden!$A$4:$A$353,waarden!$B$4:$B$353)))","v":" "},null,{"$f":"IF(AE33=0,\" \",IF(OR(AE33<1,AE33>350),\" \",LOOKUP(AE33,waarden!$A$4:$A$353,waarden!$B$4:$B$353)))","v":" "},null,{"$f":"IF(AG33=0,\" \",IF(OR(AG33<1,AG33>350),\" \",LOOKUP(AG33,waarden!$A$4:$A$353,waarden!$B$4:$B$353)))","v":" "},null,{"$f":"IF(AI33=0,\" \",IF(OR(AI33<1,AI33>350),\" \",LOOKUP(AI33,waarden!$A$4:$A$353,waarden!$B$4:$B$353)))","v":" "},null,{"$f":"IF(AK33=0,\" \",IF(OR(AK33<1,AK33>350),\" \",LOOKUP(AK33,waarden!$A$4:$A$353,waarden!$B$4:$B$353)))","v":" "},null,{"$f":"IF(AM33=0,\" \",IF(OR(AM33<1,AM33>350),\" \",LOOKUP(AM33,waarden!$A$4:$A$353,waarden!$B$4:$B$353)))","v":" "},null,{"$f":"IF(AO33=0,\" \",IF(OR(AO33<1,AO33>350),\" \",LOOKUP(AO33,waarden!$A$4:$A$353,waarden!$B$4:$B$353)))","v":" "},null,{"$f":"IF(AQ33=0,\" \",IF(OR(AQ33<1,AQ33>350),\" \",LOOKUP(AQ33,waarden!$A$4:$A$353,waarden!$B$4:$B$353)))","v":" "},null,{"$f":"IF(AS33=0,\" \",IF(OR(AS33<1,AS33>350),\" \",LOOKUP(AS33,waarden!$A$4:$A$353,waarden!$B$4:$B$353)))","v":" "},null,{"$f":"IF(AU33=0,\" \",IF(OR(AU33<1,AU33>350),\" \",LOOKUP(AU33,waarden!$A$4:$A$353,waarden!$B$4:$B$353)))","v":" "},null,{"$f":"IF(AW33=0,\" \",IF(OR(AW33<1,AW33>350),\" \",LOOKUP(AW33,waarden!$A$4:$A$353,waarden!$B$4:$B$353)))","v":" "},null,{"$f":"IF(AY33=0,\" \",IF(OR(AY33<1,AY33>350),\" \",LOOKUP(AY33,waarden!$A$4:$A$353,waarden!$B$4:$B$353)))","v":" "},null,{"$f":"IF(BA33=0,\" \",IF(OR(BA33<1,BA33>350),\" \",LOOKUP(BA33,waarden!$A$4:$A$353,waarden!$B$4:$B$353)))","v":" "},null,{"$f":"IF(BC33=0,\" \",IF(OR(BC33<1,BC33>350),\" \",LOOKUP(BC33,waarden!$A$4:$A$353,waarden!$B$4:$B$353)))","v":" "},null,{"$f":"IF(BE33=0,\" \",IF(OR(BE33<1,BE33>350),\" \",LOOKUP(BE33,waarden!$A$4:$A$353,waarden!$B$4:$B$353)))","v":" "},null,{"$f":"IF(BG33=0,\" \",IF(OR(BG33<1,BG33>350),\" \",LOOKUP(BG33,waarden!$A$4:$A$353,waarden!$B$4:$B$353)))","v":" "},null,{"$f":"IF(BI33=0,\" \",IF(OR(BI33<1,BI33>350),\" \",LOOKUP(BI33,waarden!$A$4:$A$353,waarden!$B$4:$B$353)))","v":" "},null,{"$f":"IF(BK33=0,\" \",IF(OR(BK33<1,BK33>350),\" \",LOOKUP(BK33,waarden!$A$4:$A$353,waarden!$B$4:$B$353)))","v":" "},null,{"$f":"IF(BM33=0,\" \",IF(OR(BM33<1,BM33>350),\" \",LOOKUP(BM33,waarden!$A$4:$A$353,waarden!$B$4:$B$353)))","v":" "},0,0]
[null,null,null,"Chauffeur personeel",null,{"$f":"IF(E34=0,\" \",IF(OR(E34<1,E34>350),\" \",LOOKUP(E34,waarden!$G$4:$G$353,waarden!$H$4:$H$353)))","v":" "},null,{"$f":"IF(G34=0,\" \",IF(OR(G34<1,G34>350),\" \",LOOKUP(G34,waarden!$G$4:$G$353,waarden!$H$4:$H$353)))","v":" "},null,{"$f":"IF(I34=0,\" \",IF(OR(I34<1,I34>350),\" \",LOOKUP(I34,waarden!$G$4:$G$353,waarden!$H$4:$H$353)))","v":" "},null,{"$f":"IF(K34=0,\" \",IF(OR(K34<1,K34>350),\" \",LOOKUP(K34,waarden!$G$4:$G$353,waarden!$H$4:$H$353)))","v":" "},null,{"$f":"IF(M34=0,\" \",IF(OR(M34<1,M34>350),\" \",LOOKUP(M34,waarden!$G$4:$G$353,waarden!$H$4:$H$353)))","v":" "},null,{"$f":"IF(O34=0,\" \",IF(OR(O34<1,O34>350),\" \",LOOKUP(O34,waarden!$G$4:$G$353,waarden!$H$4:$H$353)))","v":" "},null,{"$f":"IF(Q34=0,\" \",IF(OR(Q34<1,Q34>350),\" \",LOOKUP(Q34,waarden!$G$4:$G$353,waarden!$H$4:$H$353)))","v":" "},null,{"$f":"IF(S34=0,\" \",IF(OR(S34<1,S34>350),\" \",LOOKUP(S34,waarden!$G$4:$G$353,waarden!$H$4:$H$353)))","v":" "},null,{"$f":"IF(U34=0,\" \",IF(OR(U34<1,U34>350),\" \",LOOKUP(U34,waarden!$G$4:$G$353,waarden!$H$4:$H$353)))","v":" "},null,{"$f":"IF(W34=0,\" \",IF(OR(W34<1,W34>350),\" \",LOOKUP(W34,waarden!$G$4:$G$353,waarden!$H$4:$H$353)))","v":" "},null,{"$f":"IF(Y34=0,\" \",IF(OR(Y34<1,Y34>350),\" \",LOOKUP(Y34,waarden!$G$4:$G$353,waarden!$H$4:$H$353)))","v":" "},null,{"$f":"IF(AA34=0,\" \",IF(OR(AA34<1,AA34>350),\" \",LOOKUP(AA34,waarden!$G$4:$G$353,waarden!$H$4:$H$353)))","v":" "},null,{"$f":"IF(AC34=0,\" \",IF(OR(AC34<1,AC34>350),\" \",LOOKUP(AC34,waarden!$G$4:$G$353,waarden!$H$4:$H$353)))","v":" "},null,{"$f":"IF(AE34=0,\" \",IF(OR(AE34<1,AE34>350),\" \",LOOKUP(AE34,waarden!$G$4:$G$353,waarden!$H$4:$H$353)))","v":" "},null,{"$f":"IF(AG34=0,\" \",IF(OR(AG34<1,AG34>350),\" \",LOOKUP(AG34,waarden!$G$4:$G$353,waarden!$H$4:$H$353)))","v":" "},null,{"$f":"IF(AI34=0,\" \",IF(OR(AI34<1,AI34>350),\" \",LOOKUP(AI34,waarden!$G$4:$G$353,waarden!$H$4:$H$353)))","v":" "},null,{"$f":"IF(AK34=0,\" \",IF(OR(AK34<1,AK34>350),\" \",LOOKUP(AK34,waarden!$G$4:$G$353,waarden!$H$4:$H$353)))","v":" "},null,{"$f":"IF(AM34=0,\" \",IF(OR(AM34<1,AM34>350),\" \",LOOKUP(AM34,waarden!$G$4:$G$353,waarden!$H$4:$H$353)))","v":" "},null,{"$f":"IF(AO34=0,\" \",IF(OR(AO34<1,AO34>350),\" \",LOOKUP(AO34,waarden!$G$4:$G$353,waarden!$H$4:$H$353)))","v":" "},null,{"$f":"IF(AQ34=0,\" \",IF(OR(AQ34<1,AQ34>350),\" \",LOOKUP(AQ34,waarden!$G$4:$G$353,waarden!$H$4:$H$353)))","v":" "},null,{"$f":"IF(AS34=0,\" \",IF(OR(AS34<1,AS34>350),\" \",LOOKUP(AS34,waarden!$G$4:$G$353,waarden!$H$4:$H$353)))","v":" "},null,{"$f":"IF(AU34=0,\" \",IF(OR(AU34<1,AU34>350),\" \",LOOKUP(AU34,waarden!$G$4:$G$353,waarden!$H$4:$H$353)))","v":" "},null,{"$f":"IF(AW34=0,\" \",IF(OR(AW34<1,AW34>350),\" \",LOOKUP(AW34,waarden!$G$4:$G$353,waarden!$H$4:$H$353)))","v":" "},null,{"$f":"IF(AY34=0,\" \",IF(OR(AY34<1,AY34>350),\" \",LOOKUP(AY34,waarden!$G$4:$G$353,waarden!$H$4:$H$353)))","v":" "},null,{"$f":"IF(BA34=0,\" \",IF(OR(BA34<1,BA34>350),\" \",LOOKUP(BA34,waarden!$G$4:$G$353,waarden!$H$4:$H$353)))","v":" "},null,{"$f":"IF(BC34=0,\" \",IF(OR(BC34<1,BC34>350),\" \",LOOKUP(BC34,waarden!$G$4:$G$353,waarden!$H$4:$H$353)))","v":" "},null,{"$f":"IF(BE34=0,\" \",IF(OR(BE34<1,BE34>350),\" \",LOOKUP(BE34,waarden!$G$4:$G$353,waarden!$H$4:$H$353)))","v":" "},null,{"$f":"IF(BG34=0,\" \",IF(OR(BG34<1,BG34>350),\" \",LOOKUP(BG34,waarden!$G$4:$G$353,waarden!$H$4:$H$353)))","v":" "},null,{"$f":"IF(BI34=0,\" \",IF(OR(BI34<1,BI34>350),\" \",LOOKUP(BI34,waarden!$G$4:$G$353,waarden!$H$4:$H$353)))","v":" "},null,{"$f":"IF(BK34=0,\" \",IF(OR(BK34<1,BK34>350),\" \",LOOKUP(BK34,waarden!$G$4:$G$353,waarden!$H$4:$H$353)))","v":" "},null,{"$f":"IF(BM34=0,\" \",IF(OR(BM34<1,BM34>350),\" \",LOOKUP(BM34,waarden!$G$4:$G$353,waarden!$H$4:$H$353)))","v":" "},{"$f":"SUM(E34,G34,I34,K34,M34,O34,Q34,S34,U34,W34,Y34,AA34,AC34,AE34,AG34,AI34,AK34,AM34,AO34,AQ34,AS34,AU34,AW34,AY34,BA34,BC34,BE34,BG34,BI34,BK34,BM34)","v":0},{"$f":"SUM(F34,H34,J34,L34,N34,P34,R34,T34,V34,X34,Z34,AB34,AD34,AF34,AH34,AJ34,AL34,AN34,AP34,AR34,AT34,AV34,AX34,AZ34,BB34,BD34,BF34,BH34,BJ34,BL34,BN34)","v":0}]
[null,null,null,"Chauffeur alleen",null,{"$f":"IF(E35=0,\" \",IF(OR(E35<1,E35>350),\" \",LOOKUP(E35,waarden!$D$4:$D$353,waarden!$E$4:$E$353)))","v":" "},null,{"$f":"IF(G35=0,\" \",IF(OR(G35<1,G35>350),\" \",LOOKUP(G35,waarden!$D$4:$D$353,waarden!$E$4:$E$353)))","v":" "},null,{"$f":"IF(I35=0,\" \",IF(OR(I35<1,I35>350),\" \",LOOKUP(I35,waarden!$D$4:$D$353,waarden!$E$4:$E$353)))","v":" "},null,{"$f":"IF(K35=0,\" \",IF(OR(K35<1,K35>350),\" \",LOOKUP(K35,waarden!$D$4:$D$353,waarden!$E$4:$E$353)))","v":" "},null,{"$f":"IF(M35=0,\" \",IF(OR(M35<1,M35>350),\" \",LOOKUP(M35,waarden!$D$4:$D$353,waarden!$E$4:$E$353)))","v":" "},null,{"$f":"IF(O35=0,\" \",IF(OR(O35<1,O35>350),\" \",LOOKUP(O35,waarden!$D$4:$D$353,waarden!$E$4:$E$353)))","v":" "},null,{"$f":"IF(Q35=0,\" \",IF(OR(Q35<1,Q35>350),\" \",LOOKUP(Q35,waarden!$D$4:$D$353,waarden!$E$4:$E$353)))","v":" "},null,{"$f":"IF(S35=0,\" \",IF(OR(S35<1,S35>350),\" \",LOOKUP(S35,waarden!$D$4:$D$353,waarden!$E$4:$E$353)))","v":" "},null,{"$f":"IF(U35=0,\" \",IF(OR(U35<1,U35>350),\" \",LOOKUP(U35,waarden!$D$4:$D$353,waarden!$E$4:$E$353)))","v":" "},null,{"$f":"IF(W35=0,\" \",IF(OR(W35<1,W35>350),\" \",LOOKUP(W35,waarden!$D$4:$D$353,waarden!$E$4:$E$353)))","v":" "},null,{"$f":"IF(Y35=0,\" \",IF(OR(Y35<1,Y35>350),\" \",LOOKUP(Y35,waarden!$D$4:$D$353,waarden!$E$4:$E$353)))","v":" "},null,{"$f":"IF(AA35=0,\" \",IF(OR(AA35<1,AA35>350),\" \",LOOKUP(AA35,waarden!$D$4:$D$353,waarden!$E$4:$E$353)))","v":" "},null,{"$f":"IF(AC35=0,\" \",IF(OR(AC35<1,AC35>350),\" \",LOOKUP(AC35,waarden!$D$4:$D$353,waarden!$E$4:$E$353)))","v":" "},null,{"$f":"IF(AE35=0,\" \",IF(OR(AE35<1,AE35>350),\" \",LOOKUP(AE35,waarden!$D$4:$D$353,waarden!$E$4:$E$353)))","v":" "},null,{"$f":"IF(AG35=0,\" \",IF(OR(AG35<1,AG35>350),\" \",LOOKUP(AG35,waarden!$D$4:$D$353,waarden!$E$4:$E$353)))","v":" "},null,{"$f":"IF(AI35=0,\" \",IF(OR(AI35<1,AI35>350),\" \",LOOKUP(AI35,waarden!$D$4:$D$353,waarden!$E$4:$E$353)))","v":" "},null,{"$f":"IF(AK35=0,\" \",IF(OR(AK35<1,AK35>350),\" \",LOOKUP(AK35,waarden!$D$4:$D$353,waarden!$E$4:$E$353)))","v":" "},null,{"$f":"IF(AM35=0,\" \",IF(OR(AM35<1,AM35>350),\" \",LOOKUP(AM35,waarden!$D$4:$D$353,waarden!$E$4:$E$353)))","v":" "},null,{"$f":"IF(AO35=0,\" \",IF(OR(AO35<1,AO35>350),\" \",LOOKUP(AO35,waarden!$D$4:$D$353,waarden!$E$4:$E$353)))","v":" "},null,{"$f":"IF(AQ35=0,\" \",IF(OR(AQ35<1,AQ35>350),\" \",LOOKUP(AQ35,waarden!$D$4:$D$353,waarden!$E$4:$E$353)))","v":" "},null,{"$f":"IF(AS35=0,\" \",IF(OR(AS35<1,AS35>350),\" \",LOOKUP(AS35,waarden!$D$4:$D$353,waarden!$E$4:$E$353)))","v":" "},null,{"$f":"IF(AU35=0,\" \",IF(OR(AU35<1,AU35>350),\" \",LOOKUP(AU35,waarden!$D$4:$D$353,waarden!$E$4:$E$353)))","v":" "},null,{"$f":"IF(AW35=0,\" \",IF(OR(AW35<1,AW35>350),\" \",LOOKUP(AW35,waarden!$D$4:$D$353,waarden!$E$4:$E$353)))","v":" "},null,{"$f":"IF(AY35=0,\" \",IF(OR(AY35<1,AY35>350),\" \",LOOKUP(AY35,waarden!$D$4:$D$353,waarden!$E$4:$E$353)))","v":" "},null,{"$f":"IF(BA35=0,\" \",IF(OR(BA35<1,BA35>350),\" \",LOOKUP(BA35,waarden!$D$4:$D$353,waarden!$E$4:$E$353)))","v":" "},null,{"$f":"IF(BC35=0,\" \",IF(OR(BC35<1,BC35>350),\" \",LOOKUP(BC35,waarden!$D$4:$D$353,waarden!$E$4:$E$353)))","v":" "},null,{"$f":"IF(BE35=0,\" \",IF(OR(BE35<1,BE35>350),\" \",LOOKUP(BE35,waarden!$D$4:$D$353,waarden!$E$4:$E$353)))","v":" "},null,{"$f":"IF(BG35=0,\" \",IF(OR(BG35<1,BG35>350),\" \",LOOKUP(BG35,waarden!$D$4:$D$353,waarden!$E$4:$E$353)))","v":" "},null,{"$f":"IF(BI35=0,\" \",IF(OR(BI35<1,BI35>350),\" \",LOOKUP(BI35,waarden!$D$4:$D$353,waarden!$E$4:$E$353)))","v":" "},null,{"$f":"IF(BK35=0,\" \",IF(OR(BK35<1,BK35>350),\" \",LOOKUP(BK35,waarden!$D$4:$D$353,waarden!$E$4:$E$353)))","v":" "},null,{"$f":"IF(BM35=0,\" \",IF(OR(BM35<1,BM35>350),\" \",LOOKUP(BM35,waarden!$D$4:$D$353,waarden!$E$4:$E$353)))","v":" "},0,0]
[null,null,null,"Passagier",null,{"$f":"IF(E36=0,\" \",IF(OR(E36<1,E36>350),\" \",LOOKUP(E36,waarden!$A$4:$A$353,waarden!$B$4:$B$353)))","v":" "},null,{"$f":"IF(G36=0,\" \",IF(OR(G36<1,G36>350),\" \",LOOKUP(G36,waarden!$A$4:$A$353,waarden!$B$4:$B$353)))","v":" "},null,{"$f":"IF(I36=0,\" \",IF(OR(I36<1,I36>350),\" \",LOOKUP(I36,waarden!$A$4:$A$353,waarden!$B$4:$B$353)))","v":" "},null,{"$f":"IF(K36=0,\" \",IF(OR(K36<1,K36>350),\" \",LOOKUP(K36,waarden!$A$4:$A$353,waarden!$B$4:$B$353)))","v":" "},null,{"$f":"IF(M36=0,\" \",IF(OR(M36<1,M36>350),\" \",LOOKUP(M36,waarden!$A$4:$A$353,waarden!$B$4:$B$353)))","v":" "},null,{"$f":"IF(O36=0,\" \",IF(OR(O36<1,O36>350),\" \",LOOKUP(O36,waarden!$A$4:$A$353,waarden!$B$4:$B$353)))","v":" "},null,{"$f":"IF(Q36=0,\" \",IF(OR(Q36<1,Q36>350),\" \",LOOKUP(Q36,waarden!$A$4:$A$353,waarden!$B$4:$B$353)))","v":" "},null,{"$f":"IF(S36=0,\" \",IF(OR(S36<1,S36>350),\" \",LOOKUP(S36,waarden!$A$4:$A$353,waarden!$B$4:$B$353)))","v":" "},null,{"$f":"IF(U36=0,\" \",IF(OR(U36<1,U36>350),\" \",LOOKUP(U36,waarden!$A$4:$A$353,waarden!$B$4:$B$353)))","v":" "},null,{"$f":"IF(W36=0,\" \",IF(OR(W36<1,W36>350),\" \",LOOKUP(W36,waarden!$A$4:$A$353,waarden!$B$4:$B$353)))","v":" "},null,{"$f":"IF(Y36=0,\" \",IF(OR(Y36<1,Y36>350),\" \",LOOKUP(Y36,waarden!$A$4:$A$353,waarden!$B$4:$B$353)))","v":" "},null,{"$f":"IF(AA36=0,\" \",IF(OR(AA36<1,AA36>350),\" \",LOOKUP(AA36,waarden!$A$4:$A$353,waarden!$B$4:$B$353)))","v":" "},null,{"$f":"IF(AC36=0,\" \",IF(OR(AC36<1,AC36>350),\" \",LOOKUP(AC36,waarden!$A$4:$A$353,waarden!$B$4:$B$353)))","v":" "},null,{"$f":"IF(AE36=0,\" \",IF(OR(AE36<1,AE36>350),\" \",LOOKUP(AE36,waarden!$A$4:$A$353,waarden!$B$4:$B$353)))","v":" "},null,{"$f":"IF(AG36=0,\" \",IF(OR(AG36<1,AG36>350),\" \",LOOKUP(AG36,waarden!$A$4:$A$353,waarden!$B$4:$B$353)))","v":" "},null,{"$f":"IF(AI36=0,\" \",IF(OR(AI36<1,AI36>350),\" \",LOOKUP(AI36,waarden!$A$4:$A$353,waarden!$B$4:$B$353)))","v":" "},null,{"$f":"IF(AK36=0,\" \",IF(OR(AK36<1,AK36>350),\" \",LOOKUP(AK36,waarden!$A$4:$A$353,waarden!$B$4:$B$353)))","v":" "},null,{"$f":"IF(AM36=0,\" \",IF(OR(AM36<1,AM36>350),\" \",LOOKUP(AM36,waarden!$A$4:$A$353,waarden!$B$4:$B$353)))","v":" "},null,{"$f":"IF(AO36=0,\" \",IF(OR(AO36<1,AO36>350),\" \",LOOKUP(AO36,waarden!$A$4:$A$353,waarden!$B$4:$B$353)))","v":" "},null,{"$f":"IF(AQ36=0,\" \",IF(OR(AQ36<1,AQ36>350),\" \",LOOKUP(AQ36,waarden!$A$4:$A$353,waarden!$B$4:$B$353)))","v":" "},null,{"$f":"IF(AS36=0,\" \",IF(OR(AS36<1,AS36>350),\" \",LOOKUP(AS36,waarden!$A$4:$A$353,waarden!$B$4:$B$353)))","v":" "},null,{"$f":"IF(AU36=0,\" \",IF(OR(AU36<1,AU36>350),\" \",LOOKUP(AU36,waarden!$A$4:$A$353,waarden!$B$4:$B$353)))","v":" "},null,{"$f":"IF(AW36=0,\" \",IF(OR(AW36<1,AW36>350),\" \",LOOKUP(AW36,waarden!$A$4:$A$353,waarden!$B$4:$B$353)))","v":" "},null,{"$f":"IF(AY36=0,\" \",IF(OR(AY36<1,AY36>350),\" \",LOOKUP(AY36,waarden!$A$4:$A$353,waarden!$B$4:$B$353)))","v":" "},null,{"$f":"IF(BA36=0,\" \",IF(OR(BA36<1,BA36>350),\" \",LOOKUP(BA36,waarden!$A$4:$A$353,waarden!$B$4:$B$353)))","v":" "},null,{"$f":"IF(BC36=0,\" \",IF(OR(BC36<1,BC36>350),\" \",LOOKUP(BC36,waarden!$A$4:$A$353,waarden!$B$4:$B$353)))","v":" "},null,{"$f":"IF(BE36=0,\" \",IF(OR(BE36<1,BE36>350),\" \",LOOKUP(BE36,waarden!$A$4:$A$353,waarden!$B$4:$B$353)))","v":" "},null,{"$f":"IF(BG36=0,\" \",IF(OR(BG36<1,BG36>350),\" \",LOOKUP(BG36,waarden!$A$4:$A$353,waarden!$B$4:$B$353)))","v":" "},null,{"$f":"IF(BI36=0,\" \",IF(OR(BI36<1,BI36>350),\" \",LOOKUP(BI36,waarden!$A$4:$A$353,waarden!$B$4:$B$353)))","v":" "},null,{"$f":"IF(BK36=0,\" \",IF(OR(BK36<1,BK36>350),\" \",LOOKUP(BK36,waarden!$A$4:$A$353,waarden!$B$4:$B$353)))","v":" "},null,{"$f":"IF(BM36=0,\" \",IF(OR(BM36<1,BM36>350),\" \",LOOKUP(BM36,waarden!$A$4:$A$353,waarden!$B$4:$B$353)))","v":" "},0,0]
[null,null,null,"Chauffeur personeel",null,{"$f":"IF(E37=0,\" \",IF(OR(E37<1,E37>350),\" \",LOOKUP(E37,waarden!$G$4:$G$353,waarden!$H$4:$H$353)))","v":" "},null,{"$f":"IF(G37=0,\" \",IF(OR(G37<1,G37>350),\" \",LOOKUP(G37,waarden!$G$4:$G$353,waarden!$H$4:$H$353)))","v":" "},null,{"$f":"IF(I37=0,\" \",IF(OR(I37<1,I37>350),\" \",LOOKUP(I37,waarden!$G$4:$G$353,waarden!$H$4:$H$353)))","v":" "},null,{"$f":"IF(K37=0,\" \",IF(OR(K37<1,K37>350),\" \",LOOKUP(K37,waarden!$G$4:$G$353,waarden!$H$4:$H$353)))","v":" "},null,{"$f":"IF(M37=0,\" \",IF(OR(M37<1,M37>350),\" \",LOOKUP(M37,waarden!$G$4:$G$353,waarden!$H$4:$H$353)))","v":" "},null,{"$f":"IF(O37=0,\" \",IF(OR(O37<1,O37>350),\" \",LOOKUP(O37,waarden!$G$4:$G$353,waarden!$H$4:$H$353)))","v":" "},null,{"$f":"IF(Q37=0,\" \",IF(OR(Q37<1,Q37>350),\" \",LOOKUP(Q37,waarden!$G$4:$G$353,waarden!$H$4:$H$353)))","v":" "},null,{"$f":"IF(S37=0,\" \",IF(OR(S37<1,S37>350),\" \",LOOKUP(S37,waarden!$G$4:$G$353,waarden!$H$4:$H$353)))","v":" "},null,{"$f":"IF(U37=0,\" \",IF(OR(U37<1,U37>350),\" \",LOOKUP(U37,waarden!$G$4:$G$353,waarden!$H$4:$H$353)))","v":" "},null,{"$f":"IF(W37=0,\" \",IF(OR(W37<1,W37>350),\" \",LOOKUP(W37,waarden!$G$4:$G$353,waarden!$H$4:$H$353)))","v":" "},null,{"$f":"IF(Y37=0,\" \",IF(OR(Y37<1,Y37>350),\" \",LOOKUP(Y37,waarden!$G$4:$G$353,waarden!$H$4:$H$353)))","v":" "},null,{"$f":"IF(AA37=0,\" \",IF(OR(AA37<1,AA37>350),\" \",LOOKUP(AA37,waarden!$G$4:$G$353,waarden!$H$4:$H$353)))","v":" "},null,{"$f":"IF(AC37=0,\" \",IF(OR(AC37<1,AC37>350),\" \",LOOKUP(AC37,waarden!$G$4:$G$353,waarden!$H$4:$H$353)))","v":" "},null,{"$f":"IF(AE37=0,\" \",IF(OR(AE37<1,AE37>350),\" \",LOOKUP(AE37,waarden!$G$4:$G$353,waarden!$H$4:$H$353)))","v":" "},null,{"$f":"IF(AG37=0,\" \",IF(OR(AG37<1,AG37>350),\" \",LOOKUP(AG37,waarden!$G$4:$G$353,waarden!$H$4:$H$353)))","v":" "},null,{"$f":"IF(AI37=0,\" \",IF(OR(AI37<1,AI37>350),\" \",LOOKUP(AI37,waarden!$G$4:$G$353,waarden!$H$4:$H$353)))","v":" "},null,{"$f":"IF(AK37=0,\" \",IF(OR(AK37<1,AK37>350),\" \",LOOKUP(AK37,waarden!$G$4:$G$353,waarden!$H$4:$H$353)))","v":" "},null,{"$f":"IF(AM37=0,\" \",IF(OR(AM37<1,AM37>350),\" \",LOOKUP(AM37,waarden!$G$4:$G$353,waarden!$H$4:$H$353)))","v":" "},null,{"$f":"IF(AO37=0,\" \",IF(OR(AO37<1,AO37>350),\" \",LOOKUP(AO37,waarden!$G$4:$G$353,waarden!$H$4:$H$353)))","v":" "},null,{"$f":"IF(AQ37=0,\" \",IF(OR(AQ37<1,AQ37>350),\" \",LOOKUP(AQ37,waarden!$G$4:$G$353,waarden!$H$4:$H$353)))","v":" "},null,{"$f":"IF(AS37=0,\" \",IF(OR(AS37<1,AS37>350),\" \",LOOKUP(AS37,waarden!$G$4:$G$353,waarden!$H$4:$H$353)))","v":" "},null,{"$f":"IF(AU37=0,\" \",IF(OR(AU37<1,AU37>350),\" \",LOOKUP(AU37,waarden!$G$4:$G$353,waarden!$H$4:$H$353)))","v":" "},null,{"$f":"IF(AW37=0,\" \",IF(OR(AW37<1,AW37>350),\" \",LOOKUP(AW37,waarden!$G$4:$G$353,waarden!$H$4:$H$353)))","v":" "},null,{"$f":"IF(AY37=0,\" \",IF(OR(AY37<1,AY37>350),\" \",LOOKUP(AY37,waarden!$G$4:$G$353,waarden!$H$4:$H$353)))","v":" "},null,{"$f":"IF(BA37=0,\" \",IF(OR(BA37<1,BA37>350),\" \",LOOKUP(BA37,waarden!$G$4:$G$353,waarden!$H$4:$H$353)))","v":" "},null,{"$f":"IF(BC37=0,\" \",IF(OR(BC37<1,BC37>350),\" \",LOOKUP(BC37,waarden!$G$4:$G$353,waarden!$H$4:$H$353)))","v":" "},null,{"$f":"IF(BE37=0,\" \",IF(OR(BE37<1,BE37>350),\" \",LOOKUP(BE37,waarden!$G$4:$G$353,waarden!$H$4:$H$353)))","v":" "},null,{"$f":"IF(BG37=0,\" \",IF(OR(BG37<1,BG37>350),\" \",LOOKUP(BG37,waarden!$G$4:$G$353,waarden!$H$4:$H$353)))","v":" "},null,{"$f":"IF(BI37=0,\" \",IF(OR(BI37<1,BI37>350),\" \",LOOKUP(BI37,waarden!$G$4:$G$353,waarden!$H$4:$H$353)))","v":" "},null,{"$f":"IF(BK37=0,\" \",IF(OR(BK37<1,BK37>350),\" \",LOOKUP(BK37,waarden!$G$4:$G$353,waarden!$H$4:$H$353)))","v":" "},null,{"$f":"IF(BM37=0,\" \",IF(OR(BM37<1,BM37>350),\" \",LOOKUP(BM37,waarden!$G$4:$G$353,waarden!$H$4:$H$353)))","v":" "},{"$f":"SUM(E37,G37,I37,K37,M37,O37,Q37,S37,U37,W37,Y37,AA37,AC37,AE37,AG37,AI37,AK37,AM37,AO37,AQ37,AS37,AU37,AW37,AY37,BA37,BC37,BE37,BG37,BI37,BK37,BM37)","v":0},{"$f":"SUM(F37,H37,J37,L37,N37,P37,R37,T37,V37,X37,Z37,AB37,AD37,AF37,AH37,AJ37,AL37,AN37,AP37,AR37,AT37,AV37,AX37,AZ37,BB37,BD37,BF37,BH37,BJ37,BL37,BN37)","v":0}]
[null,null,null,"Chauffeur alleen",null,{"$f":"IF(E38=0,\" \",IF(OR(E38<1,E38>350),\" \",LOOKUP(E38,waarden!$D$4:$D$353,waarden!$E$4:$E$353)))","v":" "},null,{"$f":"IF(G38=0,\" \",IF(OR(G38<1,G38>350),\" \",LOOKUP(G38,waarden!$D$4:$D$353,waarden!$E$4:$E$353)))","v":" "},null,{"$f":"IF(I38=0,\" \",IF(OR(I38<1,I38>350),\" \",LOOKUP(I38,waarden!$D$4:$D$353,waarden!$E$4:$E$353)))","v":" "},null,{"$f":"IF(K38=0,\" \",IF(OR(K38<1,K38>350),\" \",LOOKUP(K38,waarden!$D$4:$D$353,waarden!$E$4:$E$353)))","v":" "},null,{"$f":"IF(M38=0,\" \",IF(OR(M38<1,M38>350),\" \",LOOKUP(M38,waarden!$D$4:$D$353,waarden!$E$4:$E$353)))","v":" "},null,{"$f":"IF(O38=0,\" \",IF(OR(O38<1,O38>350),\" \",LOOKUP(O38,waarden!$D$4:$D$353,waarden!$E$4:$E$353)))","v":" "},null,{"$f":"IF(Q38=0,\" \",IF(OR(Q38<1,Q38>350),\" \",LOOKUP(Q38,waarden!$D$4:$D$353,waarden!$E$4:$E$353)))","v":" "},null,{"$f":"IF(S38=0,\" \",IF(OR(S38<1,S38>350),\" \",LOOKUP(S38,waarden!$D$4:$D$353,waarden!$E$4:$E$353)))","v":" "},null,{"$f":"IF(U38=0,\" \",IF(OR(U38<1,U38>350),\" \",LOOKUP(U38,waarden!$D$4:$D$353,waarden!$E$4:$E$353)))","v":" "},null,{"$f":"IF(W38=0,\" \",IF(OR(W38<1,W38>350),\" \",LOOKUP(W38,waarden!$D$4:$D$353,waarden!$E$4:$E$353)))","v":" "},null,{"$f":"IF(Y38=0,\" \",IF(OR(Y38<1,Y38>350),\" \",LOOKUP(Y38,waarden!$D$4:$D$353,waarden!$E$4:$E$353)))","v":" "},null,{"$f":"IF(AA38=0,\" \",IF(OR(AA38<1,AA38>350),\" \",LOOKUP(AA38,waarden!$D$4:$D$353,waarden!$E$4:$E$353)))","v":" "},null,{"$f":"IF(AC38=0,\" \",IF(OR(AC38<1,AC38>350),\" \",LOOKUP(AC38,waarden!$D$4:$D$353,waarden!$E$4:$E$353)))","v":" "},null,{"$f":"IF(AE38=0,\" \",IF(OR(AE38<1,AE38>350),\" \",LOOKUP(AE38,waarden!$D$4:$D$353,waarden!$E$4:$E$353)))","v":" "},null,{"$f":"IF(AG38=0,\" \",IF(OR(AG38<1,AG38>350),\" \",LOOKUP(AG38,waarden!$D$4:$D$353,waarden!$E$4:$E$353)))","v":" "},null,{"$f":"IF(AI38=0,\" \",IF(OR(AI38<1,AI38>350),\" \",LOOKUP(AI38,waarden!$D$4:$D$353,waarden!$E$4:$E$353)))","v":" "},null,{"$f":"IF(AK38=0,\" \",IF(OR(AK38<1,AK38>350),\" \",LOOKUP(AK38,waarden!$D$4:$D$353,waarden!$E$4:$E$353)))","v":" "},null,{"$f":"IF(AM38=0,\" \",IF(OR(AM38<1,AM38>350),\" \",LOOKUP(AM38,waarden!$D$4:$D$353,waarden!$E$4:$E$353)))","v":" "},null,{"$f":"IF(AO38=0,\" \",IF(OR(AO38<1,AO38>350),\" \",LOOKUP(AO38,waarden!$D$4:$D$353,waarden!$E$4:$E$353)))","v":" "},null,{"$f":"IF(AQ38=0,\" \",IF(OR(AQ38<1,AQ38>350),\" \",LOOKUP(AQ38,waarden!$D$4:$D$353,waarden!$E$4:$E$353)))","v":" "},null,{"$f":"IF(AS38=0,\" \",IF(OR(AS38<1,AS38>350),\" \",LOOKUP(AS38,waarden!$D$4:$D$353,waarden!$E$4:$E$353)))","v":" "},null,{"$f":"IF(AU38=0,\" \",IF(OR(AU38<1,AU38>350),\" \",LOOKUP(AU38,waarden!$D$4:$D$353,waarden!$E$4:$E$353)))","v":" "},null,{"$f":"IF(AW38=0,\" \",IF(OR(AW38<1,AW38>350),\" \",LOOKUP(AW38,waarden!$D$4:$D$353,waarden!$E$4:$E$353)))","v":" "},null,{"$f":"IF(AY38=0,\" \",IF(OR(AY38<1,AY38>350),\" \",LOOKUP(AY38,waarden!$D$4:$D$353,waarden!$E$4:$E$353)))","v":" "},null,{"$f":"IF(BA38=0,\" \",IF(OR(BA38<1,BA38>350),\" \",LOOKUP(BA38,waarden!$D$4:$D$353,waarden!$E$4:$E$353)))","v":" "},null,{"$f":"IF(BC38=0,\" \",IF(OR(BC38<1,BC38>350),\" \",LOOKUP(BC38,waarden!$D$4:$D$353,waarden!$E$4:$E$353)))","v":" "},null,{"$f":"IF(BE38=0,\" \",IF(OR(BE38<1,BE38>350),\" \",LOOKUP(BE38,waarden!$D$4:$D$353,waarden!$E$4:$E$353)))","v":" "},null,{"$f":"IF(BG38=0,\" \",IF(OR(BG38<1,BG38>350),\" \",LOOKUP(BG38,waarden!$D$4:$D$353,waarden!$E$4:$E$353)))","v":" "},null,{"$f":"IF(BI38=0,\" \",IF(OR(BI38<1,BI38>350),\" \",LOOKUP(BI38,waarden!$D$4:$D$353,waarden!$E$4:$E$353)))","v":" "},null,{"$f":"IF(BK38=0,\" \",IF(OR(BK38<1,BK38>350),\" \",LOOKUP(BK38,waarden!$D$4:$D$353,waarden!$E$4:$E$353)))","v":" "},null,{"$f":"IF(BM38=0,\" \",IF(OR(BM38<1,BM38>350),\" \",LOOKUP(BM38,waarden!$D$4:$D$353,waarden!$E$4:$E$353)))","v":" "},0,0]
[null,null,null,"Passagier",null,{"$f":"IF(E39=0,\" \",IF(OR(E39<1,E39>350),\" \",LOOKUP(E39,waarden!$A$4:$A$353,waarden!$B$4:$B$353)))","v":" "},null,{"$f":"IF(G39=0,\" \",IF(OR(G39<1,G39>350),\" \",LOOKUP(G39,waarden!$A$4:$A$353,waarden!$B$4:$B$353)))","v":" "},null,{"$f":"IF(I39=0,\" \",IF(OR(I39<1,I39>350),\" \",LOOKUP(I39,waarden!$A$4:$A$353,waarden!$B$4:$B$353)))","v":" "},null,{"$f":"IF(K39=0,\" \",IF(OR(K39<1,K39>350),\" \",LOOKUP(K39,waarden!$A$4:$A$353,waarden!$B$4:$B$353)))","v":" "},null,{"$f":"IF(M39=0,\" \",IF(OR(M39<1,M39>350),\" \",LOOKUP(M39,waarden!$A$4:$A$353,waarden!$B$4:$B$353)))","v":" "},null,{"$f":"IF(O39=0,\" \",IF(OR(O39<1,O39>350),\" \",LOOKUP(O39,waarden!$A$4:$A$353,waarden!$B$4:$B$353)))","v":" "},null,{"$f":"IF(Q39=0,\" \",IF(OR(Q39<1,Q39>350),\" \",LOOKUP(Q39,waarden!$A$4:$A$353,waarden!$B$4:$B$353)))","v":" "},null,{"$f":"IF(S39=0,\" \",IF(OR(S39<1,S39>350),\" \",LOOKUP(S39,waarden!$A$4:$A$353,waarden!$B$4:$B$353)))","v":" "},null,{"$f":"IF(U39=0,\" \",IF(OR(U39<1,U39>350),\" \",LOOKUP(U39,waarden!$A$4:$A$353,waarden!$B$4:$B$353)))","v":" "},null,{"$f":"IF(W39=0,\" \",IF(OR(W39<1,W39>350),\" \",LOOKUP(W39,waarden!$A$4:$A$353,waarden!$B$4:$B$353)))","v":" "},null,{"$f":"IF(Y39=0,\" \",IF(OR(Y39<1,Y39>350),\" \",LOOKUP(Y39,waarden!$A$4:$A$353,waarden!$B$4:$B$353)))","v":" "},null,{"$f":"IF(AA39=0,\" \",IF(OR(AA39<1,AA39>350),\" \",LOOKUP(AA39,waarden!$A$4:$A$353,waarden!$B$4:$B$353)))","v":" "},null,{"$f":"IF(AC39=0,\" \",IF(OR(AC39<1,AC39>350),\" \",LOOKUP(AC39,waarden!$A$4:$A$353,waarden!$B$4:$B$353)))","v":" "},null,{"$f":"IF(AE39=0,\" \",IF(OR(AE39<1,AE39>350),\" \",LOOKUP(AE39,waarden!$A$4:$A$353,waarden!$B$4:$B$353)))","v":" "},null,{"$f":"IF(AG39=0,\" \",IF(OR(AG39<1,AG39>350),\" \",LOOKUP(AG39,waarden!$A$4:$A$353,waarden!$B$4:$B$353)))","v":" "},null,{"$f":"IF(AI39=0,\" \",IF(OR(AI39<1,AI39>350),\" \",LOOKUP(AI39,waarden!$A$4:$A$353,waarden!$B$4:$B$353)))","v":" "},null,{"$f":"IF(AK39=0,\" \",IF(OR(AK39<1,AK39>350),\" \",LOOKUP(AK39,waarden!$A$4:$A$353,waarden!$B$4:$B$353)))","v":" "},null,{"$f":"IF(AM39=0,\" \",IF(OR(AM39<1,AM39>350),\" \",LOOKUP(AM39,waarden!$A$4:$A$353,waarden!$B$4:$B$353)))","v":" "},null,{"$f":"IF(AO39=0,\" \",IF(OR(AO39<1,AO39>350),\" \",LOOKUP(AO39,waarden!$A$4:$A$353,waarden!$B$4:$B$353)))","v":" "},null,{"$f":"IF(AQ39=0,\" \",IF(OR(AQ39<1,AQ39>350),\" \",LOOKUP(AQ39,waarden!$A$4:$A$353,waarden!$B$4:$B$353)))","v":" "},null,{"$f":"IF(AS39=0,\" \",IF(OR(AS39<1,AS39>350),\" \",LOOKUP(AS39,waarden!$A$4:$A$353,waarden!$B$4:$B$353)))","v":" "},null,{"$f":"IF(AU39=0,\" \",IF(OR(AU39<1,AU39>350),\" \",LOOKUP(AU39,waarden!$A$4:$A$353,waarden!$B$4:$B$353)))","v":" "},null,{"$f":"IF(AW39=0,\" \",IF(OR(AW39<1,AW39>350),\" \",LOOKUP(AW39,waarden!$A$4:$A$353,waarden!$B$4:$B$353)))","v":" "},null,{"$f":"IF(AY39=0,\" \",IF(OR(AY39<1,AY39>350),\" \",LOOKUP(AY39,waarden!$A$4:$A$353,waarden!$B$4:$B$353)))","v":" "},null,{"$f":"IF(BA39=0,\" \",IF(OR(BA39<1,BA39>350),\" \",LOOKUP(BA39,waarden!$A$4:$A$353,waarden!$B$4:$B$353)))","v":" "},null,{"$f":"IF(BC39=0,\" \",IF(OR(BC39<1,BC39>350),\" \",LOOKUP(BC39,waarden!$A$4:$A$353,waarden!$B$4:$B$353)))","v":" "},null,{"$f":"IF(BE39=0,\" \",IF(OR(BE39<1,BE39>350),\" \",LOOKUP(BE39,waarden!$A$4:$A$353,waarden!$B$4:$B$353)))","v":" "},null,{"$f":"IF(BG39=0,\" \",IF(OR(BG39<1,BG39>350),\" \",LOOKUP(BG39,waarden!$A$4:$A$353,waarden!$B$4:$B$353)))","v":" "},null,{"$f":"IF(BI39=0,\" \",IF(OR(BI39<1,BI39>350),\" \",LOOKUP(BI39,waarden!$A$4:$A$353,waarden!$B$4:$B$353)))","v":" "},null,{"$f":"IF(BK39=0,\" \",IF(OR(BK39<1,BK39>350),\" \",LOOKUP(BK39,waarden!$A$4:$A$353,waarden!$B$4:$B$353)))","v":" "},null,{"$f":"IF(BM39=0,\" \",IF(OR(BM39<1,BM39>350),\" \",LOOKUP(BM39,waarden!$A$4:$A$353,waarden!$B$4:$B$353)))","v":" "},0,0]
[null,null,null,"Chauffeur personeel",null,{"$f":"IF(E40=0,\" \",IF(OR(E40<1,E40>350),\" \",LOOKUP(E40,waarden!$G$4:$G$353,waarden!$H$4:$H$353)))","v":" "},null,{"$f":"IF(G40=0,\" \",IF(OR(G40<1,G40>350),\" \",LOOKUP(G40,waarden!$G$4:$G$353,waarden!$H$4:$H$353)))","v":" "},null,{"$f":"IF(I40=0,\" \",IF(OR(I40<1,I40>350),\" \",LOOKUP(I40,waarden!$G$4:$G$353,waarden!$H$4:$H$353)))","v":" "},null,{"$f":"IF(K40=0,\" \",IF(OR(K40<1,K40>350),\" \",LOOKUP(K40,waarden!$G$4:$G$353,waarden!$H$4:$H$353)))","v":" "},null,{"$f":"IF(M40=0,\" \",IF(OR(M40<1,M40>350),\" \",LOOKUP(M40,waarden!$G$4:$G$353,waarden!$H$4:$H$353)))","v":" "},null,{"$f":"IF(O40=0,\" \",IF(OR(O40<1,O40>350),\" \",LOOKUP(O40,waarden!$G$4:$G$353,waarden!$H$4:$H$353)))","v":" "},null,{"$f":"IF(Q40=0,\" \",IF(OR(Q40<1,Q40>350),\" \",LOOKUP(Q40,waarden!$G$4:$G$353,waarden!$H$4:$H$353)))","v":" "},null,{"$f":"IF(S40=0,\" \",IF(OR(S40<1,S40>350),\" \",LOOKUP(S40,waarden!$G$4:$G$353,waarden!$H$4:$H$353)))","v":" "},null,{"$f":"IF(U40=0,\" \",IF(OR(U40<1,U40>350),\" \",LOOKUP(U40,waarden!$G$4:$G$353,waarden!$H$4:$H$353)))","v":" "},null,{"$f":"IF(W40=0,\" \",IF(OR(W40<1,W40>350),\" \",LOOKUP(W40,waarden!$G$4:$G$353,waarden!$H$4:$H$353)))","v":" "},null,{"$f":"IF(Y40=0,\" \",IF(OR(Y40<1,Y40>350),\" \",LOOKUP(Y40,waarden!$G$4:$G$353,waarden!$H$4:$H$353)))","v":" "},null,{"$f":"IF(AA40=0,\" \",IF(OR(AA40<1,AA40>350),\" \",LOOKUP(AA40,waarden!$G$4:$G$353,waarden!$H$4:$H$353)))","v":" "},null,{"$f":"IF(AC40=0,\" \",IF(OR(AC40<1,AC40>350),\" \",LOOKUP(AC40,waarden!$G$4:$G$353,waarden!$H$4:$H$353)))","v":" "},null,{"$f":"IF(AE40=0,\" \",IF(OR(AE40<1,AE40>350),\" \",LOOKUP(AE40,waarden!$G$4:$G$353,waarden!$H$4:$H$353)))","v":" "},null,{"$f":"IF(AG40=0,\" \",IF(OR(AG40<1,AG40>350),\" \",LOOKUP(AG40,waarden!$G$4:$G$353,waarden!$H$4:$H$353)))","v":" "},null,{"$f":"IF(AI40=0,\" \",IF(OR(AI40<1,AI40>350),\" \",LOOKUP(AI40,waarden!$G$4:$G$353,waarden!$H$4:$H$353)))","v":" "},null,{"$f":"IF(AK40=0,\" \",IF(OR(AK40<1,AK40>350),\" \",LOOKUP(AK40,waarden!$G$4:$G$353,waarden!$H$4:$H$353)))","v":" "},null,{"$f":"IF(AM40=0,\" \",IF(OR(AM40<1,AM40>350),\" \",LOOKUP(AM40,waarden!$G$4:$G$353,waarden!$H$4:$H$353)))","v":" "},null,{"$f":"IF(AO40=0,\" \",IF(OR(AO40<1,AO40>350),\" \",LOOKUP(AO40,waarden!$G$4:$G$353,waarden!$H$4:$H$353)))","v":" "},null,{"$f":"IF(AQ40=0,\" \",IF(OR(AQ40<1,AQ40>350),\" \",LOOKUP(AQ40,waarden!$G$4:$G$353,waarden!$H$4:$H$353)))","v":" "},null,{"$f":"IF(AS40=0,\" \",IF(OR(AS40<1,AS40>350),\" \",LOOKUP(AS40,waarden!$G$4:$G$353,waarden!$H$4:$H$353)))","v":" "},null,{"$f":"IF(AU40=0,\" \",IF(OR(AU40<1,AU40>350),\" \",LOOKUP(AU40,waarden!$G$4:$G$353,waarden!$H$4:$H$353)))","v":" "},null,{"$f":"IF(AW40=0,\" \",IF(OR(AW40<1,AW40>350),\" \",LOOKUP(AW40,waarden!$G$4:$G$353,waarden!$H$4:$H$353)))","v":" "},null,{"$f":"IF(AY40=0,\" \",IF(OR(AY40<1,AY40>350),\" \",LOOKUP(AY40,waarden!$G$4:$G$353,waarden!$H$4:$H$353)))","v":" "},null,{"$f":"IF(BA40=0,\" \",IF(OR(BA40<1,BA40>350),\" \",LOOKUP(BA40,waarden!$G$4:$G$353,waarden!$H$4:$H$353)))","v":" "},null,{"$f":"IF(BC40=0,\" \",IF(OR(BC40<1,BC40>350),\" \",LOOKUP(BC40,waarden!$G$4:$G$353,waarden!$H$4:$H$353)))","v":" "},null,{"$f":"IF(BE40=0,\" \",IF(OR(BE40<1,BE40>350),\" \",LOOKUP(BE40,waarden!$G$4:$G$353,waarden!$H$4:$H$353)))","v":" "},null,{"$f":"IF(BG40=0,\" \",IF(OR(BG40<1,BG40>350),\" \",LOOKUP(BG40,waarden!$G$4:$G$353,waarden!$H$4:$H$353)))","v":" "},null,{"$f":"IF(BI40=0,\" \",IF(OR(BI40<1,BI40>350),\" \",LOOKUP(BI40,waarden!$G$4:$G$353,waarden!$H$4:$H$353)))","v":" "},null,{"$f":"IF(BK40=0,\" \",IF(OR(BK40<1,BK40>350),\" \",LOOKUP(BK40,waarden!$G$4:$G$353,waarden!$H$4:$H$353)))","v":" "},null,{"$f":"IF(BM40=0,\" \",IF(OR(BM40<1,BM40>350),\" \",LOOKUP(BM40,waarden!$G$4:$G$353,waarden!$H$4:$H$353)))","v":" "},0,{"$f":"SUM(F40,H40,J40,L40,N40,P40,R40,T40,V40,X40,Z40,AB40,AD40,AF40,AH40,AJ40,AL40,AN40,AP40,AR40,AT40,AV40,AX40,AZ40,BB40,BD40,BF40,BH40,BJ40,BL40,BN40)","v":0}]
[null,null,null,"Chauffeur alleen",null,{"$f":"IF(E41=0,\" \",IF(OR(E41<1,E41>350),\" \",LOOKUP(E41,waarden!$D$4:$D$353,waarden!$E$4:$E$353)))","v":" "},null,{"$f":"IF(G41=0,\" \",IF(OR(G41<1,G41>350),\" \",LOOKUP(G41,waarden!$D$4:$D$353,waarden!$E$4:$E$353)))","v":" "},null,{"$f":"IF(I41=0,\" \",IF(OR(I41<1,I41>350),\" \",LOOKUP(I41,waarden!$D$4:$D$353,waarden!$E$4:$E$353)))","v":" "},null,{"$f":"IF(K41=0,\" \",IF(OR(K41<1,K41>350),\" \",LOOKUP(K41,waarden!$D$4:$D$353,waarden!$E$4:$E$353)))","v":" "},null,{"$f":"IF(M41=0,\" \",IF(OR(M41<1,M41>350),\" \",LOOKUP(M41,waarden!$D$4:$D$353,waarden!$E$4:$E$353)))","v":" "},null,{"$f":"IF(O41=0,\" \",IF(OR(O41<1,O41>350),\" \",LOOKUP(O41,waarden!$D$4:$D$353,waarden!$E$4:$E$353)))","v":" "},null,{"$f":"IF(Q41=0,\" \",IF(OR(Q41<1,Q41>350),\" \",LOOKUP(Q41,waarden!$D$4:$D$353,waarden!$E$4:$E$353)))","v":" "},null,{"$f":"IF(S41=0,\" \",IF(OR(S41<1,S41>350),\" \",LOOKUP(S41,waarden!$D$4:$D$353,waarden!$E$4:$E$353)))","v":" "},null,{"$f":"IF(U41=0,\" \",IF(OR(U41<1,U41>350),\" \",LOOKUP(U41,waarden!$D$4:$D$353,waarden!$E$4:$E$353)))","v":" "},null,{"$f":"IF(W41=0,\" \",IF(OR(W41<1,W41>350),\" \",LOOKUP(W41,waarden!$D$4:$D$353,waarden!$E$4:$E$353)))","v":" "},null,{"$f":"IF(Y41=0,\" \",IF(OR(Y41<1,Y41>350),\" \",LOOKUP(Y41,waarden!$D$4:$D$353,waarden!$E$4:$E$353)))","v":" "},null,{"$f":"IF(AA41=0,\" \",IF(OR(AA41<1,AA41>350),\" \",LOOKUP(AA41,waarden!$D$4:$D$353,waarden!$E$4:$E$353)))","v":" "},null,{"$f":"IF(AC41=0,\" \",IF(OR(AC41<1,AC41>350),\" \",LOOKUP(AC41,waarden!$D$4:$D$353,waarden!$E$4:$E$353)))","v":" "},null,{"$f":"IF(AE41=0,\" \",IF(OR(AE41<1,AE41>350),\" \",LOOKUP(AE41,waarden!$D$4:$D$353,waarden!$E$4:$E$353)))","v":" "},null,{"$f":"IF(AG41=0,\" \",IF(OR(AG41<1,AG41>350),\" \",LOOKUP(AG41,waarden!$D$4:$D$353,waarden!$E$4:$E$353)))","v":" "},null,{"$f":"IF(AI41=0,\" \",IF(OR(AI41<1,AI41>350),\" \",LOOKUP(AI41,waarden!$D$4:$D$353,waarden!$E$4:$E$353)))","v":" "},null,{"$f":"IF(AK41=0,\" \",IF(OR(AK41<1,AK41>350),\" \",LOOKUP(AK41,waarden!$D$4:$D$353,waarden!$E$4:$E$353)))","v":" "},null,{"$f":"IF(AM41=0,\" \",IF(OR(AM41<1,AM41>350),\" \",LOOKUP(AM41,waarden!$D$4:$D$353,waarden!$E$4:$E$353)))","v":" "},null,{"$f":"IF(AO41=0,\" \",IF(OR(AO41<1,AO41>350),\" \",LOOKUP(AO41,waarden!$D$4:$D$353,waarden!$E$4:$E$353)))","v":" "},null,{"$f":"IF(AQ41=0,\" \",IF(OR(AQ41<1,AQ41>350),\" \",LOOKUP(AQ41,waarden!$D$4:$D$353,waarden!$E$4:$E$353)))","v":" "},null,{"$f":"IF(AS41=0,\" \",IF(OR(AS41<1,AS41>350),\" \",LOOKUP(AS41,waarden!$D$4:$D$353,waarden!$E$4:$E$353)))","v":" "},null,{"$f":"IF(AU41=0,\" \",IF(OR(AU41<1,AU41>350),\" \",LOOKUP(AU41,waarden!$D$4:$D$353,waarden!$E$4:$E$353)))","v":" "},null,{"$f":"IF(AW41=0,\" \",IF(OR(AW41<1,AW41>350),\" \",LOOKUP(AW41,waarden!$D$4:$D$353,waarden!$E$4:$E$353)))","v":" "},null,{"$f":"IF(AY41=0,\" \",IF(OR(AY41<1,AY41>350),\" \",LOOKUP(AY41,waarden!$D$4:$D$353,waarden!$E$4:$E$353)))","v":" "},null,{"$f":"IF(BA41=0,\" \",IF(OR(BA41<1,BA41>350),\" \",LOOKUP(BA41,waarden!$D$4:$D$353,waarden!$E$4:$E$353)))","v":" "},null,{"$f":"IF(BC41=0,\" \",IF(OR(BC41<1,BC41>350),\" \",LOOKUP(BC41,waarden!$D$4:$D$353,waarden!$E$4:$E$353)))","v":" "},null,{"$f":"IF(BE41=0,\" \",IF(OR(BE41<1,BE41>350),\" \",LOOKUP(BE41,waarden!$D$4:$D$353,waarden!$E$4:$E$353)))","v":" "},null,{"$f":"IF(BG41=0,\" \",IF(OR(BG41<1,BG41>350),\" \",LOOKUP(BG41,waarden!$D$4:$D$353,waarden!$E$4:$E$353)))","v":" "},null,{"$f":"IF(BI41=0,\" \",IF(OR(BI41<1,BI41>350),\" \",LOOKUP(BI41,waarden!$D$4:$D$353,waarden!$E$4:$E$353)))","v":" "},null,{"$f":"IF(BK41=0,\" \",IF(OR(BK41<1,BK41>350),\" \",LOOKUP(BK41,waarden!$D$4:$D$353,waarden!$E$4:$E$353)))","v":" "},null,{"$f":"IF(BM41=0,\" \",IF(OR(BM41<1,BM41>350),\" \",LOOKUP(BM41,waarden!$D$4:$D$353,waarden!$E$4:$E$353)))","v":" "},0,0]
[null,null,null,"Passagier",null,{"$f":"IF(E42=0,\" \",IF(OR(E42<1,E42>350),\" \",LOOKUP(E42,waarden!$A$4:$A$353,waarden!$B$4:$B$353)))","v":" "},null,{"$f":"IF(G42=0,\" \",IF(OR(G42<1,G42>350),\" \",LOOKUP(G42,waarden!$A$4:$A$353,waarden!$B$4:$B$353)))","v":" "},null,{"$f":"IF(I42=0,\" \",IF(OR(I42<1,I42>350),\" \",LOOKUP(I42,waarden!$A$4:$A$353,waarden!$B$4:$B$353)))","v":" "},null,{"$f":"IF(K42=0,\" \",IF(OR(K42<1,K42>350),\" \",LOOKUP(K42,waarden!$A$4:$A$353,waarden!$B$4:$B$353)))","v":" "},null,{"$f":"IF(M42=0,\" \",IF(OR(M42<1,M42>350),\" \",LOOKUP(M42,waarden!$A$4:$A$353,waarden!$B$4:$B$353)))","v":" "},null,{"$f":"IF(O42=0,\" \",IF(OR(O42<1,O42>350),\" \",LOOKUP(O42,waarden!$A$4:$A$353,waarden!$B$4:$B$353)))","v":" "},null,{"$f":"IF(Q42=0,\" \",IF(OR(Q42<1,Q42>350),\" \",LOOKUP(Q42,waarden!$A$4:$A$353,waarden!$B$4:$B$353)))","v":" "},null,{"$f":"IF(S42=0,\" \",IF(OR(S42<1,S42>350),\" \",LOOKUP(S42,waarden!$A$4:$A$353,waarden!$B$4:$B$353)))","v":" "},null,{"$f":"IF(U42=0,\" \",IF(OR(U42<1,U42>350),\" \",LOOKUP(U42,waarden!$A$4:$A$353,waarden!$B$4:$B$353)))","v":" "},null,{"$f":"IF(W42=0,\" \",IF(OR(W42<1,W42>350),\" \",LOOKUP(W42,waarden!$A$4:$A$353,waarden!$B$4:$B$353)))","v":" "},null,{"$f":"IF(Y42=0,\" \",IF(OR(Y42<1,Y42>350),\" \",LOOKUP(Y42,waarden!$A$4:$A$353,waarden!$B$4:$B$353)))","v":" "},null,{"$f":"IF(AA42=0,\" \",IF(OR(AA42<1,AA42>350),\" \",LOOKUP(AA42,waarden!$A$4:$A$353,waarden!$B$4:$B$353)))","v":" "},null,{"$f":"IF(AC42=0,\" \",IF(OR(AC42<1,AC42>350),\" \",LOOKUP(AC42,waarden!$A$4:$A$353,waarden!$B$4:$B$353)))","v":" "},null,{"$f":"IF(AE42=0,\" \",IF(OR(AE42<1,AE42>350),\" \",LOOKUP(AE42,waarden!$A$4:$A$353,waarden!$B$4:$B$353)))","v":" "},null,{"$f":"IF(AG42=0,\" \",IF(OR(AG42<1,AG42>350),\" \",LOOKUP(AG42,waarden!$A$4:$A$353,waarden!$B$4:$B$353)))","v":" "},null,{"$f":"IF(AI42=0,\" \",IF(OR(AI42<1,AI42>350),\" \",LOOKUP(AI42,waarden!$A$4:$A$353,waarden!$B$4:$B$353)))","v":" "},null,{"$f":"IF(AK42=0,\" \",IF(OR(AK42<1,AK42>350),\" \",LOOKUP(AK42,waarden!$A$4:$A$353,waarden!$B$4:$B$353)))","v":" "},null,{"$f":"IF(AM42=0,\" \",IF(OR(AM42<1,AM42>350),\" \",LOOKUP(AM42,waarden!$A$4:$A$353,waarden!$B$4:$B$353)))","v":" "},null,{"$f":"IF(AO42=0,\" \",IF(OR(AO42<1,AO42>350),\" \",LOOKUP(AO42,waarden!$A$4:$A$353,waarden!$B$4:$B$353)))","v":" "},null,{"$f":"IF(AQ42=0,\" \",IF(OR(AQ42<1,AQ42>350),\" \",LOOKUP(AQ42,waarden!$A$4:$A$353,waarden!$B$4:$B$353)))","v":" "},null,{"$f":"IF(AS42=0,\" \",IF(OR(AS42<1,AS42>350),\" \",LOOKUP(AS42,waarden!$A$4:$A$353,waarden!$B$4:$B$353)))","v":" "},null,{"$f":"IF(AU42=0,\" \",IF(OR(AU42<1,AU42>350),\" \",LOOKUP(AU42,waarden!$A$4:$A$353,waarden!$B$4:$B$353)))","v":" "},null,{"$f":"IF(AW42=0,\" \",IF(OR(AW42<1,AW42>350),\" \",LOOKUP(AW42,waarden!$A$4:$A$353,waarden!$B$4:$B$353)))","v":" "},null,{"$f":"IF(AY42=0,\" \",IF(OR(AY42<1,AY42>350),\" \",LOOKUP(AY42,waarden!$A$4:$A$353,waarden!$B$4:$B$353)))","v":" "},null,{"$f":"IF(BA42=0,\" \",IF(OR(BA42<1,BA42>350),\" \",LOOKUP(BA42,waarden!$A$4:$A$353,waarden!$B$4:$B$353)))","v":" "},null,{"$f":"IF(BC42=0,\" \",IF(OR(BC42<1,BC42>350),\" \",LOOKUP(BC42,waarden!$A$4:$A$353,waarden!$B$4:$B$353)))","v":" "},null,{"$f":"IF(BE42=0,\" \",IF(OR(BE42<1,BE42>350),\" \",LOOKUP(BE42,waarden!$A$4:$A$353,waarden!$B$4:$B$353)))","v":" "},null,{"$f":"IF(BG42=0,\" \",IF(OR(BG42<1,BG42>350),\" \",LOOKUP(BG42,waarden!$A$4:$A$353,waarden!$B$4:$B$353)))","v":" "},null,{"$f":"IF(BI42=0,\" \",IF(OR(BI42<1,BI42>350),\" \",LOOKUP(BI42,waarden!$A$4:$A$353,waarden!$B$4:$B$353)))","v":" "},null,{"$f":"IF(BK42=0,\" \",IF(OR(BK42<1,BK42>350),\" \",LOOKUP(BK42,waarden!$A$4:$A$353,waarden!$B$4:$B$353)))","v":" "},null,{"$f":"IF(BM42=0,\" \",IF(OR(BM42<1,BM42>350),\" \",LOOKUP(BM42,waarden!$A$4:$A$353,waarden!$B$4:$B$353)))","v":" "},0,0]
[null,null,null,"Chauffeur personeel",null,{"$f":"IF(E43=0,\" \",IF(OR(E43<1,E43>350),\" \",LOOKUP(E43,waarden!$G$4:$G$353,waarden!$H$4:$H$353)))","v":" "},null,{"$f":"IF(G43=0,\" \",IF(OR(G43<1,G43>350),\" \",LOOKUP(G43,waarden!$G$4:$G$353,waarden!$H$4:$H$353)))","v":" "},null,{"$f":"IF(I43=0,\" \",IF(OR(I43<1,I43>350),\" \",LOOKUP(I43,waarden!$G$4:$G$353,waarden!$H$4:$H$353)))","v":" "},null,{"$f":"IF(K43=0,\" \",IF(OR(K43<1,K43>350),\" \",LOOKUP(K43,waarden!$G$4:$G$353,waarden!$H$4:$H$353)))","v":" "},null,{"$f":"IF(M43=0,\" \",IF(OR(M43<1,M43>350),\" \",LOOKUP(M43,waarden!$G$4:$G$353,waarden!$H$4:$H$353)))","v":" "},null,{"$f":"IF(O43=0,\" \",IF(OR(O43<1,O43>350),\" \",LOOKUP(O43,waarden!$G$4:$G$353,waarden!$H$4:$H$353)))","v":" "},null,{"$f":"IF(Q43=0,\" \",IF(OR(Q43<1,Q43>350),\" \",LOOKUP(Q43,waarden!$G$4:$G$353,waarden!$H$4:$H$353)))","v":" "},null,{"$f":"IF(S43=0,\" \",IF(OR(S43<1,S43>350),\" \",LOOKUP(S43,waarden!$G$4:$G$353,waarden!$H$4:$H$353)))","v":" "},null,{"$f":"IF(U43=0,\" \",IF(OR(U43<1,U43>350),\" \",LOOKUP(U43,waarden!$G$4:$G$353,waarden!$H$4:$H$353)))","v":" "},null,{"$f":"IF(W43=0,\" \",IF(OR(W43<1,W43>350),\" \",LOOKUP(W43,waarden!$G$4:$G$353,waarden!$H$4:$H$353)))","v":" "},null,{"$f":"IF(Y43=0,\" \",IF(OR(Y43<1,Y43>350),\" \",LOOKUP(Y43,waarden!$G$4:$G$353,waarden!$H$4:$H$353)))","v":" "},null,{"$f":"IF(AA43=0,\" \",IF(OR(AA43<1,AA43>350),\" \",LOOKUP(AA43,waarden!$G$4:$G$353,waarden!$H$4:$H$353)))","v":" "},null,{"$f":"IF(AC43=0,\" \",IF(OR(AC43<1,AC43>350),\" \",LOOKUP(AC43,waarden!$G$4:$G$353,waarden!$H$4:$H$353)))","v":" "},null,{"$f":"IF(AE43=0,\" \",IF(OR(AE43<1,AE43>350),\" \",LOOKUP(AE43,waarden!$G$4:$G$353,waarden!$H$4:$H$353)))","v":" "},null,{"$f":"IF(AG43=0,\" \",IF(OR(AG43<1,AG43>350),\" \",LOOKUP(AG43,waarden!$G$4:$G$353,waarden!$H$4:$H$353)))","v":" "},null,{"$f":"IF(AI43=0,\" \",IF(OR(AI43<1,AI43>350),\" \",LOOKUP(AI43,waarden!$G$4:$G$353,waarden!$H$4:$H$353)))","v":" "},null,{"$f":"IF(AK43=0,\" \",IF(OR(AK43<1,AK43>350),\" \",LOOKUP(AK43,waarden!$G$4:$G$353,waarden!$H$4:$H$353)))","v":" "},null,{"$f":"IF(AM43=0,\" \",IF(OR(AM43<1,AM43>350),\" \",LOOKUP(AM43,waarden!$G$4:$G$353,waarden!$H$4:$H$353)))","v":" "},null,{"$f":"IF(AO43=0,\" \",IF(OR(AO43<1,AO43>350),\" \",LOOKUP(AO43,waarden!$G$4:$G$353,waarden!$H$4:$H$353)))","v":" "},null,{"$f":"IF(AQ43=0,\" \",IF(OR(AQ43<1,AQ43>350),\" \",LOOKUP(AQ43,waarden!$G$4:$G$353,waarden!$H$4:$H$353)))","v":" "},null,{"$f":"IF(AS43=0,\" \",IF(OR(AS43<1,AS43>350),\" \",LOOKUP(AS43,waarden!$G$4:$G$353,waarden!$H$4:$H$353)))","v":" "},null,{"$f":"IF(AU43=0,\" \",IF(OR(AU43<1,AU43>350),\" \",LOOKUP(AU43,waarden!$G$4:$G$353,waarden!$H$4:$H$353)))","v":" "},null,{"$f":"IF(AW43=0,\" \",IF(OR(AW43<1,AW43>350),\" \",LOOKUP(AW43,waarden!$G$4:$G$353,waarden!$H$4:$H$353)))","v":" "},null,{"$f":"IF(AY43=0,\" \",IF(OR(AY43<1,AY43>350),\" \",LOOKUP(AY43,waarden!$G$4:$G$353,waarden!$H$4:$H$353)))","v":" "},null,{"$f":"IF(BA43=0,\" \",IF(OR(BA43<1,BA43>350),\" \",LOOKUP(BA43,waarden!$G$4:$G$353,waarden!$H$4:$H$353)))","v":" "},null,{"$f":"IF(BC43=0,\" \",IF(OR(BC43<1,BC43>350),\" \",LOOKUP(BC43,waarden!$G$4:$G$353,waarden!$H$4:$H$353)))","v":" "},null,{"$f":"IF(BE43=0,\" \",IF(OR(BE43<1,BE43>350),\" \",LOOKUP(BE43,waarden!$G$4:$G$353,waarden!$H$4:$H$353)))","v":" "},null,{"$f":"IF(BG43=0,\" \",IF(OR(BG43<1,BG43>350),\" \",LOOKUP(BG43,waarden!$G$4:$G$353,waarden!$H$4:$H$353)))","v":" "},null,{"$f":"IF(BI43=0,\" \",IF(OR(BI43<1,BI43>350),\" \",LOOKUP(BI43,waarden!$G$4:$G$353,waarden!$H$4:$H$353)))","v":" "},null,{"$f":"IF(BK43=0,\" \",IF(OR(BK43<1,BK43>350),\" \",LOOKUP(BK43,waarden!$G$4:$G$353,waarden!$H$4:$H$353)))","v":" "},null,{"$f":"IF(BM43=0,\" \",IF(OR(BM43<1,BM43>350),\" \",LOOKUP(BM43,waarden!$G$4:$G$353,waarden!$H$4:$H$353)))","v":" "},0,{"$f":"SUM(F43,H43,J43,L43,N43,P43,R43,T43,V43,X43,Z43,AB43,AD43,AF43,AH43,AJ43,AL43,AN43,AP43,AR43,AT43,AV43,AX43,AZ43,BB43,BD43,BF43,BH43,BJ43,BL43,BN43)","v":0}]
[null,null,null,"Chauffeur alleen",null,{"$f":"IF(E44=0,\" \",IF(OR(E44<1,E44>350),\" \",LOOKUP(E44,waarden!$D$4:$D$353,waarden!$E$4:$E$353)))","v":" "},null,{"$f":"IF(G44=0,\" \",IF(OR(G44<1,G44>350),\" \",LOOKUP(G44,waarden!$D$4:$D$353,waarden!$E$4:$E$353)))","v":" "},null,{"$f":"IF(I44=0,\" \",IF(OR(I44<1,I44>350),\" \",LOOKUP(I44,waarden!$D$4:$D$353,waarden!$E$4:$E$353)))","v":" "},null,{"$f":"IF(K44=0,\" \",IF(OR(K44<1,K44>350),\" \",LOOKUP(K44,waarden!$D$4:$D$353,waarden!$E$4:$E$353)))","v":" "},null,{"$f":"IF(M44=0,\" \",IF(OR(M44<1,M44>350),\" \",LOOKUP(M44,waarden!$D$4:$D$353,waarden!$E$4:$E$353)))","v":" "},null,{"$f":"IF(O44=0,\" \",IF(OR(O44<1,O44>350),\" \",LOOKUP(O44,waarden!$D$4:$D$353,waarden!$E$4:$E$353)))","v":" "},null,{"$f":"IF(Q44=0,\" \",IF(OR(Q44<1,Q44>350),\" \",LOOKUP(Q44,waarden!$D$4:$D$353,waarden!$E$4:$E$353)))","v":" "},null,{"$f":"IF(S44=0,\" \",IF(OR(S44<1,S44>350),\" \",LOOKUP(S44,waarden!$D$4:$D$353,waarden!$E$4:$E$353)))","v":" "},null,{"$f":"IF(U44=0,\" \",IF(OR(U44<1,U44>350),\" \",LOOKUP(U44,waarden!$D$4:$D$353,waarden!$E$4:$E$353)))","v":" "},null,{"$f":"IF(W44=0,\" \",IF(OR(W44<1,W44>350),\" \",LOOKUP(W44,waarden!$D$4:$D$353,waarden!$E$4:$E$353)))","v":" "},null,{"$f":"IF(Y44=0,\" \",IF(OR(Y44<1,Y44>350),\" \",LOOKUP(Y44,waarden!$D$4:$D$353,waarden!$E$4:$E$353)))","v":" "},null,{"$f":"IF(AA44=0,\" \",IF(OR(AA44<1,AA44>350),\" \",LOOKUP(AA44,waarden!$D$4:$D$353,waarden!$E$4:$E$353)))","v":" "},null,{"$f":"IF(AC44=0,\" \",IF(OR(AC44<1,AC44>350),\" \",LOOKUP(AC44,waarden!$D$4:$D$353,waarden!$E$4:$E$353)))","v":" "},null,{"$f":"IF(AE44=0,\" \",IF(OR(AE44<1,AE44>350),\" \",LOOKUP(AE44,waarden!$D$4:$D$353,waarden!$E$4:$E$353)))","v":" "},null,{"$f":"IF(AG44=0,\" \",IF(OR(AG44<1,AG44>350),\" \",LOOKUP(AG44,waarden!$D$4:$D$353,waarden!$E$4:$E$353)))","v":" "},null,{"$f":"IF(AI44=0,\" \",IF(OR(AI44<1,AI44>350),\" \",LOOKUP(AI44,waarden!$D$4:$D$353,waarden!$E$4:$E$353)))","v":" "},null,{"$f":"IF(AK44=0,\" \",IF(OR(AK44<1,AK44>350),\" \",LOOKUP(AK44,waarden!$D$4:$D$353,waarden!$E$4:$E$353)))","v":" "},null,{"$f":"IF(AM44=0,\" \",IF(OR(AM44<1,AM44>350),\" \",LOOKUP(AM44,waarden!$D$4:$D$353,waarden!$E$4:$E$353)))","v":" "},null,{"$f":"IF(AO44=0,\" \",IF(OR(AO44<1,AO44>350),\" \",LOOKUP(AO44,waarden!$D$4:$D$353,waarden!$E$4:$E$353)))","v":" "},null,{"$f":"IF(AQ44=0,\" \",IF(OR(AQ44<1,AQ44>350),\" \",LOOKUP(AQ44,waarden!$D$4:$D$353,waarden!$E$4:$E$353)))","v":" "},null,{"$f":"IF(AS44=0,\" \",IF(OR(AS44<1,AS44>350),\" \",LOOKUP(AS44,waarden!$D$4:$D$353,waarden!$E$4:$E$353)))","v":" "},null,{"$f":"IF(AU44=0,\" \",IF(OR(AU44<1,AU44>350),\" \",LOOKUP(AU44,waarden!$D$4:$D$353,waarden!$E$4:$E$353)))","v":" "},null,{"$f":"IF(AW44=0,\" \",IF(OR(AW44<1,AW44>350),\" \",LOOKUP(AW44,waarden!$D$4:$D$353,waarden!$E$4:$E$353)))","v":" "},null,{"$f":"IF(AY44=0,\" \",IF(OR(AY44<1,AY44>350),\" \",LOOKUP(AY44,waarden!$D$4:$D$353,waarden!$E$4:$E$353)))","v":" "},null,{"$f":"IF(BA44=0,\" \",IF(OR(BA44<1,BA44>350),\" \",LOOKUP(BA44,waarden!$D$4:$D$353,waarden!$E$4:$E$353)))","v":" "},null,{"$f":"IF(BC44=0,\" \",IF(OR(BC44<1,BC44>350),\" \",LOOKUP(BC44,waarden!$D$4:$D$353,waarden!$E$4:$E$353)))","v":" "},null,{"$f":"IF(BE44=0,\" \",IF(OR(BE44<1,BE44>350),\" \",LOOKUP(BE44,waarden!$D$4:$D$353,waarden!$E$4:$E$353)))","v":" "},null,{"$f":"IF(BG44=0,\" \",IF(OR(BG44<1,BG44>350),\" \",LOOKUP(BG44,waarden!$D$4:$D$353,waarden!$E$4:$E$353)))","v":" "},null,{"$f":"IF(BI44=0,\" \",IF(OR(BI44<1,BI44>350),\" \",LOOKUP(BI44,waarden!$D$4:$D$353,waarden!$E$4:$E$353)))","v":" "},null,{"$f":"IF(BK44=0,\" \",IF(OR(BK44<1,BK44>350),\" \",LOOKUP(BK44,waarden!$D$4:$D$353,waarden!$E$4:$E$353)))","v":" "},null,{"$f":"IF(BM44=0,\" \",IF(OR(BM44<1,BM44>350),\" \",LOOKUP(BM44,waarden!$D$4:$D$353,waarden!$E$4:$E$353)))","v":" "},0,0]
[null,null,null,"Passagier",null,{"$f":"IF(E45=0,\" \",IF(OR(E45<1,E45>350),\" \",LOOKUP(E45,waarden!$A$4:$A$353,waarden!$B$4:$B$353)))","v":" "},null,{"$f":"IF(G45=0,\" \",IF(OR(G45<1,G45>350),\" \",LOOKUP(G45,waarden!$A$4:$A$353,waarden!$B$4:$B$353)))","v":" "},null,{"$f":"IF(I45=0,\" \",IF(OR(I45<1,I45>350),\" \",LOOKUP(I45,waarden!$A$4:$A$353,waarden!$B$4:$B$353)))","v":" "},null,{"$f":"IF(K45=0,\" \",IF(OR(K45<1,K45>350),\" \",LOOKUP(K45,waarden!$A$4:$A$353,waarden!$B$4:$B$353)))","v":" "},null,{"$f":"IF(M45=0,\" \",IF(OR(M45<1,M45>350),\" \",LOOKUP(M45,waarden!$A$4:$A$353,waarden!$B$4:$B$353)))","v":" "},null,{"$f":"IF(O45=0,\" \",IF(OR(O45<1,O45>350),\" \",LOOKUP(O45,waarden!$A$4:$A$353,waarden!$B$4:$B$353)))","v":" "},null,{"$f":"IF(Q45=0,\" \",IF(OR(Q45<1,Q45>350),\" \",LOOKUP(Q45,waarden!$A$4:$A$353,waarden!$B$4:$B$353)))","v":" "},null,{"$f":"IF(S45=0,\" \",IF(OR(S45<1,S45>350),\" \",LOOKUP(S45,waarden!$A$4:$A$353,waarden!$B$4:$B$353)))","v":" "},null,{"$f":"IF(U45=0,\" \",IF(OR(U45<1,U45>350),\" \",LOOKUP(U45,waarden!$A$4:$A$353,waarden!$B$4:$B$353)))","v":" "},null,{"$f":"IF(W45=0,\" \",IF(OR(W45<1,W45>350),\" \",LOOKUP(W45,waarden!$A$4:$A$353,waarden!$B$4:$B$353)))","v":" "},null,{"$f":"IF(Y45=0,\" \",IF(OR(Y45<1,Y45>350),\" \",LOOKUP(Y45,waarden!$A$4:$A$353,waarden!$B$4:$B$353)))","v":" "},null,{"$f":"IF(AA45=0,\" \",IF(OR(AA45<1,AA45>350),\" \",LOOKUP(AA45,waarden!$A$4:$A$353,waarden!$B$4:$B$353)))","v":" "},null,{"$f":"IF(AC45=0,\" \",IF(OR(AC45<1,AC45>350),\" \",LOOKUP(AC45,waarden!$A$4:$A$353,waarden!$B$4:$B$353)))","v":" "},null,{"$f":"IF(AE45=0,\" \",IF(OR(AE45<1,AE45>350),\" \",LOOKUP(AE45,waarden!$A$4:$A$353,waarden!$B$4:$B$353)))","v":" "},null,{"$f":"IF(AG45=0,\" \",IF(OR(AG45<1,AG45>350),\" \",LOOKUP(AG45,waarden!$A$4:$A$353,waarden!$B$4:$B$353)))","v":" "},null,{"$f":"IF(AI45=0,\" \",IF(OR(AI45<1,AI45>350),\" \",LOOKUP(AI45,waarden!$A$4:$A$353,waarden!$B$4:$B$353)))","v":" "},null,{"$f":"IF(AK45=0,\" \",IF(OR(AK45<1,AK45>350),\" \",LOOKUP(AK45,waarden!$A$4:$A$353,waarden!$B$4:$B$353)))","v":" "},null,{"$f":"IF(AM45=0,\" \",IF(OR(AM45<1,AM45>350),\" \",LOOKUP(AM45,waarden!$A$4:$A$353,waarden!$B$4:$B$353)))","v":" "},null,{"$f":"IF(AO45=0,\" \",IF(OR(AO45<1,AO45>350),\" \",LOOKUP(AO45,waarden!$A$4:$A$353,waarden!$B$4:$B$353)))","v":" "},null,{"$f":"IF(AQ45=0,\" \",IF(OR(AQ45<1,AQ45>350),\" \",LOOKUP(AQ45,waarden!$A$4:$A$353,waarden!$B$4:$B$353)))","v":" "},null,{"$f":"IF(AS45=0,\" \",IF(OR(AS45<1,AS45>350),\" \",LOOKUP(AS45,waarden!$A$4:$A$353,waarden!$B$4:$B$353)))","v":" "},null,{"$f":"IF(AU45=0,\" \",IF(OR(AU45<1,AU45>350),\" \",LOOKUP(AU45,waarden!$A$4:$A$353,waarden!$B$4:$B$353)))","v":" "},null,{"$f":"IF(AW45=0,\" \",IF(OR(AW45<1,AW45>350),\" \",LOOKUP(AW45,waarden!$A$4:$A$353,waarden!$B$4:$B$353)))","v":" "},null,{"$f":"IF(AY45=0,\" \",IF(OR(AY45<1,AY45>350),\" \",LOOKUP(AY45,waarden!$A$4:$A$353,waarden!$B$4:$B$353)))","v":" "},null,{"$f":"IF(BA45=0,\" \",IF(OR(BA45<1,BA45>350),\" \",LOOKUP(BA45,waarden!$A$4:$A$353,waarden!$B$4:$B$353)))","v":" "},null,{"$f":"IF(BC45=0,\" \",IF(OR(BC45<1,BC45>350),\" \",LOOKUP(BC45,waarden!$A$4:$A$353,waarden!$B$4:$B$353)))","v":" "},null,{"$f":"IF(BE45=0,\" \",IF(OR(BE45<1,BE45>350),\" \",LOOKUP(BE45,waarden!$A$4:$A$353,waarden!$B$4:$B$353)))","v":" "},null,{"$f":"IF(BG45=0,\" \",IF(OR(BG45<1,BG45>350),\" \",LOOKUP(BG45,waarden!$A$4:$A$353,waarden!$B$4:$B$353)))","v":" "},null,{"$f":"IF(BI45=0,\" \",IF(OR(BI45<1,BI45>350),\" \",LOOKUP(BI45,waarden!$A$4:$A$353,waarden!$B$4:$B$353)))","v":" "},null,{"$f":"IF(BK45=0,\" \",IF(OR(BK45<1,BK45>350),\" \",LOOKUP(BK45,waarden!$A$4:$A$353,waarden!$B$4:$B$353)))","v":" "},null,{"$f":"IF(BM45=0,\" \",IF(OR(BM45<1,BM45>350),\" \",LOOKUP(BM45,waarden!$A$4:$A$353,waarden!$B$4:$B$353)))","v":" "},0,0]
[null,null,null,"Chauffeur personeel",null,{"$f":"IF(E46=0,\" \",IF(OR(E46<1,E46>350),\" \",LOOKUP(E46,waarden!$G$4:$G$353,waarden!$H$4:$H$353)))","v":" "},null,{"$f":"IF(G46=0,\" \",IF(OR(G46<1,G46>350),\" \",LOOKUP(G46,waarden!$G$4:$G$353,waarden!$H$4:$H$353)))","v":" "},null,{"$f":"IF(I46=0,\" \",IF(OR(I46<1,I46>350),\" \",LOOKUP(I46,waarden!$G$4:$G$353,waarden!$H$4:$H$353)))","v":" "},null,{"$f":"IF(K46=0,\" \",IF(OR(K46<1,K46>350),\" \",LOOKUP(K46,waarden!$G$4:$G$353,waarden!$H$4:$H$353)))","v":" "},null,{"$f":"IF(M46=0,\" \",IF(OR(M46<1,M46>350),\" \",LOOKUP(M46,waarden!$G$4:$G$353,waarden!$H$4:$H$353)))","v":" "},null,{"$f":"IF(O46=0,\" \",IF(OR(O46<1,O46>350),\" \",LOOKUP(O46,waarden!$G$4:$G$353,waarden!$H$4:$H$353)))","v":" "},null,{"$f":"IF(Q46=0,\" \",IF(OR(Q46<1,Q46>350),\" \",LOOKUP(Q46,waarden!$G$4:$G$353,waarden!$H$4:$H$353)))","v":" "},null,{"$f":"IF(S46=0,\" \",IF(OR(S46<1,S46>350),\" \",LOOKUP(S46,waarden!$G$4:$G$353,waarden!$H$4:$H$353)))","v":" "},null,{"$f":"IF(U46=0,\" \",IF(OR(U46<1,U46>350),\" \",LOOKUP(U46,waarden!$G$4:$G$353,waarden!$H$4:$H$353)))","v":" "},null,{"$f":"IF(W46=0,\" \",IF(OR(W46<1,W46>350),\" \",LOOKUP(W46,waarden!$G$4:$G$353,waarden!$H$4:$H$353)))","v":" "},null,{"$f":"IF(Y46=0,\" \",IF(OR(Y46<1,Y46>350),\" \",LOOKUP(Y46,waarden!$G$4:$G$353,waarden!$H$4:$H$353)))","v":" "},null,{"$f":"IF(AA46=0,\" \",IF(OR(AA46<1,AA46>350),\" \",LOOKUP(AA46,waarden!$G$4:$G$353,waarden!$H$4:$H$353)))","v":" "},null,{"$f":"IF(AC46=0,\" \",IF(OR(AC46<1,AC46>350),\" \",LOOKUP(AC46,waarden!$G$4:$G$353,waarden!$H$4:$H$353)))","v":" "},null,{"$f":"IF(AE46=0,\" \",IF(OR(AE46<1,AE46>350),\" \",LOOKUP(AE46,waarden!$G$4:$G$353,waarden!$H$4:$H$353)))","v":" "},null,{"$f":"IF(AG46=0,\" \",IF(OR(AG46<1,AG46>350),\" \",LOOKUP(AG46,waarden!$G$4:$G$353,waarden!$H$4:$H$353)))","v":" "},null,{"$f":"IF(AI46=0,\" \",IF(OR(AI46<1,AI46>350),\" \",LOOKUP(AI46,waarden!$G$4:$G$353,waarden!$H$4:$H$353)))","v":" "},null,{"$f":"IF(AK46=0,\" \",IF(OR(AK46<1,AK46>350),\" \",LOOKUP(AK46,waarden!$G$4:$G$353,waarden!$H$4:$H$353)))","v":" "},null,{"$f":"IF(AM46=0,\" \",IF(OR(AM46<1,AM46>350),\" \",LOOKUP(AM46,waarden!$G$4:$G$353,waarden!$H$4:$H$353)))","v":" "},null,{"$f":"IF(AO46=0,\" \",IF(OR(AO46<1,AO46>350),\" \",LOOKUP(AO46,waarden!$G$4:$G$353,waarden!$H$4:$H$353)))","v":" "},null,{"$f":"IF(AQ46=0,\" \",IF(OR(AQ46<1,AQ46>350),\" \",LOOKUP(AQ46,waarden!$G$4:$G$353,waarden!$H$4:$H$353)))","v":" "},null,{"$f":"IF(AS46=0,\" \",IF(OR(AS46<1,AS46>350),\" \",LOOKUP(AS46,waarden!$G$4:$G$353,waarden!$H$4:$H$353)))","v":" "},null,{"$f":"IF(AU46=0,\" \",IF(OR(AU46<1,AU46>350),\" \",LOOKUP(AU46,waarden!$G$4:$G$353,waarden!$H$4:$H$353)))","v":" "},null,{"$f":"IF(AW46=0,\" \",IF(OR(AW46<1,AW46>350),\" \",LOOKUP(AW46,waarden!$G$4:$G$353,waarden!$H$4:$H$353)))","v":" "},null,{"$f":"IF(AY46=0,\" \",IF(OR(AY46<1,AY46>350),\" \",LOOKUP(AY46,waarden!$G$4:$G$353,waarden!$H$4:$H$353)))","v":" "},null,{"$f":"IF(BA46=0,\" \",IF(OR(BA46<1,BA46>350),\" \",LOOKUP(BA46,waarden!$G$4:$G$353,waarden!$H$4:$H$353)))","v":" "},null,{"$f":"IF(BC46=0,\" \",IF(OR(BC46<1,BC46>350),\" \",LOOKUP(BC46,waarden!$G$4:$G$353,waarden!$H$4:$H$353)))","v":" "},null,{"$f":"IF(BE46=0,\" \",IF(OR(BE46<1,BE46>350),\" \",LOOKUP(BE46,waarden!$G$4:$G$353,waarden!$H$4:$H$353)))","v":" "},null,{"$f":"IF(BG46=0,\" \",IF(OR(BG46<1,BG46>350),\" \",LOOKUP(BG46,waarden!$G$4:$G$353,waarden!$H$4:$H$353)))","v":" "},null,{"$f":"IF(BI46=0,\" \",IF(OR(BI46<1,BI46>350),\" \",LOOKUP(BI46,waarden!$G$4:$G$353,waarden!$H$4:$H$353)))","v":" "},null,{"$f":"IF(BK46=0,\" \",IF(OR(BK46<1,BK46>350),\" \",LOOKUP(BK46,waarden!$G$4:$G$353,waarden!$H$4:$H$353)))","v":" "},null,{"$f":"IF(BM46=0,\" \",IF(OR(BM46<1,BM46>350),\" \",LOOKUP(BM46,waarden!$G$4:$G$353,waarden!$H$4:$H$353)))","v":" "},0,{"$f":"SUM(F46,H46,J46,L46,N46,P46,R46,T46,V46,X46,Z46,AB46,AD46,AF46,AH46,AJ46,AL46,AN46,AP46,AR46,AT46,AV46,AX46,AZ46,BB46,BD46,BF46,BH46,BJ46,BL46,BN46)","v":0}]
[null,null,null,"Chauffeur alleen",null,{"$f":"IF(E47=0,\" \",IF(OR(E47<1,E47>350),\" \",LOOKUP(E47,waarden!$D$4:$D$353,waarden!$E$4:$E$353)))","v":" "},null,{"$f":"IF(G47=0,\" \",IF(OR(G47<1,G47>350),\" \",LOOKUP(G47,waarden!$D$4:$D$353,waarden!$E$4:$E$353)))","v":" "},null,{"$f":"IF(I47=0,\" \",IF(OR(I47<1,I47>350),\" \",LOOKUP(I47,waarden!$D$4:$D$353,waarden!$E$4:$E$353)))","v":" "},null,{"$f":"IF(K47=0,\" \",IF(OR(K47<1,K47>350),\" \",LOOKUP(K47,waarden!$D$4:$D$353,waarden!$E$4:$E$353)))","v":" "},null,{"$f":"IF(M47=0,\" \",IF(OR(M47<1,M47>350),\" \",LOOKUP(M47,waarden!$D$4:$D$353,waarden!$E$4:$E$353)))","v":" "},null,{"$f":"IF(O47=0,\" \",IF(OR(O47<1,O47>350),\" \",LOOKUP(O47,waarden!$D$4:$D$353,waarden!$E$4:$E$353)))","v":" "},null,{"$f":"IF(Q47=0,\" \",IF(OR(Q47<1,Q47>350),\" \",LOOKUP(Q47,waarden!$D$4:$D$353,waarden!$E$4:$E$353)))","v":" "},null,{"$f":"IF(S47=0,\" \",IF(OR(S47<1,S47>350),\" \",LOOKUP(S47,waarden!$D$4:$D$353,waarden!$E$4:$E$353)))","v":" "},null,{"$f":"IF(U47=0,\" \",IF(OR(U47<1,U47>350),\" \",LOOKUP(U47,waarden!$D$4:$D$353,waarden!$E$4:$E$353)))","v":" "},null,{"$f":"IF(W47=0,\" \",IF(OR(W47<1,W47>350),\" \",LOOKUP(W47,waarden!$D$4:$D$353,waarden!$E$4:$E$353)))","v":" "},null,{"$f":"IF(Y47=0,\" \",IF(OR(Y47<1,Y47>350),\" \",LOOKUP(Y47,waarden!$D$4:$D$353,waarden!$E$4:$E$353)))","v":" "},null,{"$f":"IF(AA47=0,\" \",IF(OR(AA47<1,AA47>350),\" \",LOOKUP(AA47,waarden!$D$4:$D$353,waarden!$E$4:$E$353)))","v":" "},null,{"$f":"IF(AC47=0,\" \",IF(OR(AC47<1,AC47>350),\" \",LOOKUP(AC47,waarden!$D$4:$D$353,waarden!$E$4:$E$353)))","v":" "},null,{"$f":"IF(AE47=0,\" \",IF(OR(AE47<1,AE47>350),\" \",LOOKUP(AE47,waarden!$D$4:$D$353,waarden!$E$4:$E$353)))","v":" "},null,{"$f":"IF(AG47=0,\" \",IF(OR(AG47<1,AG47>350),\" \",LOOKUP(AG47,waarden!$D$4:$D$353,waarden!$E$4:$E$353)))","v":" "},null,{"$f":"IF(AI47=0,\" \",IF(OR(AI47<1,AI47>350),\" \",LOOKUP(AI47,waarden!$D$4:$D$353,waarden!$E$4:$E$353)))","v":" "},null,{"$f":"IF(AK47=0,\" \",IF(OR(AK47<1,AK47>350),\" \",LOOKUP(AK47,waarden!$D$4:$D$353,waarden!$E$4:$E$353)))","v":" "},null,{"$f":"IF(AM47=0,\" \",IF(OR(AM47<1,AM47>350),\" \",LOOKUP(AM47,waarden!$D$4:$D$353,waarden!$E$4:$E$353)))","v":" "},null,{"$f":"IF(AO47=0,\" \",IF(OR(AO47<1,AO47>350),\" \",LOOKUP(AO47,waarden!$D$4:$D$353,waarden!$E$4:$E$353)))","v":" "},null,{"$f":"IF(AQ47=0,\" \",IF(OR(AQ47<1,AQ47>350),\" \",LOOKUP(AQ47,waarden!$D$4:$D$353,waarden!$E$4:$E$353)))","v":" "},null,{"$f":"IF(AS47=0,\" \",IF(OR(AS47<1,AS47>350),\" \",LOOKUP(AS47,waarden!$D$4:$D$353,waarden!$E$4:$E$353)))","v":" "},null,{"$f":"IF(AU47=0,\" \",IF(OR(AU47<1,AU47>350),\" \",LOOKUP(AU47,waarden!$D$4:$D$353,waarden!$E$4:$E$353)))","v":" "},null,{"$f":"IF(AW47=0,\" \",IF(OR(AW47<1,AW47>350),\" \",LOOKUP(AW47,waarden!$D$4:$D$353,waarden!$E$4:$E$353)))","v":" "},null,{"$f":"IF(AY47=0,\" \",IF(OR(AY47<1,AY47>350),\" \",LOOKUP(AY47,waarden!$D$4:$D$353,waarden!$E$4:$E$353)))","v":" "},null,{"$f":"IF(BA47=0,\" \",IF(OR(BA47<1,BA47>350),\" \",LOOKUP(BA47,waarden!$D$4:$D$353,waarden!$E$4:$E$353)))","v":" "},null,{"$f":"IF(BC47=0,\" \",IF(OR(BC47<1,BC47>350),\" \",LOOKUP(BC47,waarden!$D$4:$D$353,waarden!$E$4:$E$353)))","v":" "},null,{"$f":"IF(BE47=0,\" \",IF(OR(BE47<1,BE47>350),\" \",LOOKUP(BE47,waarden!$D$4:$D$353,waarden!$E$4:$E$353)))","v":" "},null,{"$f":"IF(BG47=0,\" \",IF(OR(BG47<1,BG47>350),\" \",LOOKUP(BG47,waarden!$D$4:$D$353,waarden!$E$4:$E$353)))","v":" "},null,{"$f":"IF(BI47=0,\" \",IF(OR(BI47<1,BI47>350),\" \",LOOKUP(BI47,waarden!$D$4:$D$353,waarden!$E$4:$E$353)))","v":" "},null,{"$f":"IF(BK47=0,\" \",IF(OR(BK47<1,BK47>350),\" \",LOOKUP(BK47,waarden!$D$4:$D$353,waarden!$E$4:$E$353)))","v":" "},null,{"$f":"IF(BM47=0,\" \",IF(OR(BM47<1,BM47>350),\" \",LOOKUP(BM47,waarden!$D$4:$D$353,waarden!$E$4:$E$353)))","v":" "},0,0]
[null,null,null,"Passagier",null,{"$f":"IF(E48=0,\" \",IF(OR(E48<1,E48>350),\" \",LOOKUP(E48,waarden!$A$4:$A$353,waarden!$B$4:$B$353)))","v":" "},null,{"$f":"IF(G48=0,\" \",IF(OR(G48<1,G48>350),\" \",LOOKUP(G48,waarden!$A$4:$A$353,waarden!$B$4:$B$353)))","v":" "},null,{"$f":"IF(I48=0,\" \",IF(OR(I48<1,I48>350),\" \",LOOKUP(I48,waarden!$A$4:$A$353,waarden!$B$4:$B$353)))","v":" "},null,{"$f":"IF(K48=0,\" \",IF(OR(K48<1,K48>350),\" \",LOOKUP(K48,waarden!$A$4:$A$353,waarden!$B$4:$B$353)))","v":" "},null,{"$f":"IF(M48=0,\" \",IF(OR(M48<1,M48>350),\" \",LOOKUP(M48,waarden!$A$4:$A$353,waarden!$B$4:$B$353)))","v":" "},null,{"$f":"IF(O48=0,\" \",IF(OR(O48<1,O48>350),\" \",LOOKUP(O48,waarden!$A$4:$A$353,waarden!$B$4:$B$353)))","v":" "},null,{"$f":"IF(Q48=0,\" \",IF(OR(Q48<1,Q48>350),\" \",LOOKUP(Q48,waarden!$A$4:$A$353,waarden!$B$4:$B$353)))","v":" "},null,{"$f":"IF(S48=0,\" \",IF(OR(S48<1,S48>350),\" \",LOOKUP(S48,waarden!$A$4:$A$353,waarden!$B$4:$B$353)))","v":" "},null,{"$f":"IF(U48=0,\" \",IF(OR(U48<1,U48>350),\" \",LOOKUP(U48,waarden!$A$4:$A$353,waarden!$B$4:$B$353)))","v":" "},null,{"$f":"IF(W48=0,\" \",IF(OR(W48<1,W48>350),\" \",LOOKUP(W48,waarden!$A$4:$A$353,waarden!$B$4:$B$353)))","v":" "},null,{"$f":"IF(Y48=0,\" \",IF(OR(Y48<1,Y48>350),\" \",LOOKUP(Y48,waarden!$A$4:$A$353,waarden!$B$4:$B$353)))","v":" "},null,{"$f":"IF(AA48=0,\" \",IF(OR(AA48<1,AA48>350),\" \",LOOKUP(AA48,waarden!$A$4:$A$353,waarden!$B$4:$B$353)))","v":" "},null,{"$f":"IF(AC48=0,\" \",IF(OR(AC48<1,AC48>350),\" \",LOOKUP(AC48,waarden!$A$4:$A$353,waarden!$B$4:$B$353)))","v":" "},null,{"$f":"IF(AE48=0,\" \",IF(OR(AE48<1,AE48>350),\" \",LOOKUP(AE48,waarden!$A$4:$A$353,waarden!$B$4:$B$353)))","v":" "},null,{"$f":"IF(AG48=0,\" \",IF(OR(AG48<1,AG48>350),\" \",LOOKUP(AG48,waarden!$A$4:$A$353,waarden!$B$4:$B$353)))","v":" "},null,{"$f":"IF(AI48=0,\" \",IF(OR(AI48<1,AI48>350),\" \",LOOKUP(AI48,waarden!$A$4:$A$353,waarden!$B$4:$B$353)))","v":" "},null,{"$f":"IF(AK48=0,\" \",IF(OR(AK48<1,AK48>350),\" \",LOOKUP(AK48,waarden!$A$4:$A$353,waarden!$B$4:$B$353)))","v":" "},null,{"$f":"IF(AM48=0,\" \",IF(OR(AM48<1,AM48>350),\" \",LOOKUP(AM48,waarden!$A$4:$A$353,waarden!$B$4:$B$353)))","v":" "},null,{"$f":"IF(AO48=0,\" \",IF(OR(AO48<1,AO48>350),\" \",LOOKUP(AO48,waarden!$A$4:$A$353,waarden!$B$4:$B$353)))","v":" "},null,{"$f":"IF(AQ48=0,\" \",IF(OR(AQ48<1,AQ48>350),\" \",LOOKUP(AQ48,waarden!$A$4:$A$353,waarden!$B$4:$B$353)))","v":" "},null,{"$f":"IF(AS48=0,\" \",IF(OR(AS48<1,AS48>350),\" \",LOOKUP(AS48,waarden!$A$4:$A$353,waarden!$B$4:$B$353)))","v":" "},null,{"$f":"IF(AU48=0,\" \",IF(OR(AU48<1,AU48>350),\" \",LOOKUP(AU48,waarden!$A$4:$A$353,waarden!$B$4:$B$353)))","v":" "},null,{"$f":"IF(AW48=0,\" \",IF(OR(AW48<1,AW48>350),\" \",LOOKUP(AW48,waarden!$A$4:$A$353,waarden!$B$4:$B$353)))","v":" "},null,{"$f":"IF(AY48=0,\" \",IF(OR(AY48<1,AY48>350),\" \",LOOKUP(AY48,waarden!$A$4:$A$353,waarden!$B$4:$B$353)))","v":" "},null,{"$f":"IF(BA48=0,\" \",IF(OR(BA48<1,BA48>350),\" \",LOOKUP(BA48,waarden!$A$4:$A$353,waarden!$B$4:$B$353)))","v":" "},null,{"$f":"IF(BC48=0,\" \",IF(OR(BC48<1,BC48>350),\" \",LOOKUP(BC48,waarden!$A$4:$A$353,waarden!$B$4:$B$353)))","v":" "},null,{"$f":"IF(BE48=0,\" \",IF(OR(BE48<1,BE48>350),\" \",LOOKUP(BE48,waarden!$A$4:$A$353,waarden!$B$4:$B$353)))","v":" "},null,{"$f":"IF(BG48=0,\" \",IF(OR(BG48<1,BG48>350),\" \",LOOKUP(BG48,waarden!$A$4:$A$353,waarden!$B$4:$B$353)))","v":" "},null,{"$f":"IF(BI48=0,\" \",IF(OR(BI48<1,BI48>350),\" \",LOOKUP(BI48,waarden!$A$4:$A$353,waarden!$B$4:$B$353)))","v":" "},null,{"$f":"IF(BK48=0,\" \",IF(OR(BK48<1,BK48>350),\" \",LOOKUP(BK48,waarden!$A$4:$A$353,waarden!$B$4:$B$353)))","v":" "},null,{"$f":"IF(BM48=0,\" \",IF(OR(BM48<1,BM48>350),\" \",LOOKUP(BM48,waarden!$A$4:$A$353,waarden!$B$4:$B$353)))","v":" "},0,0]
[null,null,null,"Chauffeur personeel",null,{"$f":"IF(E49=0,\" \",IF(OR(E49<1,E49>350),\" \",LOOKUP(E49,waarden!$G$4:$G$353,waarden!$H$4:$H$353)))","v":" "},null,{"$f":"IF(G49=0,\" \",IF(OR(G49<1,G49>350),\" \",LOOKUP(G49,waarden!$G$4:$G$353,waarden!$H$4:$H$353)))","v":" "},null,{"$f":"IF(I49=0,\" \",IF(OR(I49<1,I49>350),\" \",LOOKUP(I49,waarden!$G$4:$G$353,waarden!$H$4:$H$353)))","v":" "},null,{"$f":"IF(K49=0,\" \",IF(OR(K49<1,K49>350),\" \",LOOKUP(K49,waarden!$G$4:$G$353,waarden!$H$4:$H$353)))","v":" "},null,{"$f":"IF(M49=0,\" \",IF(OR(M49<1,M49>350),\" \",LOOKUP(M49,waarden!$G$4:$G$353,waarden!$H$4:$H$353)))","v":" "},null,{"$f":"IF(O49=0,\" \",IF(OR(O49<1,O49>350),\" \",LOOKUP(O49,waarden!$G$4:$G$353,waarden!$H$4:$H$353)))","v":" "},null,{"$f":"IF(Q49=0,\" \",IF(OR(Q49<1,Q49>350),\" \",LOOKUP(Q49,waarden!$G$4:$G$353,waarden!$H$4:$H$353)))","v":" "},null,{"$f":"IF(S49=0,\" \",IF(OR(S49<1,S49>350),\" \",LOOKUP(S49,waarden!$G$4:$G$353,waarden!$H$4:$H$353)))","v":" "},null,{"$f":"IF(U49=0,\" \",IF(OR(U49<1,U49>350),\" \",LOOKUP(U49,waarden!$G$4:$G$353,waarden!$H$4:$H$353)))","v":" "},null,{"$f":"IF(W49=0,\" \",IF(OR(W49<1,W49>350),\" \",LOOKUP(W49,waarden!$G$4:$G$353,waarden!$H$4:$H$353)))","v":" "},null,{"$f":"IF(Y49=0,\" \",IF(OR(Y49<1,Y49>350),\" \",LOOKUP(Y49,waarden!$G$4:$G$353,waarden!$H$4:$H$353)))","v":" "},null,{"$f":"IF(AA49=0,\" \",IF(OR(AA49<1,AA49>350),\" \",LOOKUP(AA49,waarden!$G$4:$G$353,waarden!$H$4:$H$353)))","v":" "},null,{"$f":"IF(AC49=0,\" \",IF(OR(AC49<1,AC49>350),\" \",LOOKUP(AC49,waarden!$G$4:$G$353,waarden!$H$4:$H$353)))","v":" "},null,{"$f":"IF(AE49=0,\" \",IF(OR(AE49<1,AE49>350),\" \",LOOKUP(AE49,waarden!$G$4:$G$353,waarden!$H$4:$H$353)))","v":" "},null,{"$f":"IF(AG49=0,\" \",IF(OR(AG49<1,AG49>350),\" \",LOOKUP(AG49,waarden!$G$4:$G$353,waarden!$H$4:$H$353)))","v":" "},null,{"$f":"IF(AI49=0,\" \",IF(OR(AI49<1,AI49>350),\" \",LOOKUP(AI49,waarden!$G$4:$G$353,waarden!$H$4:$H$353)))","v":" "},null,{"$f":"IF(AK49=0,\" \",IF(OR(AK49<1,AK49>350),\" \",LOOKUP(AK49,waarden!$G$4:$G$353,waarden!$H$4:$H$353)))","v":" "},null,{"$f":"IF(AM49=0,\" \",IF(OR(AM49<1,AM49>350),\" \",LOOKUP(AM49,waarden!$G$4:$G$353,waarden!$H$4:$H$353)))","v":" "},null,{"$f":"IF(AO49=0,\" \",IF(OR(AO49<1,AO49>350),\" \",LOOKUP(AO49,waarden!$G$4:$G$353,waarden!$H$4:$H$353)))","v":" "},null,{"$f":"IF(AQ49=0,\" \",IF(OR(AQ49<1,AQ49>350),\" \",LOOKUP(AQ49,waarden!$G$4:$G$353,waarden!$H$4:$H$353)))","v":" "},null,{"$f":"IF(AS49=0,\" \",IF(OR(AS49<1,AS49>350),\" \",LOOKUP(AS49,waarden!$G$4:$G$353,waarden!$H$4:$H$353)))","v":" "},null,{"$f":"IF(AU49=0,\" \",IF(OR(AU49<1,AU49>350),\" \",LOOKUP(AU49,waarden!$G$4:$G$353,waarden!$H$4:$H$353)))","v":" "},null,{"$f":"IF(AW49=0,\" \",IF(OR(AW49<1,AW49>350),\" \",LOOKUP(AW49,waarden!$G$4:$G$353,waarden!$H$4:$H$353)))","v":" "},null,{"$f":"IF(AY49=0,\" \",IF(OR(AY49<1,AY49>350),\" \",LOOKUP(AY49,waarden!$G$4:$G$353,waarden!$H$4:$H$353)))","v":" "},null,{"$f":"IF(BA49=0,\" \",IF(OR(BA49<1,BA49>350),\" \",LOOKUP(BA49,waarden!$G$4:$G$353,waarden!$H$4:$H$353)))","v":" "},null,{"$f":"IF(BC49=0,\" \",IF(OR(BC49<1,BC49>350),\" \",LOOKUP(BC49,waarden!$G$4:$G$353,waarden!$H$4:$H$353)))","v":" "},null,{"$f":"IF(BE49=0,\" \",IF(OR(BE49<1,BE49>350),\" \",LOOKUP(BE49,waarden!$G$4:$G$353,waarden!$H$4:$H$353)))","v":" "},null,{"$f":"IF(BG49=0,\" \",IF(OR(BG49<1,BG49>350),\" \",LOOKUP(BG49,waarden!$G$4:$G$353,waarden!$H$4:$H$353)))","v":" "},null,{"$f":"IF(BI49=0,\" \",IF(OR(BI49<1,BI49>350),\" \",LOOKUP(BI49,waarden!$G$4:$G$353,waarden!$H$4:$H$353)))","v":" "},null,{"$f":"IF(BK49=0,\" \",IF(OR(BK49<1,BK49>350),\" \",LOOKUP(BK49,waarden!$G$4:$G$353,waarden!$H$4:$H$353)))","v":" "},null,{"$f":"IF(BM49=0,\" \",IF(OR(BM49<1,BM49>350),\" \",LOOKUP(BM49,waarden!$G$4:$G$353,waarden!$H$4:$H$353)))","v":" "},0,{"$f":"SUM(F49,H49,J49,L49,N49,P49,R49,T49,V49,X49,Z49,AB49,AD49,AF49,AH49,AJ49,AL49,AN49,AP49,AR49,AT49,AV49,AX49,AZ49,BB49,BD49,BF49,BH49,BJ49,BL49,BN49)","v":0}]
[null,null,null,"Chauffeur alleen",null,{"$f":"IF(E50=0,\" \",IF(OR(E50<1,E50>350),\" \",LOOKUP(E50,waarden!$D$4:$D$353,waarden!$E$4:$E$353)))","v":" "},null,{"$f":"IF(G50=0,\" \",IF(OR(G50<1,G50>350),\" \",LOOKUP(G50,waarden!$D$4:$D$353,waarden!$E$4:$E$353)))","v":" "},null,{"$f":"IF(I50=0,\" \",IF(OR(I50<1,I50>350),\" \",LOOKUP(I50,waarden!$D$4:$D$353,waarden!$E$4:$E$353)))","v":" "},null,{"$f":"IF(K50=0,\" \",IF(OR(K50<1,K50>350),\" \",LOOKUP(K50,waarden!$D$4:$D$353,waarden!$E$4:$E$353)))","v":" "},null,{"$f":"IF(M50=0,\" \",IF(OR(M50<1,M50>350),\" \",LOOKUP(M50,waarden!$D$4:$D$353,waarden!$E$4:$E$353)))","v":" "},null,{"$f":"IF(O50=0,\" \",IF(OR(O50<1,O50>350),\" \",LOOKUP(O50,waarden!$D$4:$D$353,waarden!$E$4:$E$353)))","v":" "},null,{"$f":"IF(Q50=0,\" \",IF(OR(Q50<1,Q50>350),\" \",LOOKUP(Q50,waarden!$D$4:$D$353,waarden!$E$4:$E$353)))","v":" "},null,{"$f":"IF(S50=0,\" \",IF(OR(S50<1,S50>350),\" \",LOOKUP(S50,waarden!$D$4:$D$353,waarden!$E$4:$E$353)))","v":" "},null,{"$f":"IF(U50=0,\" \",IF(OR(U50<1,U50>350),\" \",LOOKUP(U50,waarden!$D$4:$D$353,waarden!$E$4:$E$353)))","v":" "},null,{"$f":"IF(W50=0,\" \",IF(OR(W50<1,W50>350),\" \",LOOKUP(W50,waarden!$D$4:$D$353,waarden!$E$4:$E$353)))","v":" "},null,{"$f":"IF(Y50=0,\" \",IF(OR(Y50<1,Y50>350),\" \",LOOKUP(Y50,waarden!$D$4:$D$353,waarden!$E$4:$E$353)))","v":" "},null,{"$f":"IF(AA50=0,\" \",IF(OR(AA50<1,AA50>350),\" \",LOOKUP(AA50,waarden!$D$4:$D$353,waarden!$E$4:$E$353)))","v":" "},null,{"$f":"IF(AC50=0,\" \",IF(OR(AC50<1,AC50>350),\" \",LOOKUP(AC50,waarden!$D$4:$D$353,waarden!$E$4:$E$353)))","v":" "},null,{"$f":"IF(AE50=0,\" \",IF(OR(AE50<1,AE50>350),\" \",LOOKUP(AE50,waarden!$D$4:$D$353,waarden!$E$4:$E$353)))","v":" "},null,{"$f":"IF(AG50=0,\" \",IF(OR(AG50<1,AG50>350),\" \",LOOKUP(AG50,waarden!$D$4:$D$353,waarden!$E$4:$E$353)))","v":" "},null,{"$f":"IF(AI50=0,\" \",IF(OR(AI50<1,AI50>350),\" \",LOOKUP(AI50,waarden!$D$4:$D$353,waarden!$E$4:$E$353)))","v":" "},null,{"$f":"IF(AK50=0,\" \",IF(OR(AK50<1,AK50>350),\" \",LOOKUP(AK50,waarden!$D$4:$D$353,waarden!$E$4:$E$353)))","v":" "},null,{"$f":"IF(AM50=0,\" \",IF(OR(AM50<1,AM50>350),\" \",LOOKUP(AM50,waarden!$D$4:$D$353,waarden!$E$4:$E$353)))","v":" "},null,{"$f":"IF(AO50=0,\" \",IF(OR(AO50<1,AO50>350),\" \",LOOKUP(AO50,waarden!$D$4:$D$353,waarden!$E$4:$E$353)))","v":" "},null,{"$f":"IF(AQ50=0,\" \",IF(OR(AQ50<1,AQ50>350),\" \",LOOKUP(AQ50,waarden!$D$4:$D$353,waarden!$E$4:$E$353)))","v":" "},null,{"$f":"IF(AS50=0,\" \",IF(OR(AS50<1,AS50>350),\" \",LOOKUP(AS50,waarden!$D$4:$D$353,waarden!$E$4:$E$353)))","v":" "},null,{"$f":"IF(AU50=0,\" \",IF(OR(AU50<1,AU50>350),\" \",LOOKUP(AU50,waarden!$D$4:$D$353,waarden!$E$4:$E$353)))","v":" "},null,{"$f":"IF(AW50=0,\" \",IF(OR(AW50<1,AW50>350),\" \",LOOKUP(AW50,waarden!$D$4:$D$353,waarden!$E$4:$E$353)))","v":" "},null,{"$f":"IF(AY50=0,\" \",IF(OR(AY50<1,AY50>350),\" \",LOOKUP(AY50,waarden!$D$4:$D$353,waarden!$E$4:$E$353)))","v":" "},null,{"$f":"IF(BA50=0,\" \",IF(OR(BA50<1,BA50>350),\" \",LOOKUP(BA50,waarden!$D$4:$D$353,waarden!$E$4:$E$353)))","v":" "},null,{"$f":"IF(BC50=0,\" \",IF(OR(BC50<1,BC50>350),\" \",LOOKUP(BC50,waarden!$D$4:$D$353,waarden!$E$4:$E$353)))","v":" "},null,{"$f":"IF(BE50=0,\" \",IF(OR(BE50<1,BE50>350),\" \",LOOKUP(BE50,waarden!$D$4:$D$353,waarden!$E$4:$E$353)))","v":" "},null,{"$f":"IF(BG50=0,\" \",IF(OR(BG50<1,BG50>350),\" \",LOOKUP(BG50,waarden!$D$4:$D$353,waarden!$E$4:$E$353)))","v":" "},null,{"$f":"IF(BI50=0,\" \",IF(OR(BI50<1,BI50>350),\" \",LOOKUP(BI50,waarden!$D$4:$D$353,waarden!$E$4:$E$353)))","v":" "},null,{"$f":"IF(BK50=0,\" \",IF(OR(BK50<1,BK50>350),\" \",LOOKUP(BK50,waarden!$D$4:$D$353,waarden!$E$4:$E$353)))","v":" "},null,{"$f":"IF(BM50=0,\" \",IF(OR(BM50<1,BM50>350),\" \",LOOKUP(BM50,waarden!$D$4:$D$353,waarden!$E$4:$E$353)))","v":" "},0,0]
[null,null,null,"Passagier",null,{"$f":"IF(E51=0,\" \",IF(OR(E51<1,E51>350),\" \",LOOKUP(E51,waarden!$A$4:$A$353,waarden!$B$4:$B$353)))","v":" "},null,{"$f":"IF(G51=0,\" \",IF(OR(G51<1,G51>350),\" \",LOOKUP(G51,waarden!$A$4:$A$353,waarden!$B$4:$B$353)))","v":" "},null,{"$f":"IF(I51=0,\" \",IF(OR(I51<1,I51>350),\" \",LOOKUP(I51,waarden!$A$4:$A$353,waarden!$B$4:$B$353)))","v":" "},null,{"$f":"IF(K51=0,\" \",IF(OR(K51<1,K51>350),\" \",LOOKUP(K51,waarden!$A$4:$A$353,waarden!$B$4:$B$353)))","v":" "},null,{"$f":"IF(M51=0,\" \",IF(OR(M51<1,M51>350),\" \",LOOKUP(M51,waarden!$A$4:$A$353,waarden!$B$4:$B$353)))","v":" "},null,{"$f":"IF(O51=0,\" \",IF(OR(O51<1,O51>350),\" \",LOOKUP(O51,waarden!$A$4:$A$353,waarden!$B$4:$B$353)))","v":" "},null,{"$f":"IF(Q51=0,\" \",IF(OR(Q51<1,Q51>350),\" \",LOOKUP(Q51,waarden!$A$4:$A$353,waarden!$B$4:$B$353)))","v":" "},null,{"$f":"IF(S51=0,\" \",IF(OR(S51<1,S51>350),\" \",LOOKUP(S51,waarden!$A$4:$A$353,waarden!$B$4:$B$353)))","v":" "},null,{"$f":"IF(U51=0,\" \",IF(OR(U51<1,U51>350),\" \",LOOKUP(U51,waarden!$A$4:$A$353,waarden!$B$4:$B$353)))","v":" "},null,{"$f":"IF(W51=0,\" \",IF(OR(W51<1,W51>350),\" \",LOOKUP(W51,waarden!$A$4:$A$353,waarden!$B$4:$B$353)))","v":" "},null,{"$f":"IF(Y51=0,\" \",IF(OR(Y51<1,Y51>350),\" \",LOOKUP(Y51,waarden!$A$4:$A$353,waarden!$B$4:$B$353)))","v":" "},null,{"$f":"IF(AA51=0,\" \",IF(OR(AA51<1,AA51>350),\" \",LOOKUP(AA51,waarden!$A$4:$A$353,waarden!$B$4:$B$353)))","v":" "},null,{"$f":"IF(AC51=0,\" \",IF(OR(AC51<1,AC51>350),\" \",LOOKUP(AC51,waarden!$A$4:$A$353,waarden!$B$4:$B$353)))","v":" "},null,{"$f":"IF(AE51=0,\" \",IF(OR(AE51<1,AE51>350),\" \",LOOKUP(AE51,waarden!$A$4:$A$353,waarden!$B$4:$B$353)))","v":" "},null,{"$f":"IF(AG51=0,\" \",IF(OR(AG51<1,AG51>350),\" \",LOOKUP(AG51,waarden!$A$4:$A$353,waarden!$B$4:$B$353)))","v":" "},null,{"$f":"IF(AI51=0,\" \",IF(OR(AI51<1,AI51>350),\" \",LOOKUP(AI51,waarden!$A$4:$A$353,waarden!$B$4:$B$353)))","v":" "},null,{"$f":"IF(AK51=0,\" \",IF(OR(AK51<1,AK51>350),\" \",LOOKUP(AK51,waarden!$A$4:$A$353,waarden!$B$4:$B$353)))","v":" "},null,{"$f":"IF(AM51=0,\" \",IF(OR(AM51<1,AM51>350),\" \",LOOKUP(AM51,waarden!$A$4:$A$353,waarden!$B$4:$B$353)))","v":" "},null,{"$f":"IF(AO51=0,\" \",IF(OR(AO51<1,AO51>350),\" \",LOOKUP(AO51,waarden!$A$4:$A$353,waarden!$B$4:$B$353)))","v":" "},null,{"$f":"IF(AQ51=0,\" \",IF(OR(AQ51<1,AQ51>350),\" \",LOOKUP(AQ51,waarden!$A$4:$A$353,waarden!$B$4:$B$353)))","v":" "},null,{"$f":"IF(AS51=0,\" \",IF(OR(AS51<1,AS51>350),\" \",LOOKUP(AS51,waarden!$A$4:$A$353,waarden!$B$4:$B$353)))","v":" "},null,{"$f":"IF(AU51=0,\" \",IF(OR(AU51<1,AU51>350),\" \",LOOKUP(AU51,waarden!$A$4:$A$353,waarden!$B$4:$B$353)))","v":" "},null,{"$f":"IF(AW51=0,\" \",IF(OR(AW51<1,AW51>350),\" \",LOOKUP(AW51,waarden!$A$4:$A$353,waarden!$B$4:$B$353)))","v":" "},null,{"$f":"IF(AY51=0,\" \",IF(OR(AY51<1,AY51>350),\" \",LOOKUP(AY51,waarden!$A$4:$A$353,waarden!$B$4:$B$353)))","v":" "},null,{"$f":"IF(BA51=0,\" \",IF(OR(BA51<1,BA51>350),\" \",LOOKUP(BA51,waarden!$A$4:$A$353,waarden!$B$4:$B$353)))","v":" "},null,{"$f":"IF(BC51=0,\" \",IF(OR(BC51<1,BC51>350),\" \",LOOKUP(BC51,waarden!$A$4:$A$353,waarden!$B$4:$B$353)))","v":" "},null,{"$f":"IF(BE51=0,\" \",IF(OR(BE51<1,BE51>350),\" \",LOOKUP(BE51,waarden!$A$4:$A$353,waarden!$B$4:$B$353)))","v":" "},null,{"$f":"IF(BG51=0,\" \",IF(OR(BG51<1,BG51>350),\" \",LOOKUP(BG51,waarden!$A$4:$A$353,waarden!$B$4:$B$353)))","v":" "},null,{"$f":"IF(BI51=0,\" \",IF(OR(BI51<1,BI51>350),\" \",LOOKUP(BI51,waarden!$A$4:$A$353,waarden!$B$4:$B$353)))","v":" "},null,{"$f":"IF(BK51=0,\" \",IF(OR(BK51<1,BK51>350),\" \",LOOKUP(BK51,waarden!$A$4:$A$353,waarden!$B$4:$B$353)))","v":" "},null,{"$f":"IF(BM51=0,\" \",IF(OR(BM51<1,BM51>350),\" \",LOOKUP(BM51,waarden!$A$4:$A$353,waarden!$B$4:$B$353)))","v":" "},0,0]
[null,null,null,"Chauffeur personeel",null,{"$f":"IF(E52=0,\" \",IF(OR(E52<1,E52>350),\" \",LOOKUP(E52,waarden!$G$4:$G$353,waarden!$H$4:$H$353)))","v":" "},null,{"$f":"IF(G52=0,\" \",IF(OR(G52<1,G52>350),\" \",LOOKUP(G52,waarden!$G$4:$G$353,waarden!$H$4:$H$353)))","v":" "},null,{"$f":"IF(I52=0,\" \",IF(OR(I52<1,I52>350),\" \",LOOKUP(I52,waarden!$G$4:$G$353,waarden!$H$4:$H$353)))","v":" "},null,{"$f":"IF(K52=0,\" \",IF(OR(K52<1,K52>350),\" \",LOOKUP(K52,waarden!$G$4:$G$353,waarden!$H$4:$H$353)))","v":" "},null,{"$f":"IF(M52=0,\" \",IF(OR(M52<1,M52>350),\" \",LOOKUP(M52,waarden!$G$4:$G$353,waarden!$H$4:$H$353)))","v":" "},null,{"$f":"IF(O52=0,\" \",IF(OR(O52<1,O52>350),\" \",LOOKUP(O52,waarden!$G$4:$G$353,waarden!$H$4:$H$353)))","v":" "},null,{"$f":"IF(Q52=0,\" \",IF(OR(Q52<1,Q52>350),\" \",LOOKUP(Q52,waarden!$G$4:$G$353,waarden!$H$4:$H$353)))","v":" "},null,{"$f":"IF(S52=0,\" \",IF(OR(S52<1,S52>350),\" \",LOOKUP(S52,waarden!$G$4:$G$353,waarden!$H$4:$H$353)))","v":" "},null,{"$f":"IF(U52=0,\" \",IF(OR(U52<1,U52>350),\" \",LOOKUP(U52,waarden!$G$4:$G$353,waarden!$H$4:$H$353)))","v":" "},null,{"$f":"IF(W52=0,\" \",IF(OR(W52<1,W52>350),\" \",LOOKUP(W52,waarden!$G$4:$G$353,waarden!$H$4:$H$353)))","v":" "},null,{"$f":"IF(Y52=0,\" \",IF(OR(Y52<1,Y52>350),\" \",LOOKUP(Y52,waarden!$G$4:$G$353,waarden!$H$4:$H$353)))","v":" "},null,{"$f":"IF(AA52=0,\" \",IF(OR(AA52<1,AA52>350),\" \",LOOKUP(AA52,waarden!$G$4:$G$353,waarden!$H$4:$H$353)))","v":" "},null,{"$f":"IF(AC52=0,\" \",IF(OR(AC52<1,AC52>350),\" \",LOOKUP(AC52,waarden!$G$4:$G$353,waarden!$H$4:$H$353)))","v":" "},null,{"$f":"IF(AE52=0,\" \",IF(OR(AE52<1,AE52>350),\" \",LOOKUP(AE52,waarden!$G$4:$G$353,waarden!$H$4:$H$353)))","v":" "},null,{"$f":"IF(AG52=0,\" \",IF(OR(AG52<1,AG52>350),\" \",LOOKUP(AG52,waarden!$G$4:$G$353,waarden!$H$4:$H$353)))","v":" "},null,{"$f":"IF(AI52=0,\" \",IF(OR(AI52<1,AI52>350),\" \",LOOKUP(AI52,waarden!$G$4:$G$353,waarden!$H$4:$H$353)))","v":" "},null,{"$f":"IF(AK52=0,\" \",IF(OR(AK52<1,AK52>350),\" \",LOOKUP(AK52,waarden!$G$4:$G$353,waarden!$H$4:$H$353)))","v":" "},null,{"$f":"IF(AM52=0,\" \",IF(OR(AM52<1,AM52>350),\" \",LOOKUP(AM52,waarden!$G$4:$G$353,waarden!$H$4:$H$353)))","v":" "},null,{"$f":"IF(AO52=0,\" \",IF(OR(AO52<1,AO52>350),\" \",LOOKUP(AO52,waarden!$G$4:$G$353,waarden!$H$4:$H$353)))","v":" "},null,{"$f":"IF(AQ52=0,\" \",IF(OR(AQ52<1,AQ52>350),\" \",LOOKUP(AQ52,waarden!$G$4:$G$353,waarden!$H$4:$H$353)))","v":" "},null,{"$f":"IF(AS52=0,\" \",IF(OR(AS52<1,AS52>350),\" \",LOOKUP(AS52,waarden!$G$4:$G$353,waarden!$H$4:$H$353)))","v":" "},null,{"$f":"IF(AU52=0,\" \",IF(OR(AU52<1,AU52>350),\" \",LOOKUP(AU52,waarden!$G$4:$G$353,waarden!$H$4:$H$353)))","v":" "},null,{"$f":"IF(AW52=0,\" \",IF(OR(AW52<1,AW52>350),\" \",LOOKUP(AW52,waarden!$G$4:$G$353,waarden!$H$4:$H$353)))","v":" "},null,{"$f":"IF(AY52=0,\" \",IF(OR(AY52<1,AY52>350),\" \",LOOKUP(AY52,waarden!$G$4:$G$353,waarden!$H$4:$H$353)))","v":" "},null,{"$f":"IF(BA52=0,\" \",IF(OR(BA52<1,BA52>350),\" \",LOOKUP(BA52,waarden!$G$4:$G$353,waarden!$H$4:$H$353)))","v":" "},null,{"$f":"IF(BC52=0,\" \",IF(OR(BC52<1,BC52>350),\" \",LOOKUP(BC52,waarden!$G$4:$G$353,waarden!$H$4:$H$353)))","v":" "},null,{"$f":"IF(BE52=0,\" \",IF(OR(BE52<1,BE52>350),\" \",LOOKUP(BE52,waarden!$G$4:$G$353,waarden!$H$4:$H$353)))","v":" "},null,{"$f":"IF(BG52=0,\" \",IF(OR(BG52<1,BG52>350),\" \",LOOKUP(BG52,waarden!$G$4:$G$353,waarden!$H$4:$H$353)))","v":" "},null,{"$f":"IF(BI52=0,\" \",IF(OR(BI52<1,BI52>350),\" \",LOOKUP(BI52,waarden!$G$4:$G$353,waarden!$H$4:$H$353)))","v":" "},null,{"$f":"IF(BK52=0,\" \",IF(OR(BK52<1,BK52>350),\" \",LOOKUP(BK52,waarden!$G$4:$G$353,waarden!$H$4:$H$353)))","v":" "},null,{"$f":"IF(BM52=0,\" \",IF(OR(BM52<1,BM52>350),\" \",LOOKUP(BM52,waarden!$G$4:$G$353,waarden!$H$4:$H$353)))","v":" "},0,{"$f":"SUM(F52,H52,J52,L52,N52,P52,R52,T52,V52,X52,Z52,AB52,AD52,AF52,AH52,AJ52,AL52,AN52,AP52,AR52,AT52,AV52,AX52,AZ52,BB52,BD52,BF52,BH52,BJ52,BL52,BN52)","v":0}]
[null,null,null,"Chauffeur alleen",null,{"$f":"IF(E53=0,\" \",IF(OR(E53<1,E53>350),\" \",LOOKUP(E53,waarden!$D$4:$D$353,waarden!$E$4:$E$353)))","v":" "},null,{"$f":"IF(G53=0,\" \",IF(OR(G53<1,G53>350),\" \",LOOKUP(G53,waarden!$D$4:$D$353,waarden!$E$4:$E$353)))","v":" "},null,{"$f":"IF(I53=0,\" \",IF(OR(I53<1,I53>350),\" \",LOOKUP(I53,waarden!$D$4:$D$353,waarden!$E$4:$E$353)))","v":" "},null,{"$f":"IF(K53=0,\" \",IF(OR(K53<1,K53>350),\" \",LOOKUP(K53,waarden!$D$4:$D$353,waarden!$E$4:$E$353)))","v":" "},null,{"$f":"IF(M53=0,\" \",IF(OR(M53<1,M53>350),\" \",LOOKUP(M53,waarden!$D$4:$D$353,waarden!$E$4:$E$353)))","v":" "},null,{"$f":"IF(O53=0,\" \",IF(OR(O53<1,O53>350),\" \",LOOKUP(O53,waarden!$D$4:$D$353,waarden!$E$4:$E$353)))","v":" "},null,{"$f":"IF(Q53=0,\" \",IF(OR(Q53<1,Q53>350),\" \",LOOKUP(Q53,waarden!$D$4:$D$353,waarden!$E$4:$E$353)))","v":" "},null,{"$f":"IF(S53=0,\" \",IF(OR(S53<1,S53>350),\" \",LOOKUP(S53,waarden!$D$4:$D$353,waarden!$E$4:$E$353)))","v":" "},null,{"$f":"IF(U53=0,\" \",IF(OR(U53<1,U53>350),\" \",LOOKUP(U53,waarden!$D$4:$D$353,waarden!$E$4:$E$353)))","v":" "},null,{"$f":"IF(W53=0,\" \",IF(OR(W53<1,W53>350),\" \",LOOKUP(W53,waarden!$D$4:$D$353,waarden!$E$4:$E$353)))","v":" "},null,{"$f":"IF(Y53=0,\" \",IF(OR(Y53<1,Y53>350),\" \",LOOKUP(Y53,waarden!$D$4:$D$353,waarden!$E$4:$E$353)))","v":" "},null,{"$f":"IF(AA53=0,\" \",IF(OR(AA53<1,AA53>350),\" \",LOOKUP(AA53,waarden!$D$4:$D$353,waarden!$E$4:$E$353)))","v":" "},null,{"$f":"IF(AC53=0,\" \",IF(OR(AC53<1,AC53>350),\" \",LOOKUP(AC53,waarden!$D$4:$D$353,waarden!$E$4:$E$353)))","v":" "},null,{"$f":"IF(AE53=0,\" \",IF(OR(AE53<1,AE53>350),\" \",LOOKUP(AE53,waarden!$D$4:$D$353,waarden!$E$4:$E$353)))","v":" "},null,{"$f":"IF(AG53=0,\" \",IF(OR(AG53<1,AG53>350),\" \",LOOKUP(AG53,waarden!$D$4:$D$353,waarden!$E$4:$E$353)))","v":" "},null,{"$f":"IF(AI53=0,\" \",IF(OR(AI53<1,AI53>350),\" \",LOOKUP(AI53,waarden!$D$4:$D$353,waarden!$E$4:$E$353)))","v":" "},null,{"$f":"IF(AK53=0,\" \",IF(OR(AK53<1,AK53>350),\" \",LOOKUP(AK53,waarden!$D$4:$D$353,waarden!$E$4:$E$353)))","v":" "},null,{"$f":"IF(AM53=0,\" \",IF(OR(AM53<1,AM53>350),\" \",LOOKUP(AM53,waarden!$D$4:$D$353,waarden!$E$4:$E$353)))","v":" "},null,{"$f":"IF(AO53=0,\" \",IF(OR(AO53<1,AO53>350),\" \",LOOKUP(AO53,waarden!$D$4:$D$353,waarden!$E$4:$E$353)))","v":" "},null,{"$f":"IF(AQ53=0,\" \",IF(OR(AQ53<1,AQ53>350),\" \",LOOKUP(AQ53,waarden!$D$4:$D$353,waarden!$E$4:$E$353)))","v":" "},null,{"$f":"IF(AS53=0,\" \",IF(OR(AS53<1,AS53>350),\" \",LOOKUP(AS53,waarden!$D$4:$D$353,waarden!$E$4:$E$353)))","v":" "},null,{"$f":"IF(AU53=0,\" \",IF(OR(AU53<1,AU53>350),\" \",LOOKUP(AU53,waarden!$D$4:$D$353,waarden!$E$4:$E$353)))","v":" "},null,{"$f":"IF(AW53=0,\" \",IF(OR(AW53<1,AW53>350),\" \",LOOKUP(AW53,waarden!$D$4:$D$353,waarden!$E$4:$E$353)))","v":" "},null,{"$f":"IF(AY53=0,\" \",IF(OR(AY53<1,AY53>350),\" \",LOOKUP(AY53,waarden!$D$4:$D$353,waarden!$E$4:$E$353)))","v":" "},null,{"$f":"IF(BA53=0,\" \",IF(OR(BA53<1,BA53>350),\" \",LOOKUP(BA53,waarden!$D$4:$D$353,waarden!$E$4:$E$353)))","v":" "},null,{"$f":"IF(BC53=0,\" \",IF(OR(BC53<1,BC53>350),\" \",LOOKUP(BC53,waarden!$D$4:$D$353,waarden!$E$4:$E$353)))","v":" "},null,{"$f":"IF(BE53=0,\" \",IF(OR(BE53<1,BE53>350),\" \",LOOKUP(BE53,waarden!$D$4:$D$353,waarden!$E$4:$E$353)))","v":" "},null,{"$f":"IF(BG53=0,\" \",IF(OR(BG53<1,BG53>350),\" \",LOOKUP(BG53,waarden!$D$4:$D$353,waarden!$E$4:$E$353)))","v":" "},null,{"$f":"IF(BI53=0,\" \",IF(OR(BI53<1,BI53>350),\" \",LOOKUP(BI53,waarden!$D$4:$D$353,waarden!$E$4:$E$353)))","v":" "},null,{"$f":"IF(BK53=0,\" \",IF(OR(BK53<1,BK53>350),\" \",LOOKUP(BK53,waarden!$D$4:$D$353,waarden!$E$4:$E$353)))","v":" "},null,{"$f":"IF(BM53=0,\" \",IF(OR(BM53<1,BM53>350),\" \",LOOKUP(BM53,waarden!$D$4:$D$353,waarden!$E$4:$E$353)))","v":" "},0,0]
[null,null,null,"Passagier",null,{"$f":"IF(E54=0,\" \",IF(OR(E54<1,E54>350),\" \",LOOKUP(E54,waarden!$A$4:$A$353,waarden!$B$4:$B$353)))","v":" "},null,{"$f":"IF(G54=0,\" \",IF(OR(G54<1,G54>350),\" \",LOOKUP(G54,waarden!$A$4:$A$353,waarden!$B$4:$B$353)))","v":" "},null,{"$f":"IF(I54=0,\" \",IF(OR(I54<1,I54>350),\" \",LOOKUP(I54,waarden!$A$4:$A$353,waarden!$B$4:$B$353)))","v":" "},null,{"$f":"IF(K54=0,\" \",IF(OR(K54<1,K54>350),\" \",LOOKUP(K54,waarden!$A$4:$A$353,waarden!$B$4:$B$353)))","v":" "},null,{"$f":"IF(M54=0,\" \",IF(OR(M54<1,M54>350),\" \",LOOKUP(M54,waarden!$A$4:$A$353,waarden!$B$4:$B$353)))","v":" "},null,{"$f":"IF(O54=0,\" \",IF(OR(O54<1,O54>350),\" \",LOOKUP(O54,waarden!$A$4:$A$353,waarden!$B$4:$B$353)))","v":" "},null,{"$f":"IF(Q54=0,\" \",IF(OR(Q54<1,Q54>350),\" \",LOOKUP(Q54,waarden!$A$4:$A$353,waarden!$B$4:$B$353)))","v":" "},null,{"$f":"IF(S54=0,\" \",IF(OR(S54<1,S54>350),\" \",LOOKUP(S54,waarden!$A$4:$A$353,waarden!$B$4:$B$353)))","v":" "},null,{"$f":"IF(U54=0,\" \",IF(OR(U54<1,U54>350),\" \",LOOKUP(U54,waarden!$A$4:$A$353,waarden!$B$4:$B$353)))","v":" "},null,{"$f":"IF(W54=0,\" \",IF(OR(W54<1,W54>350),\" \",LOOKUP(W54,waarden!$A$4:$A$353,waarden!$B$4:$B$353)))","v":" "},null,{"$f":"IF(Y54=0,\" \",IF(OR(Y54<1,Y54>350),\" \",LOOKUP(Y54,waarden!$A$4:$A$353,waarden!$B$4:$B$353)))","v":" "},null,{"$f":"IF(AA54=0,\" \",IF(OR(AA54<1,AA54>350),\" \",LOOKUP(AA54,waarden!$A$4:$A$353,waarden!$B$4:$B$353)))","v":" "},null,{"$f":"IF(AC54=0,\" \",IF(OR(AC54<1,AC54>350),\" \",LOOKUP(AC54,waarden!$A$4:$A$353,waarden!$B$4:$B$353)))","v":" "},null,{"$f":"IF(AE54=0,\" \",IF(OR(AE54<1,AE54>350),\" \",LOOKUP(AE54,waarden!$A$4:$A$353,waarden!$B$4:$B$353)))","v":" "},null,{"$f":"IF(AG54=0,\" \",IF(OR(AG54<1,AG54>350),\" \",LOOKUP(AG54,waarden!$A$4:$A$353,waarden!$B$4:$B$353)))","v":" "},null,{"$f":"IF(AI54=0,\" \",IF(OR(AI54<1,AI54>350),\" \",LOOKUP(AI54,waarden!$A$4:$A$353,waarden!$B$4:$B$353)))","v":" "},null,{"$f":"IF(AK54=0,\" \",IF(OR(AK54<1,AK54>350),\" \",LOOKUP(AK54,waarden!$A$4:$A$353,waarden!$B$4:$B$353)))","v":" "},null,{"$f":"IF(AM54=0,\" \",IF(OR(AM54<1,AM54>350),\" \",LOOKUP(AM54,waarden!$A$4:$A$353,waarden!$B$4:$B$353)))","v":" "},null,{"$f":"IF(AO54=0,\" \",IF(OR(AO54<1,AO54>350),\" \",LOOKUP(AO54,waarden!$A$4:$A$353,waarden!$B$4:$B$353)))","v":" "},null,{"$f":"IF(AQ54=0,\" \",IF(OR(AQ54<1,AQ54>350),\" \",LOOKUP(AQ54,waarden!$A$4:$A$353,waarden!$B$4:$B$353)))","v":" "},null,{"$f":"IF(AS54=0,\" \",IF(OR(AS54<1,AS54>350),\" \",LOOKUP(AS54,waarden!$A$4:$A$353,waarden!$B$4:$B$353)))","v":" "},null,{"$f":"IF(AU54=0,\" \",IF(OR(AU54<1,AU54>350),\" \",LOOKUP(AU54,waarden!$A$4:$A$353,waarden!$B$4:$B$353)))","v":" "},null,{"$f":"IF(AW54=0,\" \",IF(OR(AW54<1,AW54>350),\" \",LOOKUP(AW54,waarden!$A$4:$A$353,waarden!$B$4:$B$353)))","v":" "},null,{"$f":"IF(AY54=0,\" \",IF(OR(AY54<1,AY54>350),\" \",LOOKUP(AY54,waarden!$A$4:$A$353,waarden!$B$4:$B$353)))","v":" "},null,{"$f":"IF(BA54=0,\" \",IF(OR(BA54<1,BA54>350),\" \",LOOKUP(BA54,waarden!$A$4:$A$353,waarden!$B$4:$B$353)))","v":" "},null,{"$f":"IF(BC54=0,\" \",IF(OR(BC54<1,BC54>350),\" \",LOOKUP(BC54,waarden!$A$4:$A$353,waarden!$B$4:$B$353)))","v":" "},null,{"$f":"IF(BE54=0,\" \",IF(OR(BE54<1,BE54>350),\" \",LOOKUP(BE54,waarden!$A$4:$A$353,waarden!$B$4:$B$353)))","v":" "},null,{"$f":"IF(BG54=0,\" \",IF(OR(BG54<1,BG54>350),\" \",LOOKUP(BG54,waarden!$A$4:$A$353,waarden!$B$4:$B$353)))","v":" "},null,{"$f":"IF(BI54=0,\" \",IF(OR(BI54<1,BI54>350),\" \",LOOKUP(BI54,waarden!$A$4:$A$353,waarden!$B$4:$B$353)))","v":" "},null,{"$f":"IF(BK54=0,\" \",IF(OR(BK54<1,BK54>350),\" \",LOOKUP(BK54,waarden!$A$4:$A$353,waarden!$B$4:$B$353)))","v":" "},null,{"$f":"IF(BM54=0,\" \",IF(OR(BM54<1,BM54>350),\" \",LOOKUP(BM54,waarden!$A$4:$A$353,waarden!$B$4:$B$353)))","v":" "},0,0]
[null,null,null,"Chauffeur personeel",null,{"$f":"IF(E55=0,\" \",IF(OR(E55<1,E55>350),\" \",LOOKUP(E55,waarden!$G$4:$G$353,waarden!$H$4:$H$353)))","v":" "},null,{"$f":"IF(G55=0,\" \",IF(OR(G55<1,G55>350),\" \",LOOKUP(G55,waarden!$G$4:$G$353,waarden!$H$4:$H$353)))","v":" "},null,{"$f":"IF(I55=0,\" \",IF(OR(I55<1,I55>350),\" \",LOOKUP(I55,waarden!$G$4:$G$353,waarden!$H$4:$H$353)))","v":" "},null,{"$f":"IF(K55=0,\" \",IF(OR(K55<1,K55>350),\" \",LOOKUP(K55,waarden!$G$4:$G$353,waarden!$H$4:$H$353)))","v":" "},null,{"$f":"IF(M55=0,\" \",IF(OR(M55<1,M55>350),\" \",LOOKUP(M55,waarden!$G$4:$G$353,waarden!$H$4:$H$353)))","v":" "},null,{"$f":"IF(O55=0,\" \",IF(OR(O55<1,O55>350),\" \",LOOKUP(O55,waarden!$G$4:$G$353,waarden!$H$4:$H$353)))","v":" "},null,{"$f":"IF(Q55=0,\" \",IF(OR(Q55<1,Q55>350),\" \",LOOKUP(Q55,waarden!$G$4:$G$353,waarden!$H$4:$H$353)))","v":" "},null,{"$f":"IF(S55=0,\" \",IF(OR(S55<1,S55>350),\" \",LOOKUP(S55,waarden!$G$4:$G$353,waarden!$H$4:$H$353)))","v":" "},null,{"$f":"IF(U55=0,\" \",IF(OR(U55<1,U55>350),\" \",LOOKUP(U55,waarden!$G$4:$G$353,waarden!$H$4:$H$353)))","v":" "},null,{"$f":"IF(W55=0,\" \",IF(OR(W55<1,W55>350),\" \",LOOKUP(W55,waarden!$G$4:$G$353,waarden!$H$4:$H$353)))","v":" "},null,{"$f":"IF(Y55=0,\" \",IF(OR(Y55<1,Y55>350),\" \",LOOKUP(Y55,waarden!$G$4:$G$353,waarden!$H$4:$H$353)))","v":" "},null,{"$f":"IF(AA55=0,\" \",IF(OR(AA55<1,AA55>350),\" \",LOOKUP(AA55,waarden!$G$4:$G$353,waarden!$H$4:$H$353)))","v":" "},null,{"$f":"IF(AC55=0,\" \",IF(OR(AC55<1,AC55>350),\" \",LOOKUP(AC55,waarden!$G$4:$G$353,waarden!$H$4:$H$353)))","v":" "},null,{"$f":"IF(AE55=0,\" \",IF(OR(AE55<1,AE55>350),\" \",LOOKUP(AE55,waarden!$G$4:$G$353,waarden!$H$4:$H$353)))","v":" "},null,{"$f":"IF(AG55=0,\" \",IF(OR(AG55<1,AG55>350),\" \",LOOKUP(AG55,waarden!$G$4:$G$353,waarden!$H$4:$H$353)))","v":" "},null,{"$f":"IF(AI55=0,\" \",IF(OR(AI55<1,AI55>350),\" \",LOOKUP(AI55,waarden!$G$4:$G$353,waarden!$H$4:$H$353)))","v":" "},null,{"$f":"IF(AK55=0,\" \",IF(OR(AK55<1,AK55>350),\" \",LOOKUP(AK55,waarden!$G$4:$G$353,waarden!$H$4:$H$353)))","v":" "},null,{"$f":"IF(AM55=0,\" \",IF(OR(AM55<1,AM55>350),\" \",LOOKUP(AM55,waarden!$G$4:$G$353,waarden!$H$4:$H$353)))","v":" "},null,{"$f":"IF(AO55=0,\" \",IF(OR(AO55<1,AO55>350),\" \",LOOKUP(AO55,waarden!$G$4:$G$353,waarden!$H$4:$H$353)))","v":" "},null,{"$f":"IF(AQ55=0,\" \",IF(OR(AQ55<1,AQ55>350),\" \",LOOKUP(AQ55,waarden!$G$4:$G$353,waarden!$H$4:$H$353)))","v":" "},null,{"$f":"IF(AS55=0,\" \",IF(OR(AS55<1,AS55>350),\" \",LOOKUP(AS55,waarden!$G$4:$G$353,waarden!$H$4:$H$353)))","v":" "},null,{"$f":"IF(AU55=0,\" \",IF(OR(AU55<1,AU55>350),\" \",LOOKUP(AU55,waarden!$G$4:$G$353,waarden!$H$4:$H$353)))","v":" "},null,{"$f":"IF(AW55=0,\" \",IF(OR(AW55<1,AW55>350),\" \",LOOKUP(AW55,waarden!$G$4:$G$353,waarden!$H$4:$H$353)))","v":" "},null,{"$f":"IF(AY55=0,\" \",IF(OR(AY55<1,AY55>350),\" \",LOOKUP(AY55,waarden!$G$4:$G$353,waarden!$H$4:$H$353)))","v":" "},null,{"$f":"IF(BA55=0,\" \",IF(OR(BA55<1,BA55>350),\" \",LOOKUP(BA55,waarden!$G$4:$G$353,waarden!$H$4:$H$353)))","v":" "},null,{"$f":"IF(BC55=0,\" \",IF(OR(BC55<1,BC55>350),\" \",LOOKUP(BC55,waarden!$G$4:$G$353,waarden!$H$4:$H$353)))","v":" "},null,{"$f":"IF(BE55=0,\" \",IF(OR(BE55<1,BE55>350),\" \",LOOKUP(BE55,waarden!$G$4:$G$353,waarden!$H$4:$H$353)))","v":" "},null,{"$f":"IF(BG55=0,\" \",IF(OR(BG55<1,BG55>350),\" \",LOOKUP(BG55,waarden!$G$4:$G$353,waarden!$H$4:$H$353)))","v":" "},null,{"$f":"IF(BI55=0,\" \",IF(OR(BI55<1,BI55>350),\" \",LOOKUP(BI55,waarden!$G$4:$G$353,waarden!$H$4:$H$353)))","v":" "},null,{"$f":"IF(BK55=0,\" \",IF(OR(BK55<1,BK55>350),\" \",LOOKUP(BK55,waarden!$G$4:$G$353,waarden!$H$4:$H$353)))","v":" "},null,{"$f":"IF(BM55=0,\" \",IF(OR(BM55<1,BM55>350),\" \",LOOKUP(BM55,waarden!$G$4:$G$353,waarden!$H$4:$H$353)))","v":" "},0,{"$f":"SUM(F55,H55,J55,L55,N55,P55,R55,T55,V55,X55,Z55,AB55,AD55,AF55,AH55,AJ55,AL55,AN55,AP55,AR55,AT55,AV55,AX55,AZ55,BB55,BD55,BF55,BH55,BJ55,BL55,BN55)","v":0}]
[null,null,null,"Chauffeur alleen",null,{"$f":"IF(E56=0,\" \",IF(OR(E56<1,E56>350),\" \",LOOKUP(E56,waarden!$D$4:$D$353,waarden!$E$4:$E$353)))","v":" "},null,{"$f":"IF(G56=0,\" \",IF(OR(G56<1,G56>350),\" \",LOOKUP(G56,waarden!$D$4:$D$353,waarden!$E$4:$E$353)))","v":" "},null,{"$f":"IF(I56=0,\" \",IF(OR(I56<1,I56>350),\" \",LOOKUP(I56,waarden!$D$4:$D$353,waarden!$E$4:$E$353)))","v":" "},null,{"$f":"IF(K56=0,\" \",IF(OR(K56<1,K56>350),\" \",LOOKUP(K56,waarden!$D$4:$D$353,waarden!$E$4:$E$353)))","v":" "},null,{"$f":"IF(M56=0,\" \",IF(OR(M56<1,M56>350),\" \",LOOKUP(M56,waarden!$D$4:$D$353,waarden!$E$4:$E$353)))","v":" "},null,{"$f":"IF(O56=0,\" \",IF(OR(O56<1,O56>350),\" \",LOOKUP(O56,waarden!$D$4:$D$353,waarden!$E$4:$E$353)))","v":" "},null,{"$f":"IF(Q56=0,\" \",IF(OR(Q56<1,Q56>350),\" \",LOOKUP(Q56,waarden!$D$4:$D$353,waarden!$E$4:$E$353)))","v":" "},null,{"$f":"IF(S56=0,\" \",IF(OR(S56<1,S56>350),\" \",LOOKUP(S56,waarden!$D$4:$D$353,waarden!$E$4:$E$353)))","v":" "},null,{"$f":"IF(U56=0,\" \",IF(OR(U56<1,U56>350),\" \",LOOKUP(U56,waarden!$D$4:$D$353,waarden!$E$4:$E$353)))","v":" "},null,{"$f":"IF(W56=0,\" \",IF(OR(W56<1,W56>350),\" \",LOOKUP(W56,waarden!$D$4:$D$353,waarden!$E$4:$E$353)))","v":" "},null,{"$f":"IF(Y56=0,\" \",IF(OR(Y56<1,Y56>350),\" \",LOOKUP(Y56,waarden!$D$4:$D$353,waarden!$E$4:$E$353)))","v":" "},null,{"$f":"IF(AA56=0,\" \",IF(OR(AA56<1,AA56>350),\" \",LOOKUP(AA56,waarden!$D$4:$D$353,waarden!$E$4:$E$353)))","v":" "},null,{"$f":"IF(AC56=0,\" \",IF(OR(AC56<1,AC56>350),\" \",LOOKUP(AC56,waarden!$D$4:$D$353,waarden!$E$4:$E$353)))","v":" "},null,{"$f":"IF(AE56=0,\" \",IF(OR(AE56<1,AE56>350),\" \",LOOKUP(AE56,waarden!$D$4:$D$353,waarden!$E$4:$E$353)))","v":" "},null,{"$f":"IF(AG56=0,\" \",IF(OR(AG56<1,AG56>350),\" \",LOOKUP(AG56,waarden!$D$4:$D$353,waarden!$E$4:$E$353)))","v":" "},null,{"$f":"IF(AI56=0,\" \",IF(OR(AI56<1,AI56>350),\" \",LOOKUP(AI56,waarden!$D$4:$D$353,waarden!$E$4:$E$353)))","v":" "},null,{"$f":"IF(AK56=0,\" \",IF(OR(AK56<1,AK56>350),\" \",LOOKUP(AK56,waarden!$D$4:$D$353,waarden!$E$4:$E$353)))","v":" "},null,{"$f":"IF(AM56=0,\" \",IF(OR(AM56<1,AM56>350),\" \",LOOKUP(AM56,waarden!$D$4:$D$353,waarden!$E$4:$E$353)))","v":" "},null,{"$f":"IF(AO56=0,\" \",IF(OR(AO56<1,AO56>350),\" \",LOOKUP(AO56,waarden!$D$4:$D$353,waarden!$E$4:$E$353)))","v":" "},null,{"$f":"IF(AQ56=0,\" \",IF(OR(AQ56<1,AQ56>350),\" \",LOOKUP(AQ56,waarden!$D$4:$D$353,waarden!$E$4:$E$353)))","v":" "},null,{"$f":"IF(AS56=0,\" \",IF(OR(AS56<1,AS56>350),\" \",LOOKUP(AS56,waarden!$D$4:$D$353,waarden!$E$4:$E$353)))","v":" "},null,{"$f":"IF(AU56=0,\" \",IF(OR(AU56<1,AU56>350),\" \",LOOKUP(AU56,waarden!$D$4:$D$353,waarden!$E$4:$E$353)))","v":" "},null,{"$f":"IF(AW56=0,\" \",IF(OR(AW56<1,AW56>350),\" \",LOOKUP(AW56,waarden!$D$4:$D$353,waarden!$E$4:$E$353)))","v":" "},null,{"$f":"IF(AY56=0,\" \",IF(OR(AY56<1,AY56>350),\" \",LOOKUP(AY56,waarden!$D$4:$D$353,waarden!$E$4:$E$353)))","v":" "},null,{"$f":"IF(BA56=0,\" \",IF(OR(BA56<1,BA56>350),\" \",LOOKUP(BA56,waarden!$D$4:$D$353,waarden!$E$4:$E$353)))","v":" "},null,{"$f":"IF(BC56=0,\" \",IF(OR(BC56<1,BC56>350),\" \",LOOKUP(BC56,waarden!$D$4:$D$353,waarden!$E$4:$E$353)))","v":" "},null,{"$f":"IF(BE56=0,\" \",IF(OR(BE56<1,BE56>350),\" \",LOOKUP(BE56,waarden!$D$4:$D$353,waarden!$E$4:$E$353)))","v":" "},null,{"$f":"IF(BG56=0,\" \",IF(OR(BG56<1,BG56>350),\" \",LOOKUP(BG56,waarden!$D$4:$D$353,waarden!$E$4:$E$353)))","v":" "},null,{"$f":"IF(BI56=0,\" \",IF(OR(BI56<1,BI56>350),\" \",LOOKUP(BI56,waarden!$D$4:$D$353,waarden!$E$4:$E$353)))","v":" "},null,{"$f":"IF(BK56=0,\" \",IF(OR(BK56<1,BK56>350),\" \",LOOKUP(BK56,waarden!$D$4:$D$353,waarden!$E$4:$E$353)))","v":" "},null,{"$f":"IF(BM56=0,\" \",IF(OR(BM56<1,BM56>350),\" \",LOOKUP(BM56,waarden!$D$4:$D$353,waarden!$E$4:$E$353)))","v":" "},0,0]
[null,null,null,"Passagier",null,{"$f":"IF(E57=0,\" \",IF(OR(E57<1,E57>350),\" \",LOOKUP(E57,waarden!$A$4:$A$353,waarden!$B$4:$B$353)))","v":" "},null,{"$f":"IF(G57=0,\" \",IF(OR(G57<1,G57>350),\" \",LOOKUP(G57,waarden!$A$4:$A$353,waarden!$B$4:$B$353)))","v":" "},null,{"$f":"IF(I57=0,\" \",IF(OR(I57<1,I57>350),\" \",LOOKUP(I57,waarden!$A$4:$A$353,waarden!$B$4:$B$353)))","v":" "},null,{"$f":"IF(K57=0,\" \",IF(OR(K57<1,K57>350),\" \",LOOKUP(K57,waarden!$A$4:$A$353,waarden!$B$4:$B$353)))","v":" "},null,{"$f":"IF(M57=0,\" \",IF(OR(M57<1,M57>350),\" \",LOOKUP(M57,waarden!$A$4:$A$353,waarden!$B$4:$B$353)))","v":" "},null,{"$f":"IF(O57=0,\" \",IF(OR(O57<1,O57>350),\" \",LOOKUP(O57,waarden!$A$4:$A$353,waarden!$B$4:$B$353)))","v":" "},null,{"$f":"IF(Q57=0,\" \",IF(OR(Q57<1,Q57>350),\" \",LOOKUP(Q57,waarden!$A$4:$A$353,waarden!$B$4:$B$353)))","v":" "},null,{"$f":"IF(S57=0,\" \",IF(OR(S57<1,S57>350),\" \",LOOKUP(S57,waarden!$A$4:$A$353,waarden!$B$4:$B$353)))","v":" "},null,{"$f":"IF(U57=0,\" \",IF(OR(U57<1,U57>350),\" \",LOOKUP(U57,waarden!$A$4:$A$353,waarden!$B$4:$B$353)))","v":" "},null,{"$f":"IF(W57=0,\" \",IF(OR(W57<1,W57>350),\" \",LOOKUP(W57,waarden!$A$4:$A$353,waarden!$B$4:$B$353)))","v":" "},null,{"$f":"IF(Y57=0,\" \",IF(OR(Y57<1,Y57>350),\" \",LOOKUP(Y57,waarden!$A$4:$A$353,waarden!$B$4:$B$353)))","v":" "},null,{"$f":"IF(AA57=0,\" \",IF(OR(AA57<1,AA57>350),\" \",LOOKUP(AA57,waarden!$A$4:$A$353,waarden!$B$4:$B$353)))","v":" "},null,{"$f":"IF(AC57=0,\" \",IF(OR(AC57<1,AC57>350),\" \",LOOKUP(AC57,waarden!$A$4:$A$353,waarden!$B$4:$B$353)))","v":" "},null,{"$f":"IF(AE57=0,\" \",IF(OR(AE57<1,AE57>350),\" \",LOOKUP(AE57,waarden!$A$4:$A$353,waarden!$B$4:$B$353)))","v":" "},null,{"$f":"IF(AG57=0,\" \",IF(OR(AG57<1,AG57>350),\" \",LOOKUP(AG57,waarden!$A$4:$A$353,waarden!$B$4:$B$353)))","v":" "},null,{"$f":"IF(AI57=0,\" \",IF(OR(AI57<1,AI57>350),\" \",LOOKUP(AI57,waarden!$A$4:$A$353,waarden!$B$4:$B$353)))","v":" "},null,{"$f":"IF(AK57=0,\" \",IF(OR(AK57<1,AK57>350),\" \",LOOKUP(AK57,waarden!$A$4:$A$353,waarden!$B$4:$B$353)))","v":" "},null,{"$f":"IF(AM57=0,\" \",IF(OR(AM57<1,AM57>350),\" \",LOOKUP(AM57,waarden!$A$4:$A$353,waarden!$B$4:$B$353)))","v":" "},null,{"$f":"IF(AO57=0,\" \",IF(OR(AO57<1,AO57>350),\" \",LOOKUP(AO57,waarden!$A$4:$A$353,waarden!$B$4:$B$353)))","v":" "},null,{"$f":"IF(AQ57=0,\" \",IF(OR(AQ57<1,AQ57>350),\" \",LOOKUP(AQ57,waarden!$A$4:$A$353,waarden!$B$4:$B$353)))","v":" "},null,{"$f":"IF(AS57=0,\" \",IF(OR(AS57<1,AS57>350),\" \",LOOKUP(AS57,waarden!$A$4:$A$353,waarden!$B$4:$B$353)))","v":" "},null,{"$f":"IF(AU57=0,\" \",IF(OR(AU57<1,AU57>350),\" \",LOOKUP(AU57,waarden!$A$4:$A$353,waarden!$B$4:$B$353)))","v":" "},null,{"$f":"IF(AW57=0,\" \",IF(OR(AW57<1,AW57>350),\" \",LOOKUP(AW57,waarden!$A$4:$A$353,waarden!$B$4:$B$353)))","v":" "},null,{"$f":"IF(AY57=0,\" \",IF(OR(AY57<1,AY57>350),\" \",LOOKUP(AY57,waarden!$A$4:$A$353,waarden!$B$4:$B$353)))","v":" "},null,{"$f":"IF(BA57=0,\" \",IF(OR(BA57<1,BA57>350),\" \",LOOKUP(BA57,waarden!$A$4:$A$353,waarden!$B$4:$B$353)))","v":" "},null,{"$f":"IF(BC57=0,\" \",IF(OR(BC57<1,BC57>350),\" \",LOOKUP(BC57,waarden!$A$4:$A$353,waarden!$B$4:$B$353)))","v":" "},null,{"$f":"IF(BE57=0,\" \",IF(OR(BE57<1,BE57>350),\" \",LOOKUP(BE57,waarden!$A$4:$A$353,waarden!$B$4:$B$353)))","v":" "},null,{"$f":"IF(BG57=0,\" \",IF(OR(BG57<1,BG57>350),\" \",LOOKUP(BG57,waarden!$A$4:$A$353,waarden!$B$4:$B$353)))","v":" "},null,{"$f":"IF(BI57=0,\" \",IF(OR(BI57<1,BI57>350),\" \",LOOKUP(BI57,waarden!$A$4:$A$353,waarden!$B$4:$B$353)))","v":" "},null,{"$f":"IF(BK57=0,\" \",IF(OR(BK57<1,BK57>350),\" \",LOOKUP(BK57,waarden!$A$4:$A$353,waarden!$B$4:$B$353)))","v":" "},null,{"$f":"IF(BM57=0,\" \",IF(OR(BM57<1,BM57>350),\" \",LOOKUP(BM57,waarden!$A$4:$A$353,waarden!$B$4:$B$353)))","v":" "},0,0]
[null,null,null,"Chauffeur personeel",null,{"$f":"IF(E58=0,\" \",IF(OR(E58<1,E58>350),\" \",LOOKUP(E58,waarden!$G$4:$G$353,waarden!$H$4:$H$353)))","v":" "},null,{"$f":"IF(G58=0,\" \",IF(OR(G58<1,G58>350),\" \",LOOKUP(G58,waarden!$G$4:$G$353,waarden!$H$4:$H$353)))","v":" "},null,{"$f":"IF(I58=0,\" \",IF(OR(I58<1,I58>350),\" \",LOOKUP(I58,waarden!$G$4:$G$353,waarden!$H$4:$H$353)))","v":" "},null,{"$f":"IF(K58=0,\" \",IF(OR(K58<1,K58>350),\" \",LOOKUP(K58,waarden!$G$4:$G$353,waarden!$H$4:$H$353)))","v":" "},null,{"$f":"IF(M58=0,\" \",IF(OR(M58<1,M58>350),\" \",LOOKUP(M58,waarden!$G$4:$G$353,waarden!$H$4:$H$353)))","v":" "},null,{"$f":"IF(O58=0,\" \",IF(OR(O58<1,O58>350),\" \",LOOKUP(O58,waarden!$G$4:$G$353,waarden!$H$4:$H$353)))","v":" "},null,{"$f":"IF(Q58=0,\" \",IF(OR(Q58<1,Q58>350),\" \",LOOKUP(Q58,waarden!$G$4:$G$353,waarden!$H$4:$H$353)))","v":" "},null,{"$f":"IF(S58=0,\" \",IF(OR(S58<1,S58>350),\" \",LOOKUP(S58,waarden!$G$4:$G$353,waarden!$H$4:$H$353)))","v":" "},null,{"$f":"IF(U58=0,\" \",IF(OR(U58<1,U58>350),\" \",LOOKUP(U58,waarden!$G$4:$G$353,waarden!$H$4:$H$353)))","v":" "},null,{"$f":"IF(W58=0,\" \",IF(OR(W58<1,W58>350),\" \",LOOKUP(W58,waarden!$G$4:$G$353,waarden!$H$4:$H$353)))","v":" "},null,{"$f":"IF(Y58=0,\" \",IF(OR(Y58<1,Y58>350),\" \",LOOKUP(Y58,waarden!$G$4:$G$353,waarden!$H$4:$H$353)))","v":" "},null,{"$f":"IF(AA58=0,\" \",IF(OR(AA58<1,AA58>350),\" \",LOOKUP(AA58,waarden!$G$4:$G$353,waarden!$H$4:$H$353)))","v":" "},null,{"$f":"IF(AC58=0,\" \",IF(OR(AC58<1,AC58>350),\" \",LOOKUP(AC58,waarden!$G$4:$G$353,waarden!$H$4:$H$353)))","v":" "},null,{"$f":"IF(AE58=0,\" \",IF(OR(AE58<1,AE58>350),\" \",LOOKUP(AE58,waarden!$G$4:$G$353,waarden!$H$4:$H$353)))","v":" "},null,{"$f":"IF(AG58=0,\" \",IF(OR(AG58<1,AG58>350),\" \",LOOKUP(AG58,waarden!$G$4:$G$353,waarden!$H$4:$H$353)))","v":" "},null,{"$f":"IF(AI58=0,\" \",IF(OR(AI58<1,AI58>350),\" \",LOOKUP(AI58,waarden!$G$4:$G$353,waarden!$H$4:$H$353)))","v":" "},null,{"$f":"IF(AK58=0,\" \",IF(OR(AK58<1,AK58>350),\" \",LOOKUP(AK58,waarden!$G$4:$G$353,waarden!$H$4:$H$353)))","v":" "},null,{"$f":"IF(AM58=0,\" \",IF(OR(AM58<1,AM58>350),\" \",LOOKUP(AM58,waarden!$G$4:$G$353,waarden!$H$4:$H$353)))","v":" "},null,{"$f":"IF(AO58=0,\" \",IF(OR(AO58<1,AO58>350),\" \",LOOKUP(AO58,waarden!$G$4:$G$353,waarden!$H$4:$H$353)))","v":" "},null,{"$f":"IF(AQ58=0,\" \",IF(OR(AQ58<1,AQ58>350),\" \",LOOKUP(AQ58,waarden!$G$4:$G$353,waarden!$H$4:$H$353)))","v":" "},null,{"$f":"IF(AS58=0,\" \",IF(OR(AS58<1,AS58>350),\" \",LOOKUP(AS58,waarden!$G$4:$G$353,waarden!$H$4:$H$353)))","v":" "},null,{"$f":"IF(AU58=0,\" \",IF(OR(AU58<1,AU58>350),\" \",LOOKUP(AU58,waarden!$G$4:$G$353,waarden!$H$4:$H$353)))","v":" "},null,{"$f":"IF(AW58=0,\" \",IF(OR(AW58<1,AW58>350),\" \",LOOKUP(AW58,waarden!$G$4:$G$353,waarden!$H$4:$H$353)))","v":" "},null,{"$f":"IF(AY58=0,\" \",IF(OR(AY58<1,AY58>350),\" \",LOOKUP(AY58,waarden!$G$4:$G$353,waarden!$H$4:$H$353)))","v":" "},null,{"$f":"IF(BA58=0,\" \",IF(OR(BA58<1,BA58>350),\" \",LOOKUP(BA58,waarden!$G$4:$G$353,waarden!$H$4:$H$353)))","v":" "},null,{"$f":"IF(BC58=0,\" \",IF(OR(BC58<1,BC58>350),\" \",LOOKUP(BC58,waarden!$G$4:$G$353,waarden!$H$4:$H$353)))","v":" "},null,{"$f":"IF(BE58=0,\" \",IF(OR(BE58<1,BE58>350),\" \",LOOKUP(BE58,waarden!$G$4:$G$353,waarden!$H$4:$H$353)))","v":" "},null,{"$f":"IF(BG58=0,\" \",IF(OR(BG58<1,BG58>350),\" \",LOOKUP(BG58,waarden!$G$4:$G$353,waarden!$H$4:$H$353)))","v":" "},null,{"$f":"IF(BI58=0,\" \",IF(OR(BI58<1,BI58>350),\" \",LOOKUP(BI58,waarden!$G$4:$G$353,waarden!$H$4:$H$353)))","v":" "},null,{"$f":"IF(BK58=0,\" \",IF(OR(BK58<1,BK58>350),\" \",LOOKUP(BK58,waarden!$G$4:$G$353,waarden!$H$4:$H$353)))","v":" "},null,{"$f":"IF(BM58=0,\" \",IF(OR(BM58<1,BM58>350),\" \",LOOKUP(BM58,waarden!$G$4:$G$353,waarden!$H$4:$H$353)))","v":" "},0,{"$f":"SUM(F58,H58,J58,L58,N58,P58,R58,T58,V58,X58,Z58,AB58,AD58,AF58,AH58,AJ58,AL58,AN58,AP58,AR58,AT58,AV58,AX58,AZ58,BB58,BD58,BF58,BH58,BJ58,BL58,BN58)","v":0}]
[null,null,null,"Chauffeur alleen",null,{"$f":"IF(E59=0,\" \",IF(OR(E59<1,E59>350),\" \",LOOKUP(E59,waarden!$D$4:$D$353,waarden!$E$4:$E$353)))","v":" "},null,{"$f":"IF(G59=0,\" \",IF(OR(G59<1,G59>350),\" \",LOOKUP(G59,waarden!$D$4:$D$353,waarden!$E$4:$E$353)))","v":" "},null,{"$f":"IF(I59=0,\" \",IF(OR(I59<1,I59>350),\" \",LOOKUP(I59,waarden!$D$4:$D$353,waarden!$E$4:$E$353)))","v":" "},null,{"$f":"IF(K59=0,\" \",IF(OR(K59<1,K59>350),\" \",LOOKUP(K59,waarden!$D$4:$D$353,waarden!$E$4:$E$353)))","v":" "},null,{"$f":"IF(M59=0,\" \",IF(OR(M59<1,M59>350),\" \",LOOKUP(M59,waarden!$D$4:$D$353,waarden!$E$4:$E$353)))","v":" "},null,{"$f":"IF(O59=0,\" \",IF(OR(O59<1,O59>350),\" \",LOOKUP(O59,waarden!$D$4:$D$353,waarden!$E$4:$E$353)))","v":" "},null,{"$f":"IF(Q59=0,\" \",IF(OR(Q59<1,Q59>350),\" \",LOOKUP(Q59,waarden!$D$4:$D$353,waarden!$E$4:$E$353)))","v":" "},null,{"$f":"IF(S59=0,\" \",IF(OR(S59<1,S59>350),\" \",LOOKUP(S59,waarden!$D$4:$D$353,waarden!$E$4:$E$353)))","v":" "},null,{"$f":"IF(U59=0,\" \",IF(OR(U59<1,U59>350),\" \",LOOKUP(U59,waarden!$D$4:$D$353,waarden!$E$4:$E$353)))","v":" "},null,{"$f":"IF(W59=0,\" \",IF(OR(W59<1,W59>350),\" \",LOOKUP(W59,waarden!$D$4:$D$353,waarden!$E$4:$E$353)))","v":" "},null,{"$f":"IF(Y59=0,\" \",IF(OR(Y59<1,Y59>350),\" \",LOOKUP(Y59,waarden!$D$4:$D$353,waarden!$E$4:$E$353)))","v":" "},null,{"$f":"IF(AA59=0,\" \",IF(OR(AA59<1,AA59>350),\" \",LOOKUP(AA59,waarden!$D$4:$D$353,waarden!$E$4:$E$353)))","v":" "},null,{"$f":"IF(AC59=0,\" \",IF(OR(AC59<1,AC59>350),\" \",LOOKUP(AC59,waarden!$D$4:$D$353,waarden!$E$4:$E$353)))","v":" "},null,{"$f":"IF(AE59=0,\" \",IF(OR(AE59<1,AE59>350),\" \",LOOKUP(AE59,waarden!$D$4:$D$353,waarden!$E$4:$E$353)))","v":" "},null,{"$f":"IF(AG59=0,\" \",IF(OR(AG59<1,AG59>350),\" \",LOOKUP(AG59,waarden!$D$4:$D$353,waarden!$E$4:$E$353)))","v":" "},null,{"$f":"IF(AI59=0,\" \",IF(OR(AI59<1,AI59>350),\" \",LOOKUP(AI59,waarden!$D$4:$D$353,waarden!$E$4:$E$353)))","v":" "},null,{"$f":"IF(AK59=0,\" \",IF(OR(AK59<1,AK59>350),\" \",LOOKUP(AK59,waarden!$D$4:$D$353,waarden!$E$4:$E$353)))","v":" "},null,{"$f":"IF(AM59=0,\" \",IF(OR(AM59<1,AM59>350),\" \",LOOKUP(AM59,waarden!$D$4:$D$353,waarden!$E$4:$E$353)))","v":" "},null,{"$f":"IF(AO59=0,\" \",IF(OR(AO59<1,AO59>350),\" \",LOOKUP(AO59,waarden!$D$4:$D$353,waarden!$E$4:$E$353)))","v":" "},null,{"$f":"IF(AQ59=0,\" \",IF(OR(AQ59<1,AQ59>350),\" \",LOOKUP(AQ59,waarden!$D$4:$D$353,waarden!$E$4:$E$353)))","v":" "},null,{"$f":"IF(AS59=0,\" \",IF(OR(AS59<1,AS59>350),\" \",LOOKUP(AS59,waarden!$D$4:$D$353,waarden!$E$4:$E$353)))","v":" "},null,{"$f":"IF(AU59=0,\" \",IF(OR(AU59<1,AU59>350),\" \",LOOKUP(AU59,waarden!$D$4:$D$353,waarden!$E$4:$E$353)))","v":" "},null,{"$f":"IF(AW59=0,\" \",IF(OR(AW59<1,AW59>350),\" \",LOOKUP(AW59,waarden!$D$4:$D$353,waarden!$E$4:$E$353)))","v":" "},null,{"$f":"IF(AY59=0,\" \",IF(OR(AY59<1,AY59>350),\" \",LOOKUP(AY59,waarden!$D$4:$D$353,waarden!$E$4:$E$353)))","v":" "},null,{"$f":"IF(BA59=0,\" \",IF(OR(BA59<1,BA59>350),\" \",LOOKUP(BA59,waarden!$D$4:$D$353,waarden!$E$4:$E$353)))","v":" "},null,{"$f":"IF(BC59=0,\" \",IF(OR(BC59<1,BC59>350),\" \",LOOKUP(BC59,waarden!$D$4:$D$353,waarden!$E$4:$E$353)))","v":" "},null,{"$f":"IF(BE59=0,\" \",IF(OR(BE59<1,BE59>350),\" \",LOOKUP(BE59,waarden!$D$4:$D$353,waarden!$E$4:$E$353)))","v":" "},null,{"$f":"IF(BG59=0,\" \",IF(OR(BG59<1,BG59>350),\" \",LOOKUP(BG59,waarden!$D$4:$D$353,waarden!$E$4:$E$353)))","v":" "},null,{"$f":"IF(BI59=0,\" \",IF(OR(BI59<1,BI59>350),\" \",LOOKUP(BI59,waarden!$D$4:$D$353,waarden!$E$4:$E$353)))","v":" "},null,{"$f":"IF(BK59=0,\" \",IF(OR(BK59<1,BK59>350),\" \",LOOKUP(BK59,waarden!$D$4:$D$353,waarden!$E$4:$E$353)))","v":" "},null,{"$f":"IF(BM59=0,\" \",IF(OR(BM59<1,BM59>350),\" \",LOOKUP(BM59,waarden!$D$4:$D$353,waarden!$E$4:$E$353)))","v":" "},0,0]
[null,null,null,"Passagier",null,{"$f":"IF(E60=0,\" \",IF(OR(E60<1,E60>350),\" \",LOOKUP(E60,waarden!$A$4:$A$353,waarden!$B$4:$B$353)))","v":" "},null,{"$f":"IF(G60=0,\" \",IF(OR(G60<1,G60>350),\" \",LOOKUP(G60,waarden!$A$4:$A$353,waarden!$B$4:$B$353)))","v":" "},null,{"$f":"IF(I60=0,\" \",IF(OR(I60<1,I60>350),\" \",LOOKUP(I60,waarden!$A$4:$A$353,waarden!$B$4:$B$353)))","v":" "},null,{"$f":"IF(K60=0,\" \",IF(OR(K60<1,K60>350),\" \",LOOKUP(K60,waarden!$A$4:$A$353,waarden!$B$4:$B$353)))","v":" "},null,{"$f":"IF(M60=0,\" \",IF(OR(M60<1,M60>350),\" \",LOOKUP(M60,waarden!$A$4:$A$353,waarden!$B$4:$B$353)))","v":" "},null,{"$f":"IF(O60=0,\" \",IF(OR(O60<1,O60>350),\" \",LOOKUP(O60,waarden!$A$4:$A$353,waarden!$B$4:$B$353)))","v":" "},null,{"$f":"IF(Q60=0,\" \",IF(OR(Q60<1,Q60>350),\" \",LOOKUP(Q60,waarden!$A$4:$A$353,waarden!$B$4:$B$353)))","v":" "},null,{"$f":"IF(S60=0,\" \",IF(OR(S60<1,S60>350),\" \",LOOKUP(S60,waarden!$A$4:$A$353,waarden!$B$4:$B$353)))","v":" "},null,{"$f":"IF(U60=0,\" \",IF(OR(U60<1,U60>350),\" \",LOOKUP(U60,waarden!$A$4:$A$353,waarden!$B$4:$B$353)))","v":" "},null,{"$f":"IF(W60=0,\" \",IF(OR(W60<1,W60>350),\" \",LOOKUP(W60,waarden!$A$4:$A$353,waarden!$B$4:$B$353)))","v":" "},null,{"$f":"IF(Y60=0,\" \",IF(OR(Y60<1,Y60>350),\" \",LOOKUP(Y60,waarden!$A$4:$A$353,waarden!$B$4:$B$353)))","v":" "},null,{"$f":"IF(AA60=0,\" \",IF(OR(AA60<1,AA60>350),\" \",LOOKUP(AA60,waarden!$A$4:$A$353,waarden!$B$4:$B$353)))","v":" "},null,{"$f":"IF(AC60=0,\" \",IF(OR(AC60<1,AC60>350),\" \",LOOKUP(AC60,waarden!$A$4:$A$353,waarden!$B$4:$B$353)))","v":" "},null,{"$f":"IF(AE60=0,\" \",IF(OR(AE60<1,AE60>350),\" \",LOOKUP(AE60,waarden!$A$4:$A$353,waarden!$B$4:$B$353)))","v":" "},null,{"$f":"IF(AG60=0,\" \",IF(OR(AG60<1,AG60>350),\" \",LOOKUP(AG60,waarden!$A$4:$A$353,waarden!$B$4:$B$353)))","v":" "},null,{"$f":"IF(AI60=0,\" \",IF(OR(AI60<1,AI60>350),\" \",LOOKUP(AI60,waarden!$A$4:$A$353,waarden!$B$4:$B$353)))","v":" "},null,{"$f":"IF(AK60=0,\" \",IF(OR(AK60<1,AK60>350),\" \",LOOKUP(AK60,waarden!$A$4:$A$353,waarden!$B$4:$B$353)))","v":" "},null,{"$f":"IF(AM60=0,\" \",IF(OR(AM60<1,AM60>350),\" \",LOOKUP(AM60,waarden!$A$4:$A$353,waarden!$B$4:$B$353)))","v":" "},null,{"$f":"IF(AO60=0,\" \",IF(OR(AO60<1,AO60>350),\" \",LOOKUP(AO60,waarden!$A$4:$A$353,waarden!$B$4:$B$353)))","v":" "},null,{"$f":"IF(AQ60=0,\" \",IF(OR(AQ60<1,AQ60>350),\" \",LOOKUP(AQ60,waarden!$A$4:$A$353,waarden!$B$4:$B$353)))","v":" "},null,{"$f":"IF(AS60=0,\" \",IF(OR(AS60<1,AS60>350),\" \",LOOKUP(AS60,waarden!$A$4:$A$353,waarden!$B$4:$B$353)))","v":" "},null,{"$f":"IF(AU60=0,\" \",IF(OR(AU60<1,AU60>350),\" \",LOOKUP(AU60,waarden!$A$4:$A$353,waarden!$B$4:$B$353)))","v":" "},null,{"$f":"IF(AW60=0,\" \",IF(OR(AW60<1,AW60>350),\" \",LOOKUP(AW60,waarden!$A$4:$A$353,waarden!$B$4:$B$353)))","v":" "},null,{"$f":"IF(AY60=0,\" \",IF(OR(AY60<1,AY60>350),\" \",LOOKUP(AY60,waarden!$A$4:$A$353,waarden!$B$4:$B$353)))","v":" "},null,{"$f":"IF(BA60=0,\" \",IF(OR(BA60<1,BA60>350),\" \",LOOKUP(BA60,waarden!$A$4:$A$353,waarden!$B$4:$B$353)))","v":" "},null,{"$f":"IF(BC60=0,\" \",IF(OR(BC60<1,BC60>350),\" \",LOOKUP(BC60,waarden!$A$4:$A$353,waarden!$B$4:$B$353)))","v":" "},null,{"$f":"IF(BE60=0,\" \",IF(OR(BE60<1,BE60>350),\" \",LOOKUP(BE60,waarden!$A$4:$A$353,waarden!$B$4:$B$353)))","v":" "},null,{"$f":"IF(BG60=0,\" \",IF(OR(BG60<1,BG60>350),\" \",LOOKUP(BG60,waarden!$A$4:$A$353,waarden!$B$4:$B$353)))","v":" "},null,{"$f":"IF(BI60=0,\" \",IF(OR(BI60<1,BI60>350),\" \",LOOKUP(BI60,waarden!$A$4:$A$353,waarden!$B$4:$B$353)))","v":" "},null,{"$f":"IF(BK60=0,\" \",IF(OR(BK60<1,BK60>350),\" \",LOOKUP(BK60,waarden!$A$4:$A$353,waarden!$B$4:$B$353)))","v":" "},null,{"$f":"IF(BM60=0,\" \",IF(OR(BM60<1,BM60>350),\" \",LOOKUP(BM60,waarden!$A$4:$A$353,waarden!$B$4:$B$353)))","v":" "},0,0]
[null,null,null,"Chauffeur personeel",null,{"$f":"IF(E61=0,\" \",IF(OR(E61<1,E61>350),\" \",LOOKUP(E61,waarden!$G$4:$G$353,waarden!$H$4:$H$353)))","v":" "},null,{"$f":"IF(G61=0,\" \",IF(OR(G61<1,G61>350),\" \",LOOKUP(G61,waarden!$G$4:$G$353,waarden!$H$4:$H$353)))","v":" "},null,{"$f":"IF(I61=0,\" \",IF(OR(I61<1,I61>350),\" \",LOOKUP(I61,waarden!$G$4:$G$353,waarden!$H$4:$H$353)))","v":" "},null,{"$f":"IF(K61=0,\" \",IF(OR(K61<1,K61>350),\" \",LOOKUP(K61,waarden!$G$4:$G$353,waarden!$H$4:$H$353)))","v":" "},null,{"$f":"IF(M61=0,\" \",IF(OR(M61<1,M61>350),\" \",LOOKUP(M61,waarden!$G$4:$G$353,waarden!$H$4:$H$353)))","v":" "},null,{"$f":"IF(O61=0,\" \",IF(OR(O61<1,O61>350),\" \",LOOKUP(O61,waarden!$G$4:$G$353,waarden!$H$4:$H$353)))","v":" "},null,{"$f":"IF(Q61=0,\" \",IF(OR(Q61<1,Q61>350),\" \",LOOKUP(Q61,waarden!$G$4:$G$353,waarden!$H$4:$H$353)))","v":" "},null,{"$f":"IF(S61=0,\" \",IF(OR(S61<1,S61>350),\" \",LOOKUP(S61,waarden!$G$4:$G$353,waarden!$H$4:$H$353)))","v":" "},null,{"$f":"IF(U61=0,\" \",IF(OR(U61<1,U61>350),\" \",LOOKUP(U61,waarden!$G$4:$G$353,waarden!$H$4:$H$353)))","v":" "},null,{"$f":"IF(W61=0,\" \",IF(OR(W61<1,W61>350),\" \",LOOKUP(W61,waarden!$G$4:$G$353,waarden!$H$4:$H$353)))","v":" "},null,{"$f":"IF(Y61=0,\" \",IF(OR(Y61<1,Y61>350),\" \",LOOKUP(Y61,waarden!$G$4:$G$353,waarden!$H$4:$H$353)))","v":" "},null,{"$f":"IF(AA61=0,\" \",IF(OR(AA61<1,AA61>350),\" \",LOOKUP(AA61,waarden!$G$4:$G$353,waarden!$H$4:$H$353)))","v":" "},null,{"$f":"IF(AC61=0,\" \",IF(OR(AC61<1,AC61>350),\" \",LOOKUP(AC61,waarden!$G$4:$G$353,waarden!$H$4:$H$353)))","v":" "},null,{"$f":"IF(AE61=0,\" \",IF(OR(AE61<1,AE61>350),\" \",LOOKUP(AE61,waarden!$G$4:$G$353,waarden!$H$4:$H$353)))","v":" "},null,{"$f":"IF(AG61=0,\" \",IF(OR(AG61<1,AG61>350),\" \",LOOKUP(AG61,waarden!$G$4:$G$353,waarden!$H$4:$H$353)))","v":" "},null,{"$f":"IF(AI61=0,\" \",IF(OR(AI61<1,AI61>350),\" \",LOOKUP(AI61,waarden!$G$4:$G$353,waarden!$H$4:$H$353)))","v":" "},null,{"$f":"IF(AK61=0,\" \",IF(OR(AK61<1,AK61>350),\" \",LOOKUP(AK61,waarden!$G$4:$G$353,waarden!$H$4:$H$353)))","v":" "},null,{"$f":"IF(AM61=0,\" \",IF(OR(AM61<1,AM61>350),\" \",LOOKUP(AM61,waarden!$G$4:$G$353,waarden!$H$4:$H$353)))","v":" "},null,{"$f":"IF(AO61=0,\" \",IF(OR(AO61<1,AO61>350),\" \",LOOKUP(AO61,waarden!$G$4:$G$353,waarden!$H$4:$H$353)))","v":" "},null,{"$f":"IF(AQ61=0,\" \",IF(OR(AQ61<1,AQ61>350),\" \",LOOKUP(AQ61,waarden!$G$4:$G$353,waarden!$H$4:$H$353)))","v":" "},null,{"$f":"IF(AS61=0,\" \",IF(OR(AS61<1,AS61>350),\" \",LOOKUP(AS61,waarden!$G$4:$G$353,waarden!$H$4:$H$353)))","v":" "},null,{"$f":"IF(AU61=0,\" \",IF(OR(AU61<1,AU61>350),\" \",LOOKUP(AU61,waarden!$G$4:$G$353,waarden!$H$4:$H$353)))","v":" "},null,{"$f":"IF(AW61=0,\" \",IF(OR(AW61<1,AW61>350),\" \",LOOKUP(AW61,waarden!$G$4:$G$353,waarden!$H$4:$H$353)))","v":" "},null,{"$f":"IF(AY61=0,\" \",IF(OR(AY61<1,AY61>350),\" \",LOOKUP(AY61,waarden!$G$4:$G$353,waarden!$H$4:$H$353)))","v":" "},null,{"$f":"IF(BA61=0,\" \",IF(OR(BA61<1,BA61>350),\" \",LOOKUP(BA61,waarden!$G$4:$G$353,waarden!$H$4:$H$353)))","v":" "},null,{"$f":"IF(BC61=0,\" \",IF(OR(BC61<1,BC61>350),\" \",LOOKUP(BC61,waarden!$G$4:$G$353,waarden!$H$4:$H$353)))","v":" "},null,{"$f":"IF(BE61=0,\" \",IF(OR(BE61<1,BE61>350),\" \",LOOKUP(BE61,waarden!$G$4:$G$353,waarden!$H$4:$H$353)))","v":" "},null,{"$f":"IF(BG61=0,\" \",IF(OR(BG61<1,BG61>350),\" \",LOOKUP(BG61,waarden!$G$4:$G$353,waarden!$H$4:$H$353)))","v":" "},null,{"$f":"IF(BI61=0,\" \",IF(OR(BI61<1,BI61>350),\" \",LOOKUP(BI61,waarden!$G$4:$G$353,waarden!$H$4:$H$353)))","v":" "},null,{"$f":"IF(BK61=0,\" \",IF(OR(BK61<1,BK61>350),\" \",LOOKUP(BK61,waarden!$G$4:$G$353,waarden!$H$4:$H$353)))","v":" "},null,{"$f":"IF(BM61=0,\" \",IF(OR(BM61<1,BM61>350),\" \",LOOKUP(BM61,waarden!$G$4:$G$353,waarden!$H$4:$H$353)))","v":" "},0,{"$f":"SUM(F61,H61,J61,L61,N61,P61,R61,T61,V61,X61,Z61,AB61,AD61,AF61,AH61,AJ61,AL61,AN61,AP61,AR61,AT61,AV61,AX61,AZ61,BB61,BD61,BF61,BH61,BJ61,BL61,BN61)","v":0}]
[null,null,null,"Chauffeur alleen",null,{"$f":"IF(E62=0,\" \",IF(OR(E62<1,E62>350),\" \",LOOKUP(E62,waarden!$D$4:$D$353,waarden!$E$4:$E$353)))","v":" "},null,{"$f":"IF(G62=0,\" \",IF(OR(G62<1,G62>350),\" \",LOOKUP(G62,waarden!$D$4:$D$353,waarden!$E$4:$E$353)))","v":" "},null,{"$f":"IF(I62=0,\" \",IF(OR(I62<1,I62>350),\" \",LOOKUP(I62,waarden!$D$4:$D$353,waarden!$E$4:$E$353)))","v":" "},null,{"$f":"IF(K62=0,\" \",IF(OR(K62<1,K62>350),\" \",LOOKUP(K62,waarden!$D$4:$D$353,waarden!$E$4:$E$353)))","v":" "},null,{"$f":"IF(M62=0,\" \",IF(OR(M62<1,M62>350),\" \",LOOKUP(M62,waarden!$D$4:$D$353,waarden!$E$4:$E$353)))","v":" "},null,{"$f":"IF(O62=0,\" \",IF(OR(O62<1,O62>350),\" \",LOOKUP(O62,waarden!$D$4:$D$353,waarden!$E$4:$E$353)))","v":" "},null,{"$f":"IF(Q62=0,\" \",IF(OR(Q62<1,Q62>350),\" \",LOOKUP(Q62,waarden!$D$4:$D$353,waarden!$E$4:$E$353)))","v":" "},null,{"$f":"IF(S62=0,\" \",IF(OR(S62<1,S62>350),\" \",LOOKUP(S62,waarden!$D$4:$D$353,waarden!$E$4:$E$353)))","v":" "},null,{"$f":"IF(U62=0,\" \",IF(OR(U62<1,U62>350),\" \",LOOKUP(U62,waarden!$D$4:$D$353,waarden!$E$4:$E$353)))","v":" "},null,{"$f":"IF(W62=0,\" \",IF(OR(W62<1,W62>350),\" \",LOOKUP(W62,waarden!$D$4:$D$353,waarden!$E$4:$E$353)))","v":" "},null,{"$f":"IF(Y62=0,\" \",IF(OR(Y62<1,Y62>350),\" \",LOOKUP(Y62,waarden!$D$4:$D$353,waarden!$E$4:$E$353)))","v":" "},null,{"$f":"IF(AA62=0,\" \",IF(OR(AA62<1,AA62>350),\" \",LOOKUP(AA62,waarden!$D$4:$D$353,waarden!$E$4:$E$353)))","v":" "},null,{"$f":"IF(AC62=0,\" \",IF(OR(AC62<1,AC62>350),\" \",LOOKUP(AC62,waarden!$D$4:$D$353,waarden!$E$4:$E$353)))","v":" "},null,{"$f":"IF(AE62=0,\" \",IF(OR(AE62<1,AE62>350),\" \",LOOKUP(AE62,waarden!$D$4:$D$353,waarden!$E$4:$E$353)))","v":" "},null,{"$f":"IF(AG62=0,\" \",IF(OR(AG62<1,AG62>350),\" \",LOOKUP(AG62,waarden!$D$4:$D$353,waarden!$E$4:$E$353)))","v":" "},null,{"$f":"IF(AI62=0,\" \",IF(OR(AI62<1,AI62>350),\" \",LOOKUP(AI62,waarden!$D$4:$D$353,waarden!$E$4:$E$353)))","v":" "},null,{"$f":"IF(AK62=0,\" \",IF(OR(AK62<1,AK62>350),\" \",LOOKUP(AK62,waarden!$D$4:$D$353,waarden!$E$4:$E$353)))","v":" "},null,{"$f":"IF(AM62=0,\" \",IF(OR(AM62<1,AM62>350),\" \",LOOKUP(AM62,waarden!$D$4:$D$353,waarden!$E$4:$E$353)))","v":" "},null,{"$f":"IF(AO62=0,\" \",IF(OR(AO62<1,AO62>350),\" \",LOOKUP(AO62,waarden!$D$4:$D$353,waarden!$E$4:$E$353)))","v":" "},null,{"$f":"IF(AQ62=0,\" \",IF(OR(AQ62<1,AQ62>350),\" \",LOOKUP(AQ62,waarden!$D$4:$D$353,waarden!$E$4:$E$353)))","v":" "},null,{"$f":"IF(AS62=0,\" \",IF(OR(AS62<1,AS62>350),\" \",LOOKUP(AS62,waarden!$D$4:$D$353,waarden!$E$4:$E$353)))","v":" "},null,{"$f":"IF(AU62=0,\" \",IF(OR(AU62<1,AU62>350),\" \",LOOKUP(AU62,waarden!$D$4:$D$353,waarden!$E$4:$E$353)))","v":" "},null,{"$f":"IF(AW62=0,\" \",IF(OR(AW62<1,AW62>350),\" \",LOOKUP(AW62,waarden!$D$4:$D$353,waarden!$E$4:$E$353)))","v":" "},null,{"$f":"IF(AY62=0,\" \",IF(OR(AY62<1,AY62>350),\" \",LOOKUP(AY62,waarden!$D$4:$D$353,waarden!$E$4:$E$353)))","v":" "},null,{"$f":"IF(BA62=0,\" \",IF(OR(BA62<1,BA62>350),\" \",LOOKUP(BA62,waarden!$D$4:$D$353,waarden!$E$4:$E$353)))","v":" "},null,{"$f":"IF(BC62=0,\" \",IF(OR(BC62<1,BC62>350),\" \",LOOKUP(BC62,waarden!$D$4:$D$353,waarden!$E$4:$E$353)))","v":" "},null,{"$f":"IF(BE62=0,\" \",IF(OR(BE62<1,BE62>350),\" \",LOOKUP(BE62,waarden!$D$4:$D$353,waarden!$E$4:$E$353)))","v":" "},null,{"$f":"IF(BG62=0,\" \",IF(OR(BG62<1,BG62>350),\" \",LOOKUP(BG62,waarden!$D$4:$D$353,waarden!$E$4:$E$353)))","v":" "},null,{"$f":"IF(BI62=0,\" \",IF(OR(BI62<1,BI62>350),\" \",LOOKUP(BI62,waarden!$D$4:$D$353,waarden!$E$4:$E$353)))","v":" "},null,{"$f":"IF(BK62=0,\" \",IF(OR(BK62<1,BK62>350),\" \",LOOKUP(BK62,waarden!$D$4:$D$353,waarden!$E$4:$E$353)))","v":" "},null,{"$f":"IF(BM62=0,\" \",IF(OR(BM62<1,BM62>350),\" \",LOOKUP(BM62,waarden!$D$4:$D$353,waarden!$E$4:$E$353)))","v":" "},0,0]
[null,null,null,"Passagier",null,{"$f":"IF(E63=0,\" \",IF(OR(E63<1,E63>350),\" \",LOOKUP(E63,waarden!$A$4:$A$353,waarden!$B$4:$B$353)))","v":" "},null,{"$f":"IF(G63=0,\" \",IF(OR(G63<1,G63>350),\" \",LOOKUP(G63,waarden!$A$4:$A$353,waarden!$B$4:$B$353)))","v":" "},null,{"$f":"IF(I63=0,\" \",IF(OR(I63<1,I63>350),\" \",LOOKUP(I63,waarden!$A$4:$A$353,waarden!$B$4:$B$353)))","v":" "},null,{"$f":"IF(K63=0,\" \",IF(OR(K63<1,K63>350),\" \",LOOKUP(K63,waarden!$A$4:$A$353,waarden!$B$4:$B$353)))","v":" "},null,{"$f":"IF(M63=0,\" \",IF(OR(M63<1,M63>350),\" \",LOOKUP(M63,waarden!$A$4:$A$353,waarden!$B$4:$B$353)))","v":" "},null,{"$f":"IF(O63=0,\" \",IF(OR(O63<1,O63>350),\" \",LOOKUP(O63,waarden!$A$4:$A$353,waarden!$B$4:$B$353)))","v":" "},null,{"$f":"IF(Q63=0,\" \",IF(OR(Q63<1,Q63>350),\" \",LOOKUP(Q63,waarden!$A$4:$A$353,waarden!$B$4:$B$353)))","v":" "},null,{"$f":"IF(S63=0,\" \",IF(OR(S63<1,S63>350),\" \",LOOKUP(S63,waarden!$A$4:$A$353,waarden!$B$4:$B$353)))","v":" "},null,{"$f":"IF(U63=0,\" \",IF(OR(U63<1,U63>350),\" \",LOOKUP(U63,waarden!$A$4:$A$353,waarden!$B$4:$B$353)))","v":" "},null,{"$f":"IF(W63=0,\" \",IF(OR(W63<1,W63>350),\" \",LOOKUP(W63,waarden!$A$4:$A$353,waarden!$B$4:$B$353)))","v":" "},null,{"$f":"IF(Y63=0,\" \",IF(OR(Y63<1,Y63>350),\" \",LOOKUP(Y63,waarden!$A$4:$A$353,waarden!$B$4:$B$353)))","v":" "},null,{"$f":"IF(AA63=0,\" \",IF(OR(AA63<1,AA63>350),\" \",LOOKUP(AA63,waarden!$A$4:$A$353,waarden!$B$4:$B$353)))","v":" "},null,{"$f":"IF(AC63=0,\" \",IF(OR(AC63<1,AC63>350),\" \",LOOKUP(AC63,waarden!$A$4:$A$353,waarden!$B$4:$B$353)))","v":" "},null,{"$f":"IF(AE63=0,\" \",IF(OR(AE63<1,AE63>350),\" \",LOOKUP(AE63,waarden!$A$4:$A$353,waarden!$B$4:$B$353)))","v":" "},null,{"$f":"IF(AG63=0,\" \",IF(OR(AG63<1,AG63>350),\" \",LOOKUP(AG63,waarden!$A$4:$A$353,waarden!$B$4:$B$353)))","v":" "},null,{"$f":"IF(AI63=0,\" \",IF(OR(AI63<1,AI63>350),\" \",LOOKUP(AI63,waarden!$A$4:$A$353,waarden!$B$4:$B$353)))","v":" "},null,{"$f":"IF(AK63=0,\" \",IF(OR(AK63<1,AK63>350),\" \",LOOKUP(AK63,waarden!$A$4:$A$353,waarden!$B$4:$B$353)))","v":" "},null,{"$f":"IF(AM63=0,\" \",IF(OR(AM63<1,AM63>350),\" \",LOOKUP(AM63,waarden!$A$4:$A$353,waarden!$B$4:$B$353)))","v":" "},null,{"$f":"IF(AO63=0,\" \",IF(OR(AO63<1,AO63>350),\" \",LOOKUP(AO63,waarden!$A$4:$A$353,waarden!$B$4:$B$353)))","v":" "},null,{"$f":"IF(AQ63=0,\" \",IF(OR(AQ63<1,AQ63>350),\" \",LOOKUP(AQ63,waarden!$A$4:$A$353,waarden!$B$4:$B$353)))","v":" "},null,{"$f":"IF(AS63=0,\" \",IF(OR(AS63<1,AS63>350),\" \",LOOKUP(AS63,waarden!$A$4:$A$353,waarden!$B$4:$B$353)))","v":" "},null,{"$f":"IF(AU63=0,\" \",IF(OR(AU63<1,AU63>350),\" \",LOOKUP(AU63,waarden!$A$4:$A$353,waarden!$B$4:$B$353)))","v":" "},null,{"$f":"IF(AW63=0,\" \",IF(OR(AW63<1,AW63>350),\" \",LOOKUP(AW63,waarden!$A$4:$A$353,waarden!$B$4:$B$353)))","v":" "},null,{"$f":"IF(AY63=0,\" \",IF(OR(AY63<1,AY63>350),\" \",LOOKUP(AY63,waarden!$A$4:$A$353,waarden!$B$4:$B$353)))","v":" "},null,{"$f":"IF(BA63=0,\" \",IF(OR(BA63<1,BA63>350),\" \",LOOKUP(BA63,waarden!$A$4:$A$353,waarden!$B$4:$B$353)))","v":" "},null,{"$f":"IF(BC63=0,\" \",IF(OR(BC63<1,BC63>350),\" \",LOOKUP(BC63,waarden!$A$4:$A$353,waarden!$B$4:$B$353)))","v":" "},null,{"$f":"IF(BE63=0,\" \",IF(OR(BE63<1,BE63>350),\" \",LOOKUP(BE63,waarden!$A$4:$A$353,waarden!$B$4:$B$353)))","v":" "},null,{"$f":"IF(BG63=0,\" \",IF(OR(BG63<1,BG63>350),\" \",LOOKUP(BG63,waarden!$A$4:$A$353,waarden!$B$4:$B$353)))","v":" "},null,{"$f":"IF(BI63=0,\" \",IF(OR(BI63<1,BI63>350),\" \",LOOKUP(BI63,waarden!$A$4:$A$353,waarden!$B$4:$B$353)))","v":" "},null,{"$f":"IF(BK63=0,\" \",IF(OR(BK63<1,BK63>350),\" \",LOOKUP(BK63,waarden!$A$4:$A$353,waarden!$B$4:$B$353)))","v":" "},null,{"$f":"IF(BM63=0,\" \",IF(OR(BM63<1,BM63>350),\" \",LOOKUP(BM63,waarden!$A$4:$A$353,waarden!$B$4:$B$353)))","v":" "},0,0]
[null,null,null,"Chauffeur personeel",null,{"$f":"IF(E64=0,\" \",IF(OR(E64<1,E64>350),\" \",LOOKUP(E64,waarden!$G$4:$G$353,waarden!$H$4:$H$353)))","v":" "},null,{"$f":"IF(G64=0,\" \",IF(OR(G64<1,G64>350),\" \",LOOKUP(G64,waarden!$G$4:$G$353,waarden!$H$4:$H$353)))","v":" "},null,{"$f":"IF(I64=0,\" \",IF(OR(I64<1,I64>350),\" \",LOOKUP(I64,waarden!$G$4:$G$353,waarden!$H$4:$H$353)))","v":" "},null,{"$f":"IF(K64=0,\" \",IF(OR(K64<1,K64>350),\" \",LOOKUP(K64,waarden!$G$4:$G$353,waarden!$H$4:$H$353)))","v":" "},null,{"$f":"IF(M64=0,\" \",IF(OR(M64<1,M64>350),\" \",LOOKUP(M64,waarden!$G$4:$G$353,waarden!$H$4:$H$353)))","v":" "},null,{"$f":"IF(O64=0,\" \",IF(OR(O64<1,O64>350),\" \",LOOKUP(O64,waarden!$G$4:$G$353,waarden!$H$4:$H$353)))","v":" "},null,{"$f":"IF(Q64=0,\" \",IF(OR(Q64<1,Q64>350),\" \",LOOKUP(Q64,waarden!$G$4:$G$353,waarden!$H$4:$H$353)))","v":" "},null,{"$f":"IF(S64=0,\" \",IF(OR(S64<1,S64>350),\" \",LOOKUP(S64,waarden!$G$4:$G$353,waarden!$H$4:$H$353)))","v":" "},null,{"$f":"IF(U64=0,\" \",IF(OR(U64<1,U64>350),\" \",LOOKUP(U64,waarden!$G$4:$G$353,waarden!$H$4:$H$353)))","v":" "},null,{"$f":"IF(W64=0,\" \",IF(OR(W64<1,W64>350),\" \",LOOKUP(W64,waarden!$G$4:$G$353,waarden!$H$4:$H$353)))","v":" "},null,{"$f":"IF(Y64=0,\" \",IF(OR(Y64<1,Y64>350),\" \",LOOKUP(Y64,waarden!$G$4:$G$353,waarden!$H$4:$H$353)))","v":" "},null,{"$f":"IF(AA64=0,\" \",IF(OR(AA64<1,AA64>350),\" \",LOOKUP(AA64,waarden!$G$4:$G$353,waarden!$H$4:$H$353)))","v":" "},null,{"$f":"IF(AC64=0,\" \",IF(OR(AC64<1,AC64>350),\" \",LOOKUP(AC64,waarden!$G$4:$G$353,waarden!$H$4:$H$353)))","v":" "},null,{"$f":"IF(AE64=0,\" \",IF(OR(AE64<1,AE64>350),\" \",LOOKUP(AE64,waarden!$G$4:$G$353,waarden!$H$4:$H$353)))","v":" "},null,{"$f":"IF(AG64=0,\" \",IF(OR(AG64<1,AG64>350),\" \",LOOKUP(AG64,waarden!$G$4:$G$353,waarden!$H$4:$H$353)))","v":" "},null,{"$f":"IF(AI64=0,\" \",IF(OR(AI64<1,AI64>350),\" \",LOOKUP(AI64,waarden!$G$4:$G$353,waarden!$H$4:$H$353)))","v":" "},null,{"$f":"IF(AK64=0,\" \",IF(OR(AK64<1,AK64>350),\" \",LOOKUP(AK64,waarden!$G$4:$G$353,waarden!$H$4:$H$353)))","v":" "},null,{"$f":"IF(AM64=0,\" \",IF(OR(AM64<1,AM64>350),\" \",LOOKUP(AM64,waarden!$G$4:$G$353,waarden!$H$4:$H$353)))","v":" "},null,{"$f":"IF(AO64=0,\" \",IF(OR(AO64<1,AO64>350),\" \",LOOKUP(AO64,waarden!$G$4:$G$353,waarden!$H$4:$H$353)))","v":" "},null,{"$f":"IF(AQ64=0,\" \",IF(OR(AQ64<1,AQ64>350),\" \",LOOKUP(AQ64,waarden!$G$4:$G$353,waarden!$H$4:$H$353)))","v":" "},null,{"$f":"IF(AS64=0,\" \",IF(OR(AS64<1,AS64>350),\" \",LOOKUP(AS64,waarden!$G$4:$G$353,waarden!$H$4:$H$353)))","v":" "},null,{"$f":"IF(AU64=0,\" \",IF(OR(AU64<1,AU64>350),\" \",LOOKUP(AU64,waarden!$G$4:$G$353,waarden!$H$4:$H$353)))","v":" "},null,{"$f":"IF(AW64=0,\" \",IF(OR(AW64<1,AW64>350),\" \",LOOKUP(AW64,waarden!$G$4:$G$353,waarden!$H$4:$H$353)))","v":" "},null,{"$f":"IF(AY64=0,\" \",IF(OR(AY64<1,AY64>350),\" \",LOOKUP(AY64,waarden!$G$4:$G$353,waarden!$H$4:$H$353)))","v":" "},null,{"$f":"IF(BA64=0,\" \",IF(OR(BA64<1,BA64>350),\" \",LOOKUP(BA64,waarden!$G$4:$G$353,waarden!$H$4:$H$353)))","v":" "},null,{"$f":"IF(BC64=0,\" \",IF(OR(BC64<1,BC64>350),\" \",LOOKUP(BC64,waarden!$G$4:$G$353,waarden!$H$4:$H$353)))","v":" "},null,{"$f":"IF(BE64=0,\" \",IF(OR(BE64<1,BE64>350),\" \",LOOKUP(BE64,waarden!$G$4:$G$353,waarden!$H$4:$H$353)))","v":" "},null,{"$f":"IF(BG64=0,\" \",IF(OR(BG64<1,BG64>350),\" \",LOOKUP(BG64,waarden!$G$4:$G$353,waarden!$H$4:$H$353)))","v":" "},null,{"$f":"IF(BI64=0,\" \",IF(OR(BI64<1,BI64>350),\" \",LOOKUP(BI64,waarden!$G$4:$G$353,waarden!$H$4:$H$353)))","v":" "},null,{"$f":"IF(BK64=0,\" \",IF(OR(BK64<1,BK64>350),\" \",LOOKUP(BK64,waarden!$G$4:$G$353,waarden!$H$4:$H$353)))","v":" "},null,{"$f":"IF(BM64=0,\" \",IF(OR(BM64<1,BM64>350),\" \",LOOKUP(BM64,waarden!$G$4:$G$353,waarden!$H$4:$H$353)))","v":" "},0,{"$f":"SUM(F64,H64,J64,L64,N64,P64,R64,T64,V64,X64,Z64,AB64,AD64,AF64,AH64,AJ64,AL64,AN64,AP64,AR64,AT64,AV64,AX64,AZ64,BB64,BD64,BF64,BH64,BJ64,BL64,BN64)","v":0}]
[null,null,null,"Chauffeur alleen",null,{"$f":"IF(E65=0,\" \",IF(OR(E65<1,E65>350),\" \",LOOKUP(E65,waarden!$D$4:$D$353,waarden!$E$4:$E$353)))","v":" "},null,{"$f":"IF(G65=0,\" \",IF(OR(G65<1,G65>350),\" \",LOOKUP(G65,waarden!$D$4:$D$353,waarden!$E$4:$E$353)))","v":" "},null,{"$f":"IF(I65=0,\" \",IF(OR(I65<1,I65>350),\" \",LOOKUP(I65,waarden!$D$4:$D$353,waarden!$E$4:$E$353)))","v":" "},null,{"$f":"IF(K65=0,\" \",IF(OR(K65<1,K65>350),\" \",LOOKUP(K65,waarden!$D$4:$D$353,waarden!$E$4:$E$353)))","v":" "},null,{"$f":"IF(M65=0,\" \",IF(OR(M65<1,M65>350),\" \",LOOKUP(M65,waarden!$D$4:$D$353,waarden!$E$4:$E$353)))","v":" "},null,{"$f":"IF(O65=0,\" \",IF(OR(O65<1,O65>350),\" \",LOOKUP(O65,waarden!$D$4:$D$353,waarden!$E$4:$E$353)))","v":" "},null,{"$f":"IF(Q65=0,\" \",IF(OR(Q65<1,Q65>350),\" \",LOOKUP(Q65,waarden!$D$4:$D$353,waarden!$E$4:$E$353)))","v":" "},null,{"$f":"IF(S65=0,\" \",IF(OR(S65<1,S65>350),\" \",LOOKUP(S65,waarden!$D$4:$D$353,waarden!$E$4:$E$353)))","v":" "},null,{"$f":"IF(U65=0,\" \",IF(OR(U65<1,U65>350),\" \",LOOKUP(U65,waarden!$D$4:$D$353,waarden!$E$4:$E$353)))","v":" "},null,{"$f":"IF(W65=0,\" \",IF(OR(W65<1,W65>350),\" \",LOOKUP(W65,waarden!$D$4:$D$353,waarden!$E$4:$E$353)))","v":" "},null,{"$f":"IF(Y65=0,\" \",IF(OR(Y65<1,Y65>350),\" \",LOOKUP(Y65,waarden!$D$4:$D$353,waarden!$E$4:$E$353)))","v":" "},null,{"$f":"IF(AA65=0,\" \",IF(OR(AA65<1,AA65>350),\" \",LOOKUP(AA65,waarden!$D$4:$D$353,waarden!$E$4:$E$353)))","v":" "},null,{"$f":"IF(AC65=0,\" \",IF(OR(AC65<1,AC65>350),\" \",LOOKUP(AC65,waarden!$D$4:$D$353,waarden!$E$4:$E$353)))","v":" "},null,{"$f":"IF(AE65=0,\" \",IF(OR(AE65<1,AE65>350),\" \",LOOKUP(AE65,waarden!$D$4:$D$353,waarden!$E$4:$E$353)))","v":" "},null,{"$f":"IF(AG65=0,\" \",IF(OR(AG65<1,AG65>350),\" \",LOOKUP(AG65,waarden!$D$4:$D$353,waarden!$E$4:$E$353)))","v":" "},null,{"$f":"IF(AI65=0,\" \",IF(OR(AI65<1,AI65>350),\" \",LOOKUP(AI65,waarden!$D$4:$D$353,waarden!$E$4:$E$353)))","v":" "},null,{"$f":"IF(AK65=0,\" \",IF(OR(AK65<1,AK65>350),\" \",LOOKUP(AK65,waarden!$D$4:$D$353,waarden!$E$4:$E$353)))","v":" "},null,{"$f":"IF(AM65=0,\" \",IF(OR(AM65<1,AM65>350),\" \",LOOKUP(AM65,waarden!$D$4:$D$353,waarden!$E$4:$E$353)))","v":" "},null,{"$f":"IF(AO65=0,\" \",IF(OR(AO65<1,AO65>350),\" \",LOOKUP(AO65,waarden!$D$4:$D$353,waarden!$E$4:$E$353)))","v":" "},null,{"$f":"IF(AQ65=0,\" \",IF(OR(AQ65<1,AQ65>350),\" \",LOOKUP(AQ65,waarden!$D$4:$D$353,waarden!$E$4:$E$353)))","v":" "},null,{"$f":"IF(AS65=0,\" \",IF(OR(AS65<1,AS65>350),\" \",LOOKUP(AS65,waarden!$D$4:$D$353,waarden!$E$4:$E$353)))","v":" "},null,{"$f":"IF(AU65=0,\" \",IF(OR(AU65<1,AU65>350),\" \",LOOKUP(AU65,waarden!$D$4:$D$353,waarden!$E$4:$E$353)))","v":" "},null,{"$f":"IF(AW65=0,\" \",IF(OR(AW65<1,AW65>350),\" \",LOOKUP(AW65,waarden!$D$4:$D$353,waarden!$E$4:$E$353)))","v":" "},null,{"$f":"IF(AY65=0,\" \",IF(OR(AY65<1,AY65>350),\" \",LOOKUP(AY65,waarden!$D$4:$D$353,waarden!$E$4:$E$353)))","v":" "},null,{"$f":"IF(BA65=0,\" \",IF(OR(BA65<1,BA65>350),\" \",LOOKUP(BA65,waarden!$D$4:$D$353,waarden!$E$4:$E$353)))","v":" "},null,{"$f":"IF(BC65=0,\" \",IF(OR(BC65<1,BC65>350),\" \",LOOKUP(BC65,waarden!$D$4:$D$353,waarden!$E$4:$E$353)))","v":" "},null,{"$f":"IF(BE65=0,\" \",IF(OR(BE65<1,BE65>350),\" \",LOOKUP(BE65,waarden!$D$4:$D$353,waarden!$E$4:$E$353)))","v":" "},null,{"$f":"IF(BG65=0,\" \",IF(OR(BG65<1,BG65>350),\" \",LOOKUP(BG65,waarden!$D$4:$D$353,waarden!$E$4:$E$353)))","v":" "},null,{"$f":"IF(BI65=0,\" \",IF(OR(BI65<1,BI65>350),\" \",LOOKUP(BI65,waarden!$D$4:$D$353,waarden!$E$4:$E$353)))","v":" "},null,{"$f":"IF(BK65=0,\" \",IF(OR(BK65<1,BK65>350),\" \",LOOKUP(BK65,waarden!$D$4:$D$353,waarden!$E$4:$E$353)))","v":" "},null,{"$f":"IF(BM65=0,\" \",IF(OR(BM65<1,BM65>350),\" \",LOOKUP(BM65,waarden!$D$4:$D$353,waarden!$E$4:$E$353)))","v":" "},0,0]
[null,null,null,"Passagier",null,{"$f":"IF(E66=0,\" \",IF(OR(E66<1,E66>350),\" \",LOOKUP(E66,waarden!$A$4:$A$353,waarden!$B$4:$B$353)))","v":" "},null,{"$f":"IF(G66=0,\" \",IF(OR(G66<1,G66>350),\" \",LOOKUP(G66,waarden!$A$4:$A$353,waarden!$B$4:$B$353)))","v":" "},null,{"$f":"IF(I66=0,\" \",IF(OR(I66<1,I66>350),\" \",LOOKUP(I66,waarden!$A$4:$A$353,waarden!$B$4:$B$353)))","v":" "},null,{"$f":"IF(K66=0,\" \",IF(OR(K66<1,K66>350),\" \",LOOKUP(K66,waarden!$A$4:$A$353,waarden!$B$4:$B$353)))","v":" "},null,{"$f":"IF(M66=0,\" \",IF(OR(M66<1,M66>350),\" \",LOOKUP(M66,waarden!$A$4:$A$353,waarden!$B$4:$B$353)))","v":" "},null,{"$f":"IF(O66=0,\" \",IF(OR(O66<1,O66>350),\" \",LOOKUP(O66,waarden!$A$4:$A$353,waarden!$B$4:$B$353)))","v":" "},null,{"$f":"IF(Q66=0,\" \",IF(OR(Q66<1,Q66>350),\" \",LOOKUP(Q66,waarden!$A$4:$A$353,waarden!$B$4:$B$353)))","v":" "},null,{"$f":"IF(S66=0,\" \",IF(OR(S66<1,S66>350),\" \",LOOKUP(S66,waarden!$A$4:$A$353,waarden!$B$4:$B$353)))","v":" "},null,{"$f":"IF(U66=0,\" \",IF(OR(U66<1,U66>350),\" \",LOOKUP(U66,waarden!$A$4:$A$353,waarden!$B$4:$B$353)))","v":" "},null,{"$f":"IF(W66=0,\" \",IF(OR(W66<1,W66>350),\" \",LOOKUP(W66,waarden!$A$4:$A$353,waarden!$B$4:$B$353)))","v":" "},null,{"$f":"IF(Y66=0,\" \",IF(OR(Y66<1,Y66>350),\" \",LOOKUP(Y66,waarden!$A$4:$A$353,waarden!$B$4:$B$353)))","v":" "},null,{"$f":"IF(AA66=0,\" \",IF(OR(AA66<1,AA66>350),\" \",LOOKUP(AA66,waarden!$A$4:$A$353,waarden!$B$4:$B$353)))","v":" "},null,{"$f":"IF(AC66=0,\" \",IF(OR(AC66<1,AC66>350),\" \",LOOKUP(AC66,waarden!$A$4:$A$353,waarden!$B$4:$B$353)))","v":" "},null,{"$f":"IF(AE66=0,\" \",IF(OR(AE66<1,AE66>350),\" \",LOOKUP(AE66,waarden!$A$4:$A$353,waarden!$B$4:$B$353)))","v":" "},null,{"$f":"IF(AG66=0,\" \",IF(OR(AG66<1,AG66>350),\" \",LOOKUP(AG66,waarden!$A$4:$A$353,waarden!$B$4:$B$353)))","v":" "},null,{"$f":"IF(AI66=0,\" \",IF(OR(AI66<1,AI66>350),\" \",LOOKUP(AI66,waarden!$A$4:$A$353,waarden!$B$4:$B$353)))","v":" "},null,{"$f":"IF(AK66=0,\" \",IF(OR(AK66<1,AK66>350),\" \",LOOKUP(AK66,waarden!$A$4:$A$353,waarden!$B$4:$B$353)))","v":" "},null,{"$f":"IF(AM66=0,\" \",IF(OR(AM66<1,AM66>350),\" \",LOOKUP(AM66,waarden!$A$4:$A$353,waarden!$B$4:$B$353)))","v":" "},null,{"$f":"IF(AO66=0,\" \",IF(OR(AO66<1,AO66>350),\" \",LOOKUP(AO66,waarden!$A$4:$A$353,waarden!$B$4:$B$353)))","v":" "},null,{"$f":"IF(AQ66=0,\" \",IF(OR(AQ66<1,AQ66>350),\" \",LOOKUP(AQ66,waarden!$A$4:$A$353,waarden!$B$4:$B$353)))","v":" "},null,{"$f":"IF(AS66=0,\" \",IF(OR(AS66<1,AS66>350),\" \",LOOKUP(AS66,waarden!$A$4:$A$353,waarden!$B$4:$B$353)))","v":" "},null,{"$f":"IF(AU66=0,\" \",IF(OR(AU66<1,AU66>350),\" \",LOOKUP(AU66,waarden!$A$4:$A$353,waarden!$B$4:$B$353)))","v":" "},null,{"$f":"IF(AW66=0,\" \",IF(OR(AW66<1,AW66>350),\" \",LOOKUP(AW66,waarden!$A$4:$A$353,waarden!$B$4:$B$353)))","v":" "},null,{"$f":"IF(AY66=0,\" \",IF(OR(AY66<1,AY66>350),\" \",LOOKUP(AY66,waarden!$A$4:$A$353,waarden!$B$4:$B$353)))","v":" "},null,{"$f":"IF(BA66=0,\" \",IF(OR(BA66<1,BA66>350),\" \",LOOKUP(BA66,waarden!$A$4:$A$353,waarden!$B$4:$B$353)))","v":" "},null,{"$f":"IF(BC66=0,\" \",IF(OR(BC66<1,BC66>350),\" \",LOOKUP(BC66,waarden!$A$4:$A$353,waarden!$B$4:$B$353)))","v":" "},null,{"$f":"IF(BE66=0,\" \",IF(OR(BE66<1,BE66>350),\" \",LOOKUP(BE66,waarden!$A$4:$A$353,waarden!$B$4:$B$353)))","v":" "},null,{"$f":"IF(BG66=0,\" \",IF(OR(BG66<1,BG66>350),\" \",LOOKUP(BG66,waarden!$A$4:$A$353,waarden!$B$4:$B$353)))","v":" "},null,{"$f":"IF(BI66=0,\" \",IF(OR(BI66<1,BI66>350),\" \",LOOKUP(BI66,waarden!$A$4:$A$353,waarden!$B$4:$B$353)))","v":" "},null,{"$f":"IF(BK66=0,\" \",IF(OR(BK66<1,BK66>350),\" \",LOOKUP(BK66,waarden!$A$4:$A$353,waarden!$B$4:$B$353)))","v":" "},null,{"$f":"IF(BM66=0,\" \",IF(OR(BM66<1,BM66>350),\" \",LOOKUP(BM66,waarden!$A$4:$A$353,waarden!$B$4:$B$353)))","v":" "},0,0]
[null,null,null,"Chauffeur personeel",null,{"$f":"IF(E67=0,\" \",IF(OR(E67<1,E67>350),\" \",LOOKUP(E67,waarden!$G$4:$G$353,waarden!$H$4:$H$353)))","v":" "},null,{"$f":"IF(G67=0,\" \",IF(OR(G67<1,G67>350),\" \",LOOKUP(G67,waarden!$G$4:$G$353,waarden!$H$4:$H$353)))","v":" "},null,{"$f":"IF(I67=0,\" \",IF(OR(I67<1,I67>350),\" \",LOOKUP(I67,waarden!$G$4:$G$353,waarden!$H$4:$H$353)))","v":" "},null,{"$f":"IF(K67=0,\" \",IF(OR(K67<1,K67>350),\" \",LOOKUP(K67,waarden!$G$4:$G$353,waarden!$H$4:$H$353)))","v":" "},null,{"$f":"IF(M67=0,\" \",IF(OR(M67<1,M67>350),\" \",LOOKUP(M67,waarden!$G$4:$G$353,waarden!$H$4:$H$353)))","v":" "},null,{"$f":"IF(O67=0,\" \",IF(OR(O67<1,O67>350),\" \",LOOKUP(O67,waarden!$G$4:$G$353,waarden!$H$4:$H$353)))","v":" "},null,{"$f":"IF(Q67=0,\" \",IF(OR(Q67<1,Q67>350),\" \",LOOKUP(Q67,waarden!$G$4:$G$353,waarden!$H$4:$H$353)))","v":" "},null,{"$f":"IF(S67=0,\" \",IF(OR(S67<1,S67>350),\" \",LOOKUP(S67,waarden!$G$4:$G$353,waarden!$H$4:$H$353)))","v":" "},null,{"$f":"IF(U67=0,\" \",IF(OR(U67<1,U67>350),\" \",LOOKUP(U67,waarden!$G$4:$G$353,waarden!$H$4:$H$353)))","v":" "},null,{"$f":"IF(W67=0,\" \",IF(OR(W67<1,W67>350),\" \",LOOKUP(W67,waarden!$G$4:$G$353,waarden!$H$4:$H$353)))","v":" "},null,{"$f":"IF(Y67=0,\" \",IF(OR(Y67<1,Y67>350),\" \",LOOKUP(Y67,waarden!$G$4:$G$353,waarden!$H$4:$H$353)))","v":" "},null,{"$f":"IF(AA67=0,\" \",IF(OR(AA67<1,AA67>350),\" \",LOOKUP(AA67,waarden!$G$4:$G$353,waarden!$H$4:$H$353)))","v":" "},null,{"$f":"IF(AC67=0,\" \",IF(OR(AC67<1,AC67>350),\" \",LOOKUP(AC67,waarden!$G$4:$G$353,waarden!$H$4:$H$353)))","v":" "},null,{"$f":"IF(AE67=0,\" \",IF(OR(AE67<1,AE67>350),\" \",LOOKUP(AE67,waarden!$G$4:$G$353,waarden!$H$4:$H$353)))","v":" "},null,{"$f":"IF(AG67=0,\" \",IF(OR(AG67<1,AG67>350),\" \",LOOKUP(AG67,waarden!$G$4:$G$353,waarden!$H$4:$H$353)))","v":" "},null,{"$f":"IF(AI67=0,\" \",IF(OR(AI67<1,AI67>350),\" \",LOOKUP(AI67,waarden!$G$4:$G$353,waarden!$H$4:$H$353)))","v":" "},null,{"$f":"IF(AK67=0,\" \",IF(OR(AK67<1,AK67>350),\" \",LOOKUP(AK67,waarden!$G$4:$G$353,waarden!$H$4:$H$353)))","v":" "},null,{"$f":"IF(AM67=0,\" \",IF(OR(AM67<1,AM67>350),\" \",LOOKUP(AM67,waarden!$G$4:$G$353,waarden!$H$4:$H$353)))","v":" "},null,{"$f":"IF(AO67=0,\" \",IF(OR(AO67<1,AO67>350),\" \",LOOKUP(AO67,waarden!$G$4:$G$353,waarden!$H$4:$H$353)))","v":" "},null,{"$f":"IF(AQ67=0,\" \",IF(OR(AQ67<1,AQ67>350),\" \",LOOKUP(AQ67,waarden!$G$4:$G$353,waarden!$H$4:$H$353)))","v":" "},null,{"$f":"IF(AS67=0,\" \",IF(OR(AS67<1,AS67>350),\" \",LOOKUP(AS67,waarden!$G$4:$G$353,waarden!$H$4:$H$353)))","v":" "},null,{"$f":"IF(AU67=0,\" \",IF(OR(AU67<1,AU67>350),\" \",LOOKUP(AU67,waarden!$G$4:$G$353,waarden!$H$4:$H$353)))","v":" "},null,{"$f":"IF(AW67=0,\" \",IF(OR(AW67<1,AW67>350),\" \",LOOKUP(AW67,waarden!$G$4:$G$353,waarden!$H$4:$H$353)))","v":" "},null,{"$f":"IF(AY67=0,\" \",IF(OR(AY67<1,AY67>350),\" \",LOOKUP(AY67,waarden!$G$4:$G$353,waarden!$H$4:$H$353)))","v":" "},null,{"$f":"IF(BA67=0,\" \",IF(OR(BA67<1,BA67>350),\" \",LOOKUP(BA67,waarden!$G$4:$G$353,waarden!$H$4:$H$353)))","v":" "},null,{"$f":"IF(BC67=0,\" \",IF(OR(BC67<1,BC67>350),\" \",LOOKUP(BC67,waarden!$G$4:$G$353,waarden!$H$4:$H$353)))","v":" "},null,{"$f":"IF(BE67=0,\" \",IF(OR(BE67<1,BE67>350),\" \",LOOKUP(BE67,waarden!$G$4:$G$353,waarden!$H$4:$H$353)))","v":" "},null,{"$f":"IF(BG67=0,\" \",IF(OR(BG67<1,BG67>350),\" \",LOOKUP(BG67,waarden!$G$4:$G$353,waarden!$H$4:$H$353)))","v":" "},null,{"$f":"IF(BI67=0,\" \",IF(OR(BI67<1,BI67>350),\" \",LOOKUP(BI67,waarden!$G$4:$G$353,waarden!$H$4:$H$353)))","v":" "},null,{"$f":"IF(BK67=0,\" \",IF(OR(BK67<1,BK67>350),\" \",LOOKUP(BK67,waarden!$G$4:$G$353,waarden!$H$4:$H$353)))","v":" "},null,{"$f":"IF(BM67=0,\" \",IF(OR(BM67<1,BM67>350),\" \",LOOKUP(BM67,waarden!$G$4:$G$353,waarden!$H$4:$H$353)))","v":" "},0,{"$f":"SUM(F67,H67,J67,L67,N67,P67,R67,T67,V67,X67,Z67,AB67,AD67,AF67,AH67,AJ67,AL67,AN67,AP67,AR67,AT67,AV67,AX67,AZ67,BB67,BD67,BF67,BH67,BJ67,BL67,BN67)","v":0}]
[null,null,null,"Chauffeur alleen",null,{"$f":"IF(E68=0,\" \",IF(OR(E68<1,E68>350),\" \",LOOKUP(E68,waarden!$D$4:$D$353,waarden!$E$4:$E$353)))","v":" "},null,{"$f":"IF(G68=0,\" \",IF(OR(G68<1,G68>350),\" \",LOOKUP(G68,waarden!$D$4:$D$353,waarden!$E$4:$E$353)))","v":" "},null,{"$f":"IF(I68=0,\" \",IF(OR(I68<1,I68>350),\" \",LOOKUP(I68,waarden!$D$4:$D$353,waarden!$E$4:$E$353)))","v":" "},null,{"$f":"IF(K68=0,\" \",IF(OR(K68<1,K68>350),\" \",LOOKUP(K68,waarden!$D$4:$D$353,waarden!$E$4:$E$353)))","v":" "},null,{"$f":"IF(M68=0,\" \",IF(OR(M68<1,M68>350),\" \",LOOKUP(M68,waarden!$D$4:$D$353,waarden!$E$4:$E$353)))","v":" "},null,{"$f":"IF(O68=0,\" \",IF(OR(O68<1,O68>350),\" \",LOOKUP(O68,waarden!$D$4:$D$353,waarden!$E$4:$E$353)))","v":" "},null,{"$f":"IF(Q68=0,\" \",IF(OR(Q68<1,Q68>350),\" \",LOOKUP(Q68,waarden!$D$4:$D$353,waarden!$E$4:$E$353)))","v":" "},null,{"$f":"IF(S68=0,\" \",IF(OR(S68<1,S68>350),\" \",LOOKUP(S68,waarden!$D$4:$D$353,waarden!$E$4:$E$353)))","v":" "},null,{"$f":"IF(U68=0,\" \",IF(OR(U68<1,U68>350),\" \",LOOKUP(U68,waarden!$D$4:$D$353,waarden!$E$4:$E$353)))","v":" "},null,{"$f":"IF(W68=0,\" \",IF(OR(W68<1,W68>350),\" \",LOOKUP(W68,waarden!$D$4:$D$353,waarden!$E$4:$E$353)))","v":" "},null,{"$f":"IF(Y68=0,\" \",IF(OR(Y68<1,Y68>350),\" \",LOOKUP(Y68,waarden!$D$4:$D$353,waarden!$E$4:$E$353)))","v":" "},null,{"$f":"IF(AA68=0,\" \",IF(OR(AA68<1,AA68>350),\" \",LOOKUP(AA68,waarden!$D$4:$D$353,waarden!$E$4:$E$353)))","v":" "},null,{"$f":"IF(AC68=0,\" \",IF(OR(AC68<1,AC68>350),\" \",LOOKUP(AC68,waarden!$D$4:$D$353,waarden!$E$4:$E$353)))","v":" "},null,{"$f":"IF(AE68=0,\" \",IF(OR(AE68<1,AE68>350),\" \",LOOKUP(AE68,waarden!$D$4:$D$353,waarden!$E$4:$E$353)))","v":" "},null,{"$f":"IF(AG68=0,\" \",IF(OR(AG68<1,AG68>350),\" \",LOOKUP(AG68,waarden!$D$4:$D$353,waarden!$E$4:$E$353)))","v":" "},null,{"$f":"IF(AI68=0,\" \",IF(OR(AI68<1,AI68>350),\" \",LOOKUP(AI68,waarden!$D$4:$D$353,waarden!$E$4:$E$353)))","v":" "},null,{"$f":"IF(AK68=0,\" \",IF(OR(AK68<1,AK68>350),\" \",LOOKUP(AK68,waarden!$D$4:$D$353,waarden!$E$4:$E$353)))","v":" "},null,{"$f":"IF(AM68=0,\" \",IF(OR(AM68<1,AM68>350),\" \",LOOKUP(AM68,waarden!$D$4:$D$353,waarden!$E$4:$E$353)))","v":" "},null,{"$f":"IF(AO68=0,\" \",IF(OR(AO68<1,AO68>350),\" \",LOOKUP(AO68,waarden!$D$4:$D$353,waarden!$E$4:$E$353)))","v":" "},null,{"$f":"IF(AQ68=0,\" \",IF(OR(AQ68<1,AQ68>350),\" \",LOOKUP(AQ68,waarden!$D$4:$D$353,waarden!$E$4:$E$353)))","v":" "},null,{"$f":"IF(AS68=0,\" \",IF(OR(AS68<1,AS68>350),\" \",LOOKUP(AS68,waarden!$D$4:$D$353,waarden!$E$4:$E$353)))","v":" "},null,{"$f":"IF(AU68=0,\" \",IF(OR(AU68<1,AU68>350),\" \",LOOKUP(AU68,waarden!$D$4:$D$353,waarden!$E$4:$E$353)))","v":" "},null,{"$f":"IF(AW68=0,\" \",IF(OR(AW68<1,AW68>350),\" \",LOOKUP(AW68,waarden!$D$4:$D$353,waarden!$E$4:$E$353)))","v":" "},null,{"$f":"IF(AY68=0,\" \",IF(OR(AY68<1,AY68>350),\" \",LOOKUP(AY68,waarden!$D$4:$D$353,waarden!$E$4:$E$353)))","v":" "},null,{"$f":"IF(BA68=0,\" \",IF(OR(BA68<1,BA68>350),\" \",LOOKUP(BA68,waarden!$D$4:$D$353,waarden!$E$4:$E$353)))","v":" "},null,{"$f":"IF(BC68=0,\" \",IF(OR(BC68<1,BC68>350),\" \",LOOKUP(BC68,waarden!$D$4:$D$353,waarden!$E$4:$E$353)))","v":" "},null,{"$f":"IF(BE68=0,\" \",IF(OR(BE68<1,BE68>350),\" \",LOOKUP(BE68,waarden!$D$4:$D$353,waarden!$E$4:$E$353)))","v":" "},null,{"$f":"IF(BG68=0,\" \",IF(OR(BG68<1,BG68>350),\" \",LOOKUP(BG68,waarden!$D$4:$D$353,waarden!$E$4:$E$353)))","v":" "},null,{"$f":"IF(BI68=0,\" \",IF(OR(BI68<1,BI68>350),\" \",LOOKUP(BI68,waarden!$D$4:$D$353,waarden!$E$4:$E$353)))","v":" "},null,{"$f":"IF(BK68=0,\" \",IF(OR(BK68<1,BK68>350),\" \",LOOKUP(BK68,waarden!$D$4:$D$353,waarden!$E$4:$E$353)))","v":" "},null,{"$f":"IF(BM68=0,\" \",IF(OR(BM68<1,BM68>350),\" \",LOOKUP(BM68,waarden!$D$4:$D$353,waarden!$E$4:$E$353)))","v":" "},0,0]
[null,null,null,"Passagier",null,{"$f":"IF(E69=0,\" \",IF(OR(E69<1,E69>350),\" \",LOOKUP(E69,waarden!$A$4:$A$353,waarden!$B$4:$B$353)))","v":" "},null,{"$f":"IF(G69=0,\" \",IF(OR(G69<1,G69>350),\" \",LOOKUP(G69,waarden!$A$4:$A$353,waarden!$B$4:$B$353)))","v":" "},null,{"$f":"IF(I69=0,\" \",IF(OR(I69<1,I69>350),\" \",LOOKUP(I69,waarden!$A$4:$A$353,waarden!$B$4:$B$353)))","v":" "},null,{"$f":"IF(K69=0,\" \",IF(OR(K69<1,K69>350),\" \",LOOKUP(K69,waarden!$A$4:$A$353,waarden!$B$4:$B$353)))","v":" "},null,{"$f":"IF(M69=0,\" \",IF(OR(M69<1,M69>350),\" \",LOOKUP(M69,waarden!$A$4:$A$353,waarden!$B$4:$B$353)))","v":" "},null,{"$f":"IF(O69=0,\" \",IF(OR(O69<1,O69>350),\" \",LOOKUP(O69,waarden!$A$4:$A$353,waarden!$B$4:$B$353)))","v":" "},null,{"$f":"IF(Q69=0,\" \",IF(OR(Q69<1,Q69>350),\" \",LOOKUP(Q69,waarden!$A$4:$A$353,waarden!$B$4:$B$353)))","v":" "},null,{"$f":"IF(S69=0,\" \",IF(OR(S69<1,S69>350),\" \",LOOKUP(S69,waarden!$A$4:$A$353,waarden!$B$4:$B$353)))","v":" "},null,{"$f":"IF(U69=0,\" \",IF(OR(U69<1,U69>350),\" \",LOOKUP(U69,waarden!$A$4:$A$353,waarden!$B$4:$B$353)))","v":" "},null,{"$f":"IF(W69=0,\" \",IF(OR(W69<1,W69>350),\" \",LOOKUP(W69,waarden!$A$4:$A$353,waarden!$B$4:$B$353)))","v":" "},null,{"$f":"IF(Y69=0,\" \",IF(OR(Y69<1,Y69>350),\" \",LOOKUP(Y69,waarden!$A$4:$A$353,waarden!$B$4:$B$353)))","v":" "},null,{"$f":"IF(AA69=0,\" \",IF(OR(AA69<1,AA69>350),\" \",LOOKUP(AA69,waarden!$A$4:$A$353,waarden!$B$4:$B$353)))","v":" "},null,{"$f":"IF(AC69=0,\" \",IF(OR(AC69<1,AC69>350),\" \",LOOKUP(AC69,waarden!$A$4:$A$353,waarden!$B$4:$B$353)))","v":" "},null,{"$f":"IF(AE69=0,\" \",IF(OR(AE69<1,AE69>350),\" \",LOOKUP(AE69,waarden!$A$4:$A$353,waarden!$B$4:$B$353)))","v":" "},null,{"$f":"IF(AG69=0,\" \",IF(OR(AG69<1,AG69>350),\" \",LOOKUP(AG69,waarden!$A$4:$A$353,waarden!$B$4:$B$353)))","v":" "},null,{"$f":"IF(AI69=0,\" \",IF(OR(AI69<1,AI69>350),\" \",LOOKUP(AI69,waarden!$A$4:$A$353,waarden!$B$4:$B$353)))","v":" "},null,{"$f":"IF(AK69=0,\" \",IF(OR(AK69<1,AK69>350),\" \",LOOKUP(AK69,waarden!$A$4:$A$353,waarden!$B$4:$B$353)))","v":" "},null,{"$f":"IF(AM69=0,\" \",IF(OR(AM69<1,AM69>350),\" \",LOOKUP(AM69,waarden!$A$4:$A$353,waarden!$B$4:$B$353)))","v":" "},null,{"$f":"IF(AO69=0,\" \",IF(OR(AO69<1,AO69>350),\" \",LOOKUP(AO69,waarden!$A$4:$A$353,waarden!$B$4:$B$353)))","v":" "},null,{"$f":"IF(AQ69=0,\" \",IF(OR(AQ69<1,AQ69>350),\" \",LOOKUP(AQ69,waarden!$A$4:$A$353,waarden!$B$4:$B$353)))","v":" "},null,{"$f":"IF(AS69=0,\" \",IF(OR(AS69<1,AS69>350),\" \",LOOKUP(AS69,waarden!$A$4:$A$353,waarden!$B$4:$B$353)))","v":" "},null,{"$f":"IF(AU69=0,\" \",IF(OR(AU69<1,AU69>350),\" \",LOOKUP(AU69,waarden!$A$4:$A$353,waarden!$B$4:$B$353)))","v":" "},null,{"$f":"IF(AW69=0,\" \",IF(OR(AW69<1,AW69>350),\" \",LOOKUP(AW69,waarden!$A$4:$A$353,waarden!$B$4:$B$353)))","v":" "},null,{"$f":"IF(AY69=0,\" \",IF(OR(AY69<1,AY69>350),\" \",LOOKUP(AY69,waarden!$A$4:$A$353,waarden!$B$4:$B$353)))","v":" "},null,{"$f":"IF(BA69=0,\" \",IF(OR(BA69<1,BA69>350),\" \",LOOKUP(BA69,waarden!$A$4:$A$353,waarden!$B$4:$B$353)))","v":" "},null,{"$f":"IF(BC69=0,\" \",IF(OR(BC69<1,BC69>350),\" \",LOOKUP(BC69,waarden!$A$4:$A$353,waarden!$B$4:$B$353)))","v":" "},null,{"$f":"IF(BE69=0,\" \",IF(OR(BE69<1,BE69>350),\" \",LOOKUP(BE69,waarden!$A$4:$A$353,waarden!$B$4:$B$353)))","v":" "},null,{"$f":"IF(BG69=0,\" \",IF(OR(BG69<1,BG69>350),\" \",LOOKUP(BG69,waarden!$A$4:$A$353,waarden!$B$4:$B$353)))","v":" "},null,{"$f":"IF(BI69=0,\" \",IF(OR(BI69<1,BI69>350),\" \",LOOKUP(BI69,waarden!$A$4:$A$353,waarden!$B$4:$B$353)))","v":" "},null,{"$f":"IF(BK69=0,\" \",IF(OR(BK69<1,BK69>350),\" \",LOOKUP(BK69,waarden!$A$4:$A$353,waarden!$B$4:$B$353)))","v":" "},null,{"$f":"IF(BM69=0,\" \",IF(OR(BM69<1,BM69>350),\" \",LOOKUP(BM69,waarden!$A$4:$A$353,waarden!$B$4:$B$353)))","v":" "},0,0]
[null,null,null,"Chauffeur personeel",null,{"$f":"IF(E70=0,\" \",IF(OR(E70<1,E70>350),\" \",LOOKUP(E70,waarden!$G$4:$G$353,waarden!$H$4:$H$353)))","v":" "},null,{"$f":"IF(G70=0,\" \",IF(OR(G70<1,G70>350),\" \",LOOKUP(G70,waarden!$G$4:$G$353,waarden!$H$4:$H$353)))","v":" "},null,{"$f":"IF(I70=0,\" \",IF(OR(I70<1,I70>350),\" \",LOOKUP(I70,waarden!$G$4:$G$353,waarden!$H$4:$H$353)))","v":" "},null,{"$f":"IF(K70=0,\" \",IF(OR(K70<1,K70>350),\" \",LOOKUP(K70,waarden!$G$4:$G$353,waarden!$H$4:$H$353)))","v":" "},null,{"$f":"IF(M70=0,\" \",IF(OR(M70<1,M70>350),\" \",LOOKUP(M70,waarden!$G$4:$G$353,waarden!$H$4:$H$353)))","v":" "},null,{"$f":"IF(O70=0,\" \",IF(OR(O70<1,O70>350),\" \",LOOKUP(O70,waarden!$G$4:$G$353,waarden!$H$4:$H$353)))","v":" "},null,{"$f":"IF(Q70=0,\" \",IF(OR(Q70<1,Q70>350),\" \",LOOKUP(Q70,waarden!$G$4:$G$353,waarden!$H$4:$H$353)))","v":" "},null,{"$f":"IF(S70=0,\" \",IF(OR(S70<1,S70>350),\" \",LOOKUP(S70,waarden!$G$4:$G$353,waarden!$H$4:$H$353)))","v":" "},null,{"$f":"IF(U70=0,\" \",IF(OR(U70<1,U70>350),\" \",LOOKUP(U70,waarden!$G$4:$G$353,waarden!$H$4:$H$353)))","v":" "},null,{"$f":"IF(W70=0,\" \",IF(OR(W70<1,W70>350),\" \",LOOKUP(W70,waarden!$G$4:$G$353,waarden!$H$4:$H$353)))","v":" "},null,{"$f":"IF(Y70=0,\" \",IF(OR(Y70<1,Y70>350),\" \",LOOKUP(Y70,waarden!$G$4:$G$353,waarden!$H$4:$H$353)))","v":" "},null,{"$f":"IF(AA70=0,\" \",IF(OR(AA70<1,AA70>350),\" \",LOOKUP(AA70,waarden!$G$4:$G$353,waarden!$H$4:$H$353)))","v":" "},null,{"$f":"IF(AC70=0,\" \",IF(OR(AC70<1,AC70>350),\" \",LOOKUP(AC70,waarden!$G$4:$G$353,waarden!$H$4:$H$353)))","v":" "},null,{"$f":"IF(AE70=0,\" \",IF(OR(AE70<1,AE70>350),\" \",LOOKUP(AE70,waarden!$G$4:$G$353,waarden!$H$4:$H$353)))","v":" "},null,{"$f":"IF(AG70=0,\" \",IF(OR(AG70<1,AG70>350),\" \",LOOKUP(AG70,waarden!$G$4:$G$353,waarden!$H$4:$H$353)))","v":" "},null,{"$f":"IF(AI70=0,\" \",IF(OR(AI70<1,AI70>350),\" \",LOOKUP(AI70,waarden!$G$4:$G$353,waarden!$H$4:$H$353)))","v":" "},null,{"$f":"IF(AK70=0,\" \",IF(OR(AK70<1,AK70>350),\" \",LOOKUP(AK70,waarden!$G$4:$G$353,waarden!$H$4:$H$353)))","v":" "},null,{"$f":"IF(AM70=0,\" \",IF(OR(AM70<1,AM70>350),\" \",LOOKUP(AM70,waarden!$G$4:$G$353,waarden!$H$4:$H$353)))","v":" "},null,{"$f":"IF(AO70=0,\" \",IF(OR(AO70<1,AO70>350),\" \",LOOKUP(AO70,waarden!$G$4:$G$353,waarden!$H$4:$H$353)))","v":" "},null,{"$f":"IF(AQ70=0,\" \",IF(OR(AQ70<1,AQ70>350),\" \",LOOKUP(AQ70,waarden!$G$4:$G$353,waarden!$H$4:$H$353)))","v":" "},null,{"$f":"IF(AS70=0,\" \",IF(OR(AS70<1,AS70>350),\" \",LOOKUP(AS70,waarden!$G$4:$G$353,waarden!$H$4:$H$353)))","v":" "},null,{"$f":"IF(AU70=0,\" \",IF(OR(AU70<1,AU70>350),\" \",LOOKUP(AU70,waarden!$G$4:$G$353,waarden!$H$4:$H$353)))","v":" "},null,{"$f":"IF(AW70=0,\" \",IF(OR(AW70<1,AW70>350),\" \",LOOKUP(AW70,waarden!$G$4:$G$353,waarden!$H$4:$H$353)))","v":" "},null,{"$f":"IF(AY70=0,\" \",IF(OR(AY70<1,AY70>350),\" \",LOOKUP(AY70,waarden!$G$4:$G$353,waarden!$H$4:$H$353)))","v":" "},null,{"$f":"IF(BA70=0,\" \",IF(OR(BA70<1,BA70>350),\" \",LOOKUP(BA70,waarden!$G$4:$G$353,waarden!$H$4:$H$353)))","v":" "},null,{"$f":"IF(BC70=0,\" \",IF(OR(BC70<1,BC70>350),\" \",LOOKUP(BC70,waarden!$G$4:$G$353,waarden!$H$4:$H$353)))","v":" "},null,{"$f":"IF(BE70=0,\" \",IF(OR(BE70<1,BE70>350),\" \",LOOKUP(BE70,waarden!$G$4:$G$353,waarden!$H$4:$H$353)))","v":" "},null,{"$f":"IF(BG70=0,\" \",IF(OR(BG70<1,BG70>350),\" \",LOOKUP(BG70,waarden!$G$4:$G$353,waarden!$H$4:$H$353)))","v":" "},null,{"$f":"IF(BI70=0,\" \",IF(OR(BI70<1,BI70>350),\" \",LOOKUP(BI70,waarden!$G$4:$G$353,waarden!$H$4:$H$353)))","v":" "},null,{"$f":"IF(BK70=0,\" \",IF(OR(BK70<1,BK70>350),\" \",LOOKUP(BK70,waarden!$G$4:$G$353,waarden!$H$4:$H$353)))","v":" "},null,{"$f":"IF(BM70=0,\" \",IF(OR(BM70<1,BM70>350),\" \",LOOKUP(BM70,waarden!$G$4:$G$353,waarden!$H$4:$H$353)))","v":" "},0,{"$f":"SUM(F70,H70,J70,L70,N70,P70,R70,T70,V70,X70,Z70,AB70,AD70,AF70,AH70,AJ70,AL70,AN70,AP70,AR70,AT70,AV70,AX70,AZ70,BB70,BD70,BF70,BH70,BJ70,BL70,BN70)","v":0}]
[null,null,null,"Chauffeur alleen",null,{"$f":"IF(E71=0,\" \",IF(OR(E71<1,E71>350),\" \",LOOKUP(E71,waarden!$D$4:$D$353,waarden!$E$4:$E$353)))","v":" "},null,{"$f":"IF(G71=0,\" \",IF(OR(G71<1,G71>350),\" \",LOOKUP(G71,waarden!$D$4:$D$353,waarden!$E$4:$E$353)))","v":" "},null,{"$f":"IF(I71=0,\" \",IF(OR(I71<1,I71>350),\" \",LOOKUP(I71,waarden!$D$4:$D$353,waarden!$E$4:$E$353)))","v":" "},null,{"$f":"IF(K71=0,\" \",IF(OR(K71<1,K71>350),\" \",LOOKUP(K71,waarden!$D$4:$D$353,waarden!$E$4:$E$353)))","v":" "},null,{"$f":"IF(M71=0,\" \",IF(OR(M71<1,M71>350),\" \",LOOKUP(M71,waarden!$D$4:$D$353,waarden!$E$4:$E$353)))","v":" "},null,{"$f":"IF(O71=0,\" \",IF(OR(O71<1,O71>350),\" \",LOOKUP(O71,waarden!$D$4:$D$353,waarden!$E$4:$E$353)))","v":" "},null,{"$f":"IF(Q71=0,\" \",IF(OR(Q71<1,Q71>350),\" \",LOOKUP(Q71,waarden!$D$4:$D$353,waarden!$E$4:$E$353)))","v":" "},null,{"$f":"IF(S71=0,\" \",IF(OR(S71<1,S71>350),\" \",LOOKUP(S71,waarden!$D$4:$D$353,waarden!$E$4:$E$353)))","v":" "},null,{"$f":"IF(U71=0,\" \",IF(OR(U71<1,U71>350),\" \",LOOKUP(U71,waarden!$D$4:$D$353,waarden!$E$4:$E$353)))","v":" "},null,{"$f":"IF(W71=0,\" \",IF(OR(W71<1,W71>350),\" \",LOOKUP(W71,waarden!$D$4:$D$353,waarden!$E$4:$E$353)))","v":" "},null,{"$f":"IF(Y71=0,\" \",IF(OR(Y71<1,Y71>350),\" \",LOOKUP(Y71,waarden!$D$4:$D$353,waarden!$E$4:$E$353)))","v":" "},null,{"$f":"IF(AA71=0,\" \",IF(OR(AA71<1,AA71>350),\" \",LOOKUP(AA71,waarden!$D$4:$D$353,waarden!$E$4:$E$353)))","v":" "},null,{"$f":"IF(AC71=0,\" \",IF(OR(AC71<1,AC71>350),\" \",LOOKUP(AC71,waarden!$D$4:$D$353,waarden!$E$4:$E$353)))","v":" "},null,{"$f":"IF(AE71=0,\" \",IF(OR(AE71<1,AE71>350),\" \",LOOKUP(AE71,waarden!$D$4:$D$353,waarden!$E$4:$E$353)))","v":" "},null,{"$f":"IF(AG71=0,\" \",IF(OR(AG71<1,AG71>350),\" \",LOOKUP(AG71,waarden!$D$4:$D$353,waarden!$E$4:$E$353)))","v":" "},null,{"$f":"IF(AI71=0,\" \",IF(OR(AI71<1,AI71>350),\" \",LOOKUP(AI71,waarden!$D$4:$D$353,waarden!$E$4:$E$353)))","v":" "},null,{"$f":"IF(AK71=0,\" \",IF(OR(AK71<1,AK71>350),\" \",LOOKUP(AK71,waarden!$D$4:$D$353,waarden!$E$4:$E$353)))","v":" "},null,{"$f":"IF(AM71=0,\" \",IF(OR(AM71<1,AM71>350),\" \",LOOKUP(AM71,waarden!$D$4:$D$353,waarden!$E$4:$E$353)))","v":" "},null,{"$f":"IF(AO71=0,\" \",IF(OR(AO71<1,AO71>350),\" \",LOOKUP(AO71,waarden!$D$4:$D$353,waarden!$E$4:$E$353)))","v":" "},null,{"$f":"IF(AQ71=0,\" \",IF(OR(AQ71<1,AQ71>350),\" \",LOOKUP(AQ71,waarden!$D$4:$D$353,waarden!$E$4:$E$353)))","v":" "},null,{"$f":"IF(AS71=0,\" \",IF(OR(AS71<1,AS71>350),\" \",LOOKUP(AS71,waarden!$D$4:$D$353,waarden!$E$4:$E$353)))","v":" "},null,{"$f":"IF(AU71=0,\" \",IF(OR(AU71<1,AU71>350),\" \",LOOKUP(AU71,waarden!$D$4:$D$353,waarden!$E$4:$E$353)))","v":" "},null,{"$f":"IF(AW71=0,\" \",IF(OR(AW71<1,AW71>350),\" \",LOOKUP(AW71,waarden!$D$4:$D$353,waarden!$E$4:$E$353)))","v":" "},null,{"$f":"IF(AY71=0,\" \",IF(OR(AY71<1,AY71>350),\" \",LOOKUP(AY71,waarden!$D$4:$D$353,waarden!$E$4:$E$353)))","v":" "},null,{"$f":"IF(BA71=0,\" \",IF(OR(BA71<1,BA71>350),\" \",LOOKUP(BA71,waarden!$D$4:$D$353,waarden!$E$4:$E$353)))","v":" "},null,{"$f":"IF(BC71=0,\" \",IF(OR(BC71<1,BC71>350),\" \",LOOKUP(BC71,waarden!$D$4:$D$353,waarden!$E$4:$E$353)))","v":" "},null,{"$f":"IF(BE71=0,\" \",IF(OR(BE71<1,BE71>350),\" \",LOOKUP(BE71,waarden!$D$4:$D$353,waarden!$E$4:$E$353)))","v":" "},null,{"$f":"IF(BG71=0,\" \",IF(OR(BG71<1,BG71>350),\" \",LOOKUP(BG71,waarden!$D$4:$D$353,waarden!$E$4:$E$353)))","v":" "},null,{"$f":"IF(BI71=0,\" \",IF(OR(BI71<1,BI71>350),\" \",LOOKUP(BI71,waarden!$D$4:$D$353,waarden!$E$4:$E$353)))","v":" "},null,{"$f":"IF(BK71=0,\" \",IF(OR(BK71<1,BK71>350),\" \",LOOKUP(BK71,waarden!$D$4:$D$353,waarden!$E$4:$E$353)))","v":" "},null,{"$f":"IF(BM71=0,\" \",IF(OR(BM71<1,BM71>350),\" \",LOOKUP(BM71,waarden!$D$4:$D$353,waarden!$E$4:$E$353)))","v":" "},0,0]
[null,null,null,"Passagier",null,{"$f":"IF(E72=0,\" \",IF(OR(E72<1,E72>350),\" \",LOOKUP(E72,waarden!$A$4:$A$353,waarden!$B$4:$B$353)))","v":" "},null,{"$f":"IF(G72=0,\" \",IF(OR(G72<1,G72>350),\" \",LOOKUP(G72,waarden!$A$4:$A$353,waarden!$B$4:$B$353)))","v":" "},null,{"$f":"IF(I72=0,\" \",IF(OR(I72<1,I72>350),\" \",LOOKUP(I72,waarden!$A$4:$A$353,waarden!$B$4:$B$353)))","v":" "},null,{"$f":"IF(K72=0,\" \",IF(OR(K72<1,K72>350),\" \",LOOKUP(K72,waarden!$A$4:$A$353,waarden!$B$4:$B$353)))","v":" "},null,{"$f":"IF(M72=0,\" \",IF(OR(M72<1,M72>350),\" \",LOOKUP(M72,waarden!$A$4:$A$353,waarden!$B$4:$B$353)))","v":" "},null,{"$f":"IF(O72=0,\" \",IF(OR(O72<1,O72>350),\" \",LOOKUP(O72,waarden!$A$4:$A$353,waarden!$B$4:$B$353)))","v":" "},null,{"$f":"IF(Q72=0,\" \",IF(OR(Q72<1,Q72>350),\" \",LOOKUP(Q72,waarden!$A$4:$A$353,waarden!$B$4:$B$353)))","v":" "},null,{"$f":"IF(S72=0,\" \",IF(OR(S72<1,S72>350),\" \",LOOKUP(S72,waarden!$A$4:$A$353,waarden!$B$4:$B$353)))","v":" "},null,{"$f":"IF(U72=0,\" \",IF(OR(U72<1,U72>350),\" \",LOOKUP(U72,waarden!$A$4:$A$353,waarden!$B$4:$B$353)))","v":" "},null,{"$f":"IF(W72=0,\" \",IF(OR(W72<1,W72>350),\" \",LOOKUP(W72,waarden!$A$4:$A$353,waarden!$B$4:$B$353)))","v":" "},null,{"$f":"IF(Y72=0,\" \",IF(OR(Y72<1,Y72>350),\" \",LOOKUP(Y72,waarden!$A$4:$A$353,waarden!$B$4:$B$353)))","v":" "},null,{"$f":"IF(AA72=0,\" \",IF(OR(AA72<1,AA72>350),\" \",LOOKUP(AA72,waarden!$A$4:$A$353,waarden!$B$4:$B$353)))","v":" "},null,{"$f":"IF(AC72=0,\" \",IF(OR(AC72<1,AC72>350),\" \",LOOKUP(AC72,waarden!$A$4:$A$353,waarden!$B$4:$B$353)))","v":" "},null,{"$f":"IF(AE72=0,\" \",IF(OR(AE72<1,AE72>350),\" \",LOOKUP(AE72,waarden!$A$4:$A$353,waarden!$B$4:$B$353)))","v":" "},null,{"$f":"IF(AG72=0,\" \",IF(OR(AG72<1,AG72>350),\" \",LOOKUP(AG72,waarden!$A$4:$A$353,waarden!$B$4:$B$353)))","v":" "},null,{"$f":"IF(AI72=0,\" \",IF(OR(AI72<1,AI72>350),\" \",LOOKUP(AI72,waarden!$A$4:$A$353,waarden!$B$4:$B$353)))","v":" "},null,{"$f":"IF(AK72=0,\" \",IF(OR(AK72<1,AK72>350),\" \",LOOKUP(AK72,waarden!$A$4:$A$353,waarden!$B$4:$B$353)))","v":" "},null,{"$f":"IF(AM72=0,\" \",IF(OR(AM72<1,AM72>350),\" \",LOOKUP(AM72,waarden!$A$4:$A$353,waarden!$B$4:$B$353)))","v":" "},null,{"$f":"IF(AO72=0,\" \",IF(OR(AO72<1,AO72>350),\" \",LOOKUP(AO72,waarden!$A$4:$A$353,waarden!$B$4:$B$353)))","v":" "},null,{"$f":"IF(AQ72=0,\" \",IF(OR(AQ72<1,AQ72>350),\" \",LOOKUP(AQ72,waarden!$A$4:$A$353,waarden!$B$4:$B$353)))","v":" "},null,{"$f":"IF(AS72=0,\" \",IF(OR(AS72<1,AS72>350),\" \",LOOKUP(AS72,waarden!$A$4:$A$353,waarden!$B$4:$B$353)))","v":" "},null,{"$f":"IF(AU72=0,\" \",IF(OR(AU72<1,AU72>350),\" \",LOOKUP(AU72,waarden!$A$4:$A$353,waarden!$B$4:$B$353)))","v":" "},null,{"$f":"IF(AW72=0,\" \",IF(OR(AW72<1,AW72>350),\" \",LOOKUP(AW72,waarden!$A$4:$A$353,waarden!$B$4:$B$353)))","v":" "},null,{"$f":"IF(AY72=0,\" \",IF(OR(AY72<1,AY72>350),\" \",LOOKUP(AY72,waarden!$A$4:$A$353,waarden!$B$4:$B$353)))","v":" "},null,{"$f":"IF(BA72=0,\" \",IF(OR(BA72<1,BA72>350),\" \",LOOKUP(BA72,waarden!$A$4:$A$353,waarden!$B$4:$B$353)))","v":" "},null,{"$f":"IF(BC72=0,\" \",IF(OR(BC72<1,BC72>350),\" \",LOOKUP(BC72,waarden!$A$4:$A$353,waarden!$B$4:$B$353)))","v":" "},null,{"$f":"IF(BE72=0,\" \",IF(OR(BE72<1,BE72>350),\" \",LOOKUP(BE72,waarden!$A$4:$A$353,waarden!$B$4:$B$353)))","v":" "},null,{"$f":"IF(BG72=0,\" \",IF(OR(BG72<1,BG72>350),\" \",LOOKUP(BG72,waarden!$A$4:$A$353,waarden!$B$4:$B$353)))","v":" "},null,{"$f":"IF(BI72=0,\" \",IF(OR(BI72<1,BI72>350),\" \",LOOKUP(BI72,waarden!$A$4:$A$353,waarden!$B$4:$B$353)))","v":" "},null,{"$f":"IF(BK72=0,\" \",IF(OR(BK72<1,BK72>350),\" \",LOOKUP(BK72,waarden!$A$4:$A$353,waarden!$B$4:$B$353)))","v":" "},null,{"$f":"IF(BM72=0,\" \",IF(OR(BM72<1,BM72>350),\" \",LOOKUP(BM72,waarden!$A$4:$A$353,waarden!$B$4:$B$353)))","v":" "},0,0]
[null,null,null,"Chauffeur personeel",null,{"$f":"IF(E73=0,\" \",IF(OR(E73<1,E73>350),\" \",LOOKUP(E73,waarden!$G$4:$G$353,waarden!$H$4:$H$353)))","v":" "},null,{"$f":"IF(G73=0,\" \",IF(OR(G73<1,G73>350),\" \",LOOKUP(G73,waarden!$G$4:$G$353,waarden!$H$4:$H$353)))","v":" "},null,{"$f":"IF(I73=0,\" \",IF(OR(I73<1,I73>350),\" \",LOOKUP(I73,waarden!$G$4:$G$353,waarden!$H$4:$H$353)))","v":" "},null,{"$f":"IF(K73=0,\" \",IF(OR(K73<1,K73>350),\" \",LOOKUP(K73,waarden!$G$4:$G$353,waarden!$H$4:$H$353)))","v":" "},null,{"$f":"IF(M73=0,\" \",IF(OR(M73<1,M73>350),\" \",LOOKUP(M73,waarden!$G$4:$G$353,waarden!$H$4:$H$353)))","v":" "},null,{"$f":"IF(O73=0,\" \",IF(OR(O73<1,O73>350),\" \",LOOKUP(O73,waarden!$G$4:$G$353,waarden!$H$4:$H$353)))","v":" "},null,{"$f":"IF(Q73=0,\" \",IF(OR(Q73<1,Q73>350),\" \",LOOKUP(Q73,waarden!$G$4:$G$353,waarden!$H$4:$H$353)))","v":" "},null,{"$f":"IF(S73=0,\" \",IF(OR(S73<1,S73>350),\" \",LOOKUP(S73,waarden!$G$4:$G$353,waarden!$H$4:$H$353)))","v":" "},null,{"$f":"IF(U73=0,\" \",IF(OR(U73<1,U73>350),\" \",LOOKUP(U73,waarden!$G$4:$G$353,waarden!$H$4:$H$353)))","v":" "},null,{"$f":"IF(W73=0,\" \",IF(OR(W73<1,W73>350),\" \",LOOKUP(W73,waarden!$G$4:$G$353,waarden!$H$4:$H$353)))","v":" "},null,{"$f":"IF(Y73=0,\" \",IF(OR(Y73<1,Y73>350),\" \",LOOKUP(Y73,waarden!$G$4:$G$353,waarden!$H$4:$H$353)))","v":" "},null,{"$f":"IF(AA73=0,\" \",IF(OR(AA73<1,AA73>350),\" \",LOOKUP(AA73,waarden!$G$4:$G$353,waarden!$H$4:$H$353)))","v":" "},null,{"$f":"IF(AC73=0,\" \",IF(OR(AC73<1,AC73>350),\" \",LOOKUP(AC73,waarden!$G$4:$G$353,waarden!$H$4:$H$353)))","v":" "},null,{"$f":"IF(AE73=0,\" \",IF(OR(AE73<1,AE73>350),\" \",LOOKUP(AE73,waarden!$G$4:$G$353,waarden!$H$4:$H$353)))","v":" "},null,{"$f":"IF(AG73=0,\" \",IF(OR(AG73<1,AG73>350),\" \",LOOKUP(AG73,waarden!$G$4:$G$353,waarden!$H$4:$H$353)))","v":" "},null,{"$f":"IF(AI73=0,\" \",IF(OR(AI73<1,AI73>350),\" \",LOOKUP(AI73,waarden!$G$4:$G$353,waarden!$H$4:$H$353)))","v":" "},null,{"$f":"IF(AK73=0,\" \",IF(OR(AK73<1,AK73>350),\" \",LOOKUP(AK73,waarden!$G$4:$G$353,waarden!$H$4:$H$353)))","v":" "},null,{"$f":"IF(AM73=0,\" \",IF(OR(AM73<1,AM73>350),\" \",LOOKUP(AM73,waarden!$G$4:$G$353,waarden!$H$4:$H$353)))","v":" "},null,{"$f":"IF(AO73=0,\" \",IF(OR(AO73<1,AO73>350),\" \",LOOKUP(AO73,waarden!$G$4:$G$353,waarden!$H$4:$H$353)))","v":" "},null,{"$f":"IF(AQ73=0,\" \",IF(OR(AQ73<1,AQ73>350),\" \",LOOKUP(AQ73,waarden!$G$4:$G$353,waarden!$H$4:$H$353)))","v":" "},null,{"$f":"IF(AS73=0,\" \",IF(OR(AS73<1,AS73>350),\" \",LOOKUP(AS73,waarden!$G$4:$G$353,waarden!$H$4:$H$353)))","v":" "},null,{"$f":"IF(AU73=0,\" \",IF(OR(AU73<1,AU73>350),\" \",LOOKUP(AU73,waarden!$G$4:$G$353,waarden!$H$4:$H$353)))","v":" "},null,{"$f":"IF(AW73=0,\" \",IF(OR(AW73<1,AW73>350),\" \",LOOKUP(AW73,waarden!$G$4:$G$353,waarden!$H$4:$H$353)))","v":" "},null,{"$f":"IF(AY73=0,\" \",IF(OR(AY73<1,AY73>350),\" \",LOOKUP(AY73,waarden!$G$4:$G$353,waarden!$H$4:$H$353)))","v":" "},null,{"$f":"IF(BA73=0,\" \",IF(OR(BA73<1,BA73>350),\" \",LOOKUP(BA73,waarden!$G$4:$G$353,waarden!$H$4:$H$353)))","v":" "},null,{"$f":"IF(BC73=0,\" \",IF(OR(BC73<1,BC73>350),\" \",LOOKUP(BC73,waarden!$G$4:$G$353,waarden!$H$4:$H$353)))","v":" "},null,{"$f":"IF(BE73=0,\" \",IF(OR(BE73<1,BE73>350),\" \",LOOKUP(BE73,waarden!$G$4:$G$353,waarden!$H$4:$H$353)))","v":" "},null,{"$f":"IF(BG73=0,\" \",IF(OR(BG73<1,BG73>350),\" \",LOOKUP(BG73,waarden!$G$4:$G$353,waarden!$H$4:$H$353)))","v":" "},null,{"$f":"IF(BI73=0,\" \",IF(OR(BI73<1,BI73>350),\" \",LOOKUP(BI73,waarden!$G$4:$G$353,waarden!$H$4:$H$353)))","v":" "},null,{"$f":"IF(BK73=0,\" \",IF(OR(BK73<1,BK73>350),\" \",LOOKUP(BK73,waarden!$G$4:$G$353,waarden!$H$4:$H$353)))","v":" "},null,{"$f":"IF(BM73=0,\" \",IF(OR(BM73<1,BM73>350),\" \",LOOKUP(BM73,waarden!$G$4:$G$353,waarden!$H$4:$H$353)))","v":" "},0,{"$f":"SUM(F73,H73,J73,L73,N73,P73,R73,T73,V73,X73,Z73,AB73,AD73,AF73,AH73,AJ73,AL73,AN73,AP73,AR73,AT73,AV73,AX73,AZ73,BB73,BD73,BF73,BH73,BJ73,BL73,BN73)","v":0}]
[null,null,null,"Chauffeur alleen",null,{"$f":"IF(E74=0,\" \",IF(OR(E74<1,E74>350),\" \",LOOKUP(E74,waarden!$D$4:$D$353,waarden!$E$4:$E$353)))","v":" "},null,{"$f":"IF(G74=0,\" \",IF(OR(G74<1,G74>350),\" \",LOOKUP(G74,waarden!$D$4:$D$353,waarden!$E$4:$E$353)))","v":" "},null,{"$f":"IF(I74=0,\" \",IF(OR(I74<1,I74>350),\" \",LOOKUP(I74,waarden!$D$4:$D$353,waarden!$E$4:$E$353)))","v":" "},null,{"$f":"IF(K74=0,\" \",IF(OR(K74<1,K74>350),\" \",LOOKUP(K74,waarden!$D$4:$D$353,waarden!$E$4:$E$353)))","v":" "},null,{"$f":"IF(M74=0,\" \",IF(OR(M74<1,M74>350),\" \",LOOKUP(M74,waarden!$D$4:$D$353,waarden!$E$4:$E$353)))","v":" "},null,{"$f":"IF(O74=0,\" \",IF(OR(O74<1,O74>350),\" \",LOOKUP(O74,waarden!$D$4:$D$353,waarden!$E$4:$E$353)))","v":" "},null,{"$f":"IF(Q74=0,\" \",IF(OR(Q74<1,Q74>350),\" \",LOOKUP(Q74,waarden!$D$4:$D$353,waarden!$E$4:$E$353)))","v":" "},null,{"$f":"IF(S74=0,\" \",IF(OR(S74<1,S74>350),\" \",LOOKUP(S74,waarden!$D$4:$D$353,waarden!$E$4:$E$353)))","v":" "},null,{"$f":"IF(U74=0,\" \",IF(OR(U74<1,U74>350),\" \",LOOKUP(U74,waarden!$D$4:$D$353,waarden!$E$4:$E$353)))","v":" "},null,{"$f":"IF(W74=0,\" \",IF(OR(W74<1,W74>350),\" \",LOOKUP(W74,waarden!$D$4:$D$353,waarden!$E$4:$E$353)))","v":" "},null,{"$f":"IF(Y74=0,\" \",IF(OR(Y74<1,Y74>350),\" \",LOOKUP(Y74,waarden!$D$4:$D$353,waarden!$E$4:$E$353)))","v":" "},null,{"$f":"IF(AA74=0,\" \",IF(OR(AA74<1,AA74>350),\" \",LOOKUP(AA74,waarden!$D$4:$D$353,waarden!$E$4:$E$353)))","v":" "},null,{"$f":"IF(AC74=0,\" \",IF(OR(AC74<1,AC74>350),\" \",LOOKUP(AC74,waarden!$D$4:$D$353,waarden!$E$4:$E$353)))","v":" "},null,{"$f":"IF(AE74=0,\" \",IF(OR(AE74<1,AE74>350),\" \",LOOKUP(AE74,waarden!$D$4:$D$353,waarden!$E$4:$E$353)))","v":" "},null,{"$f":"IF(AG74=0,\" \",IF(OR(AG74<1,AG74>350),\" \",LOOKUP(AG74,waarden!$D$4:$D$353,waarden!$E$4:$E$353)))","v":" "},null,{"$f":"IF(AI74=0,\" \",IF(OR(AI74<1,AI74>350),\" \",LOOKUP(AI74,waarden!$D$4:$D$353,waarden!$E$4:$E$353)))","v":" "},null,{"$f":"IF(AK74=0,\" \",IF(OR(AK74<1,AK74>350),\" \",LOOKUP(AK74,waarden!$D$4:$D$353,waarden!$E$4:$E$353)))","v":" "},null,{"$f":"IF(AM74=0,\" \",IF(OR(AM74<1,AM74>350),\" \",LOOKUP(AM74,waarden!$D$4:$D$353,waarden!$E$4:$E$353)))","v":" "},null,{"$f":"IF(AO74=0,\" \",IF(OR(AO74<1,AO74>350),\" \",LOOKUP(AO74,waarden!$D$4:$D$353,waarden!$E$4:$E$353)))","v":" "},null,{"$f":"IF(AQ74=0,\" \",IF(OR(AQ74<1,AQ74>350),\" \",LOOKUP(AQ74,waarden!$D$4:$D$353,waarden!$E$4:$E$353)))","v":" "},null,{"$f":"IF(AS74=0,\" \",IF(OR(AS74<1,AS74>350),\" \",LOOKUP(AS74,waarden!$D$4:$D$353,waarden!$E$4:$E$353)))","v":" "},null,{"$f":"IF(AU74=0,\" \",IF(OR(AU74<1,AU74>350),\" \",LOOKUP(AU74,waarden!$D$4:$D$353,waarden!$E$4:$E$353)))","v":" "},null,{"$f":"IF(AW74=0,\" \",IF(OR(AW74<1,AW74>350),\" \",LOOKUP(AW74,waarden!$D$4:$D$353,waarden!$E$4:$E$353)))","v":" "},null,{"$f":"IF(AY74=0,\" \",IF(OR(AY74<1,AY74>350),\" \",LOOKUP(AY74,waarden!$D$4:$D$353,waarden!$E$4:$E$353)))","v":" "},null,{"$f":"IF(BA74=0,\" \",IF(OR(BA74<1,BA74>350),\" \",LOOKUP(BA74,waarden!$D$4:$D$353,waarden!$E$4:$E$353)))","v":" "},null,{"$f":"IF(BC74=0,\" \",IF(OR(BC74<1,BC74>350),\" \",LOOKUP(BC74,waarden!$D$4:$D$353,waarden!$E$4:$E$353)))","v":" "},null,{"$f":"IF(BE74=0,\" \",IF(OR(BE74<1,BE74>350),\" \",LOOKUP(BE74,waarden!$D$4:$D$353,waarden!$E$4:$E$353)))","v":" "},null,{"$f":"IF(BG74=0,\" \",IF(OR(BG74<1,BG74>350),\" \",LOOKUP(BG74,waarden!$D$4:$D$353,waarden!$E$4:$E$353)))","v":" "},null,{"$f":"IF(BI74=0,\" \",IF(OR(BI74<1,BI74>350),\" \",LOOKUP(BI74,waarden!$D$4:$D$353,waarden!$E$4:$E$353)))","v":" "},null,{"$f":"IF(BK74=0,\" \",IF(OR(BK74<1,BK74>350),\" \",LOOKUP(BK74,waarden!$D$4:$D$353,waarden!$E$4:$E$353)))","v":" "},null,{"$f":"IF(BM74=0,\" \",IF(OR(BM74<1,BM74>350),\" \",LOOKUP(BM74,waarden!$D$4:$D$353,waarden!$E$4:$E$353)))","v":" "},0,0]
[null,null,null,"Passagier",null,{"$f":"IF(E75=0,\" \",IF(OR(E75<1,E75>350),\" \",LOOKUP(E75,waarden!$A$4:$A$353,waarden!$B$4:$B$353)))","v":" "},null,{"$f":"IF(G75=0,\" \",IF(OR(G75<1,G75>350),\" \",LOOKUP(G75,waarden!$A$4:$A$353,waarden!$B$4:$B$353)))","v":" "},null,{"$f":"IF(I75=0,\" \",IF(OR(I75<1,I75>350),\" \",LOOKUP(I75,waarden!$A$4:$A$353,waarden!$B$4:$B$353)))","v":" "},null,{"$f":"IF(K75=0,\" \",IF(OR(K75<1,K75>350),\" \",LOOKUP(K75,waarden!$A$4:$A$353,waarden!$B$4:$B$353)))","v":" "},null,{"$f":"IF(M75=0,\" \",IF(OR(M75<1,M75>350),\" \",LOOKUP(M75,waarden!$A$4:$A$353,waarden!$B$4:$B$353)))","v":" "},null,{"$f":"IF(O75=0,\" \",IF(OR(O75<1,O75>350),\" \",LOOKUP(O75,waarden!$A$4:$A$353,waarden!$B$4:$B$353)))","v":" "},null,{"$f":"IF(Q75=0,\" \",IF(OR(Q75<1,Q75>350),\" \",LOOKUP(Q75,waarden!$A$4:$A$353,waarden!$B$4:$B$353)))","v":" "},null,{"$f":"IF(S75=0,\" \",IF(OR(S75<1,S75>350),\" \",LOOKUP(S75,waarden!$A$4:$A$353,waarden!$B$4:$B$353)))","v":" "},null,{"$f":"IF(U75=0,\" \",IF(OR(U75<1,U75>350),\" \",LOOKUP(U75,waarden!$A$4:$A$353,waarden!$B$4:$B$353)))","v":" "},null,{"$f":"IF(W75=0,\" \",IF(OR(W75<1,W75>350),\" \",LOOKUP(W75,waarden!$A$4:$A$353,waarden!$B$4:$B$353)))","v":" "},null,{"$f":"IF(Y75=0,\" \",IF(OR(Y75<1,Y75>350),\" \",LOOKUP(Y75,waarden!$A$4:$A$353,waarden!$B$4:$B$353)))","v":" "},null,{"$f":"IF(AA75=0,\" \",IF(OR(AA75<1,AA75>350),\" \",LOOKUP(AA75,waarden!$A$4:$A$353,waarden!$B$4:$B$353)))","v":" "},null,{"$f":"IF(AC75=0,\" \",IF(OR(AC75<1,AC75>350),\" \",LOOKUP(AC75,waarden!$A$4:$A$353,waarden!$B$4:$B$353)))","v":" "},null,{"$f":"IF(AE75=0,\" \",IF(OR(AE75<1,AE75>350),\" \",LOOKUP(AE75,waarden!$A$4:$A$353,waarden!$B$4:$B$353)))","v":" "},null,{"$f":"IF(AG75=0,\" \",IF(OR(AG75<1,AG75>350),\" \",LOOKUP(AG75,waarden!$A$4:$A$353,waarden!$B$4:$B$353)))","v":" "},null,{"$f":"IF(AI75=0,\" \",IF(OR(AI75<1,AI75>350),\" \",LOOKUP(AI75,waarden!$A$4:$A$353,waarden!$B$4:$B$353)))","v":" "},null,{"$f":"IF(AK75=0,\" \",IF(OR(AK75<1,AK75>350),\" \",LOOKUP(AK75,waarden!$A$4:$A$353,waarden!$B$4:$B$353)))","v":" "},null,{"$f":"IF(AM75=0,\" \",IF(OR(AM75<1,AM75>350),\" \",LOOKUP(AM75,waarden!$A$4:$A$353,waarden!$B$4:$B$353)))","v":" "},null,{"$f":"IF(AO75=0,\" \",IF(OR(AO75<1,AO75>350),\" \",LOOKUP(AO75,waarden!$A$4:$A$353,waarden!$B$4:$B$353)))","v":" "},null,{"$f":"IF(AQ75=0,\" \",IF(OR(AQ75<1,AQ75>350),\" \",LOOKUP(AQ75,waarden!$A$4:$A$353,waarden!$B$4:$B$353)))","v":" "},null,{"$f":"IF(AS75=0,\" \",IF(OR(AS75<1,AS75>350),\" \",LOOKUP(AS75,waarden!$A$4:$A$353,waarden!$B$4:$B$353)))","v":" "},null,{"$f":"IF(AU75=0,\" \",IF(OR(AU75<1,AU75>350),\" \",LOOKUP(AU75,waarden!$A$4:$A$353,waarden!$B$4:$B$353)))","v":" "},null,{"$f":"IF(AW75=0,\" \",IF(OR(AW75<1,AW75>350),\" \",LOOKUP(AW75,waarden!$A$4:$A$353,waarden!$B$4:$B$353)))","v":" "},null,{"$f":"IF(AY75=0,\" \",IF(OR(AY75<1,AY75>350),\" \",LOOKUP(AY75,waarden!$A$4:$A$353,waarden!$B$4:$B$353)))","v":" "},null,{"$f":"IF(BA75=0,\" \",IF(OR(BA75<1,BA75>350),\" \",LOOKUP(BA75,waarden!$A$4:$A$353,waarden!$B$4:$B$353)))","v":" "},null,{"$f":"IF(BC75=0,\" \",IF(OR(BC75<1,BC75>350),\" \",LOOKUP(BC75,waarden!$A$4:$A$353,waarden!$B$4:$B$353)))","v":" "},null,{"$f":"IF(BE75=0,\" \",IF(OR(BE75<1,BE75>350),\" \",LOOKUP(BE75,waarden!$A$4:$A$353,waarden!$B$4:$B$353)))","v":" "},null,{"$f":"IF(BG75=0,\" \",IF(OR(BG75<1,BG75>350),\" \",LOOKUP(BG75,waarden!$A$4:$A$353,waarden!$B$4:$B$353)))","v":" "},null,{"$f":"IF(BI75=0,\" \",IF(OR(BI75<1,BI75>350),\" \",LOOKUP(BI75,waarden!$A$4:$A$353,waarden!$B$4:$B$353)))","v":" "},null,{"$f":"IF(BK75=0,\" \",IF(OR(BK75<1,BK75>350),\" \",LOOKUP(BK75,waarden!$A$4:$A$353,waarden!$B$4:$B$353)))","v":" "},null,{"$f":"IF(BM75=0,\" \",IF(OR(BM75<1,BM75>350),\" \",LOOKUP(BM75,waarden!$A$4:$A$353,waarden!$B$4:$B$353)))","v":" "},0,0]
[null,null,null,"Chauffeur personeel",null,{"$f":"IF(E76=0,\" \",IF(OR(E76<1,E76>350),\" \",LOOKUP(E76,waarden!$G$4:$G$353,waarden!$H$4:$H$353)))","v":" "},null,{"$f":"IF(G76=0,\" \",IF(OR(G76<1,G76>350),\" \",LOOKUP(G76,waarden!$G$4:$G$353,waarden!$H$4:$H$353)))","v":" "},null,{"$f":"IF(I76=0,\" \",IF(OR(I76<1,I76>350),\" \",LOOKUP(I76,waarden!$G$4:$G$353,waarden!$H$4:$H$353)))","v":" "},null,{"$f":"IF(K76=0,\" \",IF(OR(K76<1,K76>350),\" \",LOOKUP(K76,waarden!$G$4:$G$353,waarden!$H$4:$H$353)))","v":" "},null,{"$f":"IF(M76=0,\" \",IF(OR(M76<1,M76>350),\" \",LOOKUP(M76,waarden!$G$4:$G$353,waarden!$H$4:$H$353)))","v":" "},null,{"$f":"IF(O76=0,\" \",IF(OR(O76<1,O76>350),\" \",LOOKUP(O76,waarden!$G$4:$G$353,waarden!$H$4:$H$353)))","v":" "},null,{"$f":"IF(Q76=0,\" \",IF(OR(Q76<1,Q76>350),\" \",LOOKUP(Q76,waarden!$G$4:$G$353,waarden!$H$4:$H$353)))","v":" "},null,{"$f":"IF(S76=0,\" \",IF(OR(S76<1,S76>350),\" \",LOOKUP(S76,waarden!$G$4:$G$353,waarden!$H$4:$H$353)))","v":" "},null,{"$f":"IF(U76=0,\" \",IF(OR(U76<1,U76>350),\" \",LOOKUP(U76,waarden!$G$4:$G$353,waarden!$H$4:$H$353)))","v":" "},null,{"$f":"IF(W76=0,\" \",IF(OR(W76<1,W76>350),\" \",LOOKUP(W76,waarden!$G$4:$G$353,waarden!$H$4:$H$353)))","v":" "},null,{"$f":"IF(Y76=0,\" \",IF(OR(Y76<1,Y76>350),\" \",LOOKUP(Y76,waarden!$G$4:$G$353,waarden!$H$4:$H$353)))","v":" "},null,{"$f":"IF(AA76=0,\" \",IF(OR(AA76<1,AA76>350),\" \",LOOKUP(AA76,waarden!$G$4:$G$353,waarden!$H$4:$H$353)))","v":" "},null,{"$f":"IF(AC76=0,\" \",IF(OR(AC76<1,AC76>350),\" \",LOOKUP(AC76,waarden!$G$4:$G$353,waarden!$H$4:$H$353)))","v":" "},null,{"$f":"IF(AE76=0,\" \",IF(OR(AE76<1,AE76>350),\" \",LOOKUP(AE76,waarden!$G$4:$G$353,waarden!$H$4:$H$353)))","v":" "},null,{"$f":"IF(AG76=0,\" \",IF(OR(AG76<1,AG76>350),\" \",LOOKUP(AG76,waarden!$G$4:$G$353,waarden!$H$4:$H$353)))","v":" "},null,{"$f":"IF(AI76=0,\" \",IF(OR(AI76<1,AI76>350),\" \",LOOKUP(AI76,waarden!$G$4:$G$353,waarden!$H$4:$H$353)))","v":" "},null,{"$f":"IF(AK76=0,\" \",IF(OR(AK76<1,AK76>350),\" \",LOOKUP(AK76,waarden!$G$4:$G$353,waarden!$H$4:$H$353)))","v":" "},null,{"$f":"IF(AM76=0,\" \",IF(OR(AM76<1,AM76>350),\" \",LOOKUP(AM76,waarden!$G$4:$G$353,waarden!$H$4:$H$353)))","v":" "},null,{"$f":"IF(AO76=0,\" \",IF(OR(AO76<1,AO76>350),\" \",LOOKUP(AO76,waarden!$G$4:$G$353,waarden!$H$4:$H$353)))","v":" "},null,{"$f":"IF(AQ76=0,\" \",IF(OR(AQ76<1,AQ76>350),\" \",LOOKUP(AQ76,waarden!$G$4:$G$353,waarden!$H$4:$H$353)))","v":" "},null,{"$f":"IF(AS76=0,\" \",IF(OR(AS76<1,AS76>350),\" \",LOOKUP(AS76,waarden!$G$4:$G$353,waarden!$H$4:$H$353)))","v":" "},null,{"$f":"IF(AU76=0,\" \",IF(OR(AU76<1,AU76>350),\" \",LOOKUP(AU76,waarden!$G$4:$G$353,waarden!$H$4:$H$353)))","v":" "},null,{"$f":"IF(AW76=0,\" \",IF(OR(AW76<1,AW76>350),\" \",LOOKUP(AW76,waarden!$G$4:$G$353,waarden!$H$4:$H$353)))","v":" "},null,{"$f":"IF(AY76=0,\" \",IF(OR(AY76<1,AY76>350),\" \",LOOKUP(AY76,waarden!$G$4:$G$353,waarden!$H$4:$H$353)))","v":" "},null,{"$f":"IF(BA76=0,\" \",IF(OR(BA76<1,BA76>350),\" \",LOOKUP(BA76,waarden!$G$4:$G$353,waarden!$H$4:$H$353)))","v":" "},null,{"$f":"IF(BC76=0,\" \",IF(OR(BC76<1,BC76>350),\" \",LOOKUP(BC76,waarden!$G$4:$G$353,waarden!$H$4:$H$353)))","v":" "},null,{"$f":"IF(BE76=0,\" \",IF(OR(BE76<1,BE76>350),\" \",LOOKUP(BE76,waarden!$G$4:$G$353,waarden!$H$4:$H$353)))","v":" "},null,{"$f":"IF(BG76=0,\" \",IF(OR(BG76<1,BG76>350),\" \",LOOKUP(BG76,waarden!$G$4:$G$353,waarden!$H$4:$H$353)))","v":" "},null,{"$f":"IF(BI76=0,\" \",IF(OR(BI76<1,BI76>350),\" \",LOOKUP(BI76,waarden!$G$4:$G$353,waarden!$H$4:$H$353)))","v":" "},null,{"$f":"IF(BK76=0,\" \",IF(OR(BK76<1,BK76>350),\" \",LOOKUP(BK76,waarden!$G$4:$G$353,waarden!$H$4:$H$353)))","v":" "},null,{"$f":"IF(BM76=0,\" \",IF(OR(BM76<1,BM76>350),\" \",LOOKUP(BM76,waarden!$G$4:$G$353,waarden!$H$4:$H$353)))","v":" "},0,{"$f":"SUM(F76,H76,J76,L76,N76,P76,R76,T76,V76,X76,Z76,AB76,AD76,AF76,AH76,AJ76,AL76,AN76,AP76,AR76,AT76,AV76,AX76,AZ76,BB76,BD76,BF76,BH76,BJ76,BL76,BN76)","v":0}]
[null,null,null,"Chauffeur alleen",null,{"$f":"IF(E77=0,\" \",IF(OR(E77<1,E77>350),\" \",LOOKUP(E77,waarden!$D$4:$D$353,waarden!$E$4:$E$353)))","v":" "},null,{"$f":"IF(G77=0,\" \",IF(OR(G77<1,G77>350),\" \",LOOKUP(G77,waarden!$D$4:$D$353,waarden!$E$4:$E$353)))","v":" "},null,{"$f":"IF(I77=0,\" \",IF(OR(I77<1,I77>350),\" \",LOOKUP(I77,waarden!$D$4:$D$353,waarden!$E$4:$E$353)))","v":" "},null,{"$f":"IF(K77=0,\" \",IF(OR(K77<1,K77>350),\" \",LOOKUP(K77,waarden!$D$4:$D$353,waarden!$E$4:$E$353)))","v":" "},null,{"$f":"IF(M77=0,\" \",IF(OR(M77<1,M77>350),\" \",LOOKUP(M77,waarden!$D$4:$D$353,waarden!$E$4:$E$353)))","v":" "},null,{"$f":"IF(O77=0,\" \",IF(OR(O77<1,O77>350),\" \",LOOKUP(O77,waarden!$D$4:$D$353,waarden!$E$4:$E$353)))","v":" "},null,{"$f":"IF(Q77=0,\" \",IF(OR(Q77<1,Q77>350),\" \",LOOKUP(Q77,waarden!$D$4:$D$353,waarden!$E$4:$E$353)))","v":" "},null,{"$f":"IF(S77=0,\" \",IF(OR(S77<1,S77>350),\" \",LOOKUP(S77,waarden!$D$4:$D$353,waarden!$E$4:$E$353)))","v":" "},null,{"$f":"IF(U77=0,\" \",IF(OR(U77<1,U77>350),\" \",LOOKUP(U77,waarden!$D$4:$D$353,waarden!$E$4:$E$353)))","v":" "},null,{"$f":"IF(W77=0,\" \",IF(OR(W77<1,W77>350),\" \",LOOKUP(W77,waarden!$D$4:$D$353,waarden!$E$4:$E$353)))","v":" "},null,{"$f":"IF(Y77=0,\" \",IF(OR(Y77<1,Y77>350),\" \",LOOKUP(Y77,waarden!$D$4:$D$353,waarden!$E$4:$E$353)))","v":" "},null,{"$f":"IF(AA77=0,\" \",IF(OR(AA77<1,AA77>350),\" \",LOOKUP(AA77,waarden!$D$4:$D$353,waarden!$E$4:$E$353)))","v":" "},null,{"$f":"IF(AC77=0,\" \",IF(OR(AC77<1,AC77>350),\" \",LOOKUP(AC77,waarden!$D$4:$D$353,waarden!$E$4:$E$353)))","v":" "},null,{"$f":"IF(AE77=0,\" \",IF(OR(AE77<1,AE77>350),\" \",LOOKUP(AE77,waarden!$D$4:$D$353,waarden!$E$4:$E$353)))","v":" "},null,{"$f":"IF(AG77=0,\" \",IF(OR(AG77<1,AG77>350),\" \",LOOKUP(AG77,waarden!$D$4:$D$353,waarden!$E$4:$E$353)))","v":" "},null,{"$f":"IF(AI77=0,\" \",IF(OR(AI77<1,AI77>350),\" \",LOOKUP(AI77,waarden!$D$4:$D$353,waarden!$E$4:$E$353)))","v":" "},null,{"$f":"IF(AK77=0,\" \",IF(OR(AK77<1,AK77>350),\" \",LOOKUP(AK77,waarden!$D$4:$D$353,waarden!$E$4:$E$353)))","v":" "},null,{"$f":"IF(AM77=0,\" \",IF(OR(AM77<1,AM77>350),\" \",LOOKUP(AM77,waarden!$D$4:$D$353,waarden!$E$4:$E$353)))","v":" "},null,{"$f":"IF(AO77=0,\" \",IF(OR(AO77<1,AO77>350),\" \",LOOKUP(AO77,waarden!$D$4:$D$353,waarden!$E$4:$E$353)))","v":" "},null,{"$f":"IF(AQ77=0,\" \",IF(OR(AQ77<1,AQ77>350),\" \",LOOKUP(AQ77,waarden!$D$4:$D$353,waarden!$E$4:$E$353)))","v":" "},null,{"$f":"IF(AS77=0,\" \",IF(OR(AS77<1,AS77>350),\" \",LOOKUP(AS77,waarden!$D$4:$D$353,waarden!$E$4:$E$353)))","v":" "},null,{"$f":"IF(AU77=0,\" \",IF(OR(AU77<1,AU77>350),\" \",LOOKUP(AU77,waarden!$D$4:$D$353,waarden!$E$4:$E$353)))","v":" "},null,{"$f":"IF(AW77=0,\" \",IF(OR(AW77<1,AW77>350),\" \",LOOKUP(AW77,waarden!$D$4:$D$353,waarden!$E$4:$E$353)))","v":" "},null,{"$f":"IF(AY77=0,\" \",IF(OR(AY77<1,AY77>350),\" \",LOOKUP(AY77,waarden!$D$4:$D$353,waarden!$E$4:$E$353)))","v":" "},null,{"$f":"IF(BA77=0,\" \",IF(OR(BA77<1,BA77>350),\" \",LOOKUP(BA77,waarden!$D$4:$D$353,waarden!$E$4:$E$353)))","v":" "},null,{"$f":"IF(BC77=0,\" \",IF(OR(BC77<1,BC77>350),\" \",LOOKUP(BC77,waarden!$D$4:$D$353,waarden!$E$4:$E$353)))","v":" "},null,{"$f":"IF(BE77=0,\" \",IF(OR(BE77<1,BE77>350),\" \",LOOKUP(BE77,waarden!$D$4:$D$353,waarden!$E$4:$E$353)))","v":" "},null,{"$f":"IF(BG77=0,\" \",IF(OR(BG77<1,BG77>350),\" \",LOOKUP(BG77,waarden!$D$4:$D$353,waarden!$E$4:$E$353)))","v":" "},null,{"$f":"IF(BI77=0,\" \",IF(OR(BI77<1,BI77>350),\" \",LOOKUP(BI77,waarden!$D$4:$D$353,waarden!$E$4:$E$353)))","v":" "},null,{"$f":"IF(BK77=0,\" \",IF(OR(BK77<1,BK77>350),\" \",LOOKUP(BK77,waarden!$D$4:$D$353,waarden!$E$4:$E$353)))","v":" "},null,{"$f":"IF(BM77=0,\" \",IF(OR(BM77<1,BM77>350),\" \",LOOKUP(BM77,waarden!$D$4:$D$353,waarden!$E$4:$E$353)))","v":" "},0,0]
[null,null,null,"Passagier",null,{"$f":"IF(E78=0,\" \",IF(OR(E78<1,E78>350),\" \",LOOKUP(E78,waarden!$A$4:$A$353,waarden!$B$4:$B$353)))","v":" "},null,{"$f":"IF(G78=0,\" \",IF(OR(G78<1,G78>350),\" \",LOOKUP(G78,waarden!$A$4:$A$353,waarden!$B$4:$B$353)))","v":" "},null,{"$f":"IF(I78=0,\" \",IF(OR(I78<1,I78>350),\" \",LOOKUP(I78,waarden!$A$4:$A$353,waarden!$B$4:$B$353)))","v":" "},null,{"$f":"IF(K78=0,\" \",IF(OR(K78<1,K78>350),\" \",LOOKUP(K78,waarden!$A$4:$A$353,waarden!$B$4:$B$353)))","v":" "},null,{"$f":"IF(M78=0,\" \",IF(OR(M78<1,M78>350),\" \",LOOKUP(M78,waarden!$A$4:$A$353,waarden!$B$4:$B$353)))","v":" "},null,{"$f":"IF(O78=0,\" \",IF(OR(O78<1,O78>350),\" \",LOOKUP(O78,waarden!$A$4:$A$353,waarden!$B$4:$B$353)))","v":" "},null,{"$f":"IF(Q78=0,\" \",IF(OR(Q78<1,Q78>350),\" \",LOOKUP(Q78,waarden!$A$4:$A$353,waarden!$B$4:$B$353)))","v":" "},null,{"$f":"IF(S78=0,\" \",IF(OR(S78<1,S78>350),\" \",LOOKUP(S78,waarden!$A$4:$A$353,waarden!$B$4:$B$353)))","v":" "},null,{"$f":"IF(U78=0,\" \",IF(OR(U78<1,U78>350),\" \",LOOKUP(U78,waarden!$A$4:$A$353,waarden!$B$4:$B$353)))","v":" "},null,{"$f":"IF(W78=0,\" \",IF(OR(W78<1,W78>350),\" \",LOOKUP(W78,waarden!$A$4:$A$353,waarden!$B$4:$B$353)))","v":" "},null,{"$f":"IF(Y78=0,\" \",IF(OR(Y78<1,Y78>350),\" \",LOOKUP(Y78,waarden!$A$4:$A$353,waarden!$B$4:$B$353)))","v":" "},null,{"$f":"IF(AA78=0,\" \",IF(OR(AA78<1,AA78>350),\" \",LOOKUP(AA78,waarden!$A$4:$A$353,waarden!$B$4:$B$353)))","v":" "},null,{"$f":"IF(AC78=0,\" \",IF(OR(AC78<1,AC78>350),\" \",LOOKUP(AC78,waarden!$A$4:$A$353,waarden!$B$4:$B$353)))","v":" "},null,{"$f":"IF(AE78=0,\" \",IF(OR(AE78<1,AE78>350),\" \",LOOKUP(AE78,waarden!$A$4:$A$353,waarden!$B$4:$B$353)))","v":" "},null,{"$f":"IF(AG78=0,\" \",IF(OR(AG78<1,AG78>350),\" \",LOOKUP(AG78,waarden!$A$4:$A$353,waarden!$B$4:$B$353)))","v":" "},null,{"$f":"IF(AI78=0,\" \",IF(OR(AI78<1,AI78>350),\" \",LOOKUP(AI78,waarden!$A$4:$A$353,waarden!$B$4:$B$353)))","v":" "},null,{"$f":"IF(AK78=0,\" \",IF(OR(AK78<1,AK78>350),\" \",LOOKUP(AK78,waarden!$A$4:$A$353,waarden!$B$4:$B$353)))","v":" "},null,{"$f":"IF(AM78=0,\" \",IF(OR(AM78<1,AM78>350),\" \",LOOKUP(AM78,waarden!$A$4:$A$353,waarden!$B$4:$B$353)))","v":" "},null,{"$f":"IF(AO78=0,\" \",IF(OR(AO78<1,AO78>350),\" \",LOOKUP(AO78,waarden!$A$4:$A$353,waarden!$B$4:$B$353)))","v":" "},null,{"$f":"IF(AQ78=0,\" \",IF(OR(AQ78<1,AQ78>350),\" \",LOOKUP(AQ78,waarden!$A$4:$A$353,waarden!$B$4:$B$353)))","v":" "},null,{"$f":"IF(AS78=0,\" \",IF(OR(AS78<1,AS78>350),\" \",LOOKUP(AS78,waarden!$A$4:$A$353,waarden!$B$4:$B$353)))","v":" "},null,{"$f":"IF(AU78=0,\" \",IF(OR(AU78<1,AU78>350),\" \",LOOKUP(AU78,waarden!$A$4:$A$353,waarden!$B$4:$B$353)))","v":" "},null,{"$f":"IF(AW78=0,\" \",IF(OR(AW78<1,AW78>350),\" \",LOOKUP(AW78,waarden!$A$4:$A$353,waarden!$B$4:$B$353)))","v":" "},null,{"$f":"IF(AY78=0,\" \",IF(OR(AY78<1,AY78>350),\" \",LOOKUP(AY78,waarden!$A$4:$A$353,waarden!$B$4:$B$353)))","v":" "},null,{"$f":"IF(BA78=0,\" \",IF(OR(BA78<1,BA78>350),\" \",LOOKUP(BA78,waarden!$A$4:$A$353,waarden!$B$4:$B$353)))","v":" "},null,{"$f":"IF(BC78=0,\" \",IF(OR(BC78<1,BC78>350),\" \",LOOKUP(BC78,waarden!$A$4:$A$353,waarden!$B$4:$B$353)))","v":" "},null,{"$f":"IF(BE78=0,\" \",IF(OR(BE78<1,BE78>350),\" \",LOOKUP(BE78,waarden!$A$4:$A$353,waarden!$B$4:$B$353)))","v":" "},null,{"$f":"IF(BG78=0,\" \",IF(OR(BG78<1,BG78>350),\" \",LOOKUP(BG78,waarden!$A$4:$A$353,waarden!$B$4:$B$353)))","v":" "},null,{"$f":"IF(BI78=0,\" \",IF(OR(BI78<1,BI78>350),\" \",LOOKUP(BI78,waarden!$A$4:$A$353,waarden!$B$4:$B$353)))","v":" "},null,{"$f":"IF(BK78=0,\" \",IF(OR(BK78<1,BK78>350),\" \",LOOKUP(BK78,waarden!$A$4:$A$353,waarden!$B$4:$B$353)))","v":" "},null,{"$f":"IF(BM78=0,\" \",IF(OR(BM78<1,BM78>350),\" \",LOOKUP(BM78,waarden!$A$4:$A$353,waarden!$B$4:$B$353)))","v":" "},0,0]
[null,null,null,"Chauffeur personeel",null,{"$f":"IF(E79=0,\" \",IF(OR(E79<1,E79>350),\" \",LOOKUP(E79,waarden!$G$4:$G$353,waarden!$H$4:$H$353)))","v":" "},null,{"$f":"IF(G79=0,\" \",IF(OR(G79<1,G79>350),\" \",LOOKUP(G79,waarden!$G$4:$G$353,waarden!$H$4:$H$353)))","v":" "},null,{"$f":"IF(I79=0,\" \",IF(OR(I79<1,I79>350),\" \",LOOKUP(I79,waarden!$G$4:$G$353,waarden!$H$4:$H$353)))","v":" "},null,{"$f":"IF(K79=0,\" \",IF(OR(K79<1,K79>350),\" \",LOOKUP(K79,waarden!$G$4:$G$353,waarden!$H$4:$H$353)))","v":" "},null,{"$f":"IF(M79=0,\" \",IF(OR(M79<1,M79>350),\" \",LOOKUP(M79,waarden!$G$4:$G$353,waarden!$H$4:$H$353)))","v":" "},null,{"$f":"IF(O79=0,\" \",IF(OR(O79<1,O79>350),\" \",LOOKUP(O79,waarden!$G$4:$G$353,waarden!$H$4:$H$353)))","v":" "},null,{"$f":"IF(Q79=0,\" \",IF(OR(Q79<1,Q79>350),\" \",LOOKUP(Q79,waarden!$G$4:$G$353,waarden!$H$4:$H$353)))","v":" "},null,{"$f":"IF(S79=0,\" \",IF(OR(S79<1,S79>350),\" \",LOOKUP(S79,waarden!$G$4:$G$353,waarden!$H$4:$H$353)))","v":" "},null,{"$f":"IF(U79=0,\" \",IF(OR(U79<1,U79>350),\" \",LOOKUP(U79,waarden!$G$4:$G$353,waarden!$H$4:$H$353)))","v":" "},null,{"$f":"IF(W79=0,\" \",IF(OR(W79<1,W79>350),\" \",LOOKUP(W79,waarden!$G$4:$G$353,waarden!$H$4:$H$353)))","v":" "},null,{"$f":"IF(Y79=0,\" \",IF(OR(Y79<1,Y79>350),\" \",LOOKUP(Y79,waarden!$G$4:$G$353,waarden!$H$4:$H$353)))","v":" "},null,{"$f":"IF(AA79=0,\" \",IF(OR(AA79<1,AA79>350),\" \",LOOKUP(AA79,waarden!$G$4:$G$353,waarden!$H$4:$H$353)))","v":" "},null,{"$f":"IF(AC79=0,\" \",IF(OR(AC79<1,AC79>350),\" \",LOOKUP(AC79,waarden!$G$4:$G$353,waarden!$H$4:$H$353)))","v":" "},null,{"$f":"IF(AE79=0,\" \",IF(OR(AE79<1,AE79>350),\" \",LOOKUP(AE79,waarden!$G$4:$G$353,waarden!$H$4:$H$353)))","v":" "},null,{"$f":"IF(AG79=0,\" \",IF(OR(AG79<1,AG79>350),\" \",LOOKUP(AG79,waarden!$G$4:$G$353,waarden!$H$4:$H$353)))","v":" "},null,{"$f":"IF(AI79=0,\" \",IF(OR(AI79<1,AI79>350),\" \",LOOKUP(AI79,waarden!$G$4:$G$353,waarden!$H$4:$H$353)))","v":" "},null,{"$f":"IF(AK79=0,\" \",IF(OR(AK79<1,AK79>350),\" \",LOOKUP(AK79,waarden!$G$4:$G$353,waarden!$H$4:$H$353)))","v":" "},null,{"$f":"IF(AM79=0,\" \",IF(OR(AM79<1,AM79>350),\" \",LOOKUP(AM79,waarden!$G$4:$G$353,waarden!$H$4:$H$353)))","v":" "},null,{"$f":"IF(AO79=0,\" \",IF(OR(AO79<1,AO79>350),\" \",LOOKUP(AO79,waarden!$G$4:$G$353,waarden!$H$4:$H$353)))","v":" "},null,{"$f":"IF(AQ79=0,\" \",IF(OR(AQ79<1,AQ79>350),\" \",LOOKUP(AQ79,waarden!$G$4:$G$353,waarden!$H$4:$H$353)))","v":" "},null,{"$f":"IF(AS79=0,\" \",IF(OR(AS79<1,AS79>350),\" \",LOOKUP(AS79,waarden!$G$4:$G$353,waarden!$H$4:$H$353)))","v":" "},null,{"$f":"IF(AU79=0,\" \",IF(OR(AU79<1,AU79>350),\" \",LOOKUP(AU79,waarden!$G$4:$G$353,waarden!$H$4:$H$353)))","v":" "},null,{"$f":"IF(AW79=0,\" \",IF(OR(AW79<1,AW79>350),\" \",LOOKUP(AW79,waarden!$G$4:$G$353,waarden!$H$4:$H$353)))","v":" "},null,{"$f":"IF(AY79=0,\" \",IF(OR(AY79<1,AY79>350),\" \",LOOKUP(AY79,waarden!$G$4:$G$353,waarden!$H$4:$H$353)))","v":" "},null,{"$f":"IF(BA79=0,\" \",IF(OR(BA79<1,BA79>350),\" \",LOOKUP(BA79,waarden!$G$4:$G$353,waarden!$H$4:$H$353)))","v":" "},null,{"$f":"IF(BC79=0,\" \",IF(OR(BC79<1,BC79>350),\" \",LOOKUP(BC79,waarden!$G$4:$G$353,waarden!$H$4:$H$353)))","v":" "},null,{"$f":"IF(BE79=0,\" \",IF(OR(BE79<1,BE79>350),\" \",LOOKUP(BE79,waarden!$G$4:$G$353,waarden!$H$4:$H$353)))","v":" "},null,{"$f":"IF(BG79=0,\" \",IF(OR(BG79<1,BG79>350),\" \",LOOKUP(BG79,waarden!$G$4:$G$353,waarden!$H$4:$H$353)))","v":" "},null,{"$f":"IF(BI79=0,\" \",IF(OR(BI79<1,BI79>350),\" \",LOOKUP(BI79,waarden!$G$4:$G$353,waarden!$H$4:$H$353)))","v":" "},null,{"$f":"IF(BK79=0,\" \",IF(OR(BK79<1,BK79>350),\" \",LOOKUP(BK79,waarden!$G$4:$G$353,waarden!$H$4:$H$353)))","v":" "},null,{"$f":"IF(BM79=0,\" \",IF(OR(BM79<1,BM79>350),\" \",LOOKUP(BM79,waarden!$G$4:$G$353,waarden!$H$4:$H$353)))","v":" "},0,{"$f":"SUM(F79,H79,J79,L79,N79,P79,R79,T79,V79,X79,Z79,AB79,AD79,AF79,AH79,AJ79,AL79,AN79,AP79,AR79,AT79,AV79,AX79,AZ79,BB79,BD79,BF79,BH79,BJ79,BL79,BN79)","v":0}]
[null,null,null,"Chauffeur alleen",null,{"$f":"IF(E80=0,\" \",IF(OR(E80<1,E80>350),\" \",LOOKUP(E80,waarden!$D$4:$D$353,waarden!$E$4:$E$353)))","v":" "},null,{"$f":"IF(G80=0,\" \",IF(OR(G80<1,G80>350),\" \",LOOKUP(G80,waarden!$D$4:$D$353,waarden!$E$4:$E$353)))","v":" "},null,{"$f":"IF(I80=0,\" \",IF(OR(I80<1,I80>350),\" \",LOOKUP(I80,waarden!$D$4:$D$353,waarden!$E$4:$E$353)))","v":" "},null,{"$f":"IF(K80=0,\" \",IF(OR(K80<1,K80>350),\" \",LOOKUP(K80,waarden!$D$4:$D$353,waarden!$E$4:$E$353)))","v":" "},null,{"$f":"IF(M80=0,\" \",IF(OR(M80<1,M80>350),\" \",LOOKUP(M80,waarden!$D$4:$D$353,waarden!$E$4:$E$353)))","v":" "},null,{"$f":"IF(O80=0,\" \",IF(OR(O80<1,O80>350),\" \",LOOKUP(O80,waarden!$D$4:$D$353,waarden!$E$4:$E$353)))","v":" "},null,{"$f":"IF(Q80=0,\" \",IF(OR(Q80<1,Q80>350),\" \",LOOKUP(Q80,waarden!$D$4:$D$353,waarden!$E$4:$E$353)))","v":" "},null,{"$f":"IF(S80=0,\" \",IF(OR(S80<1,S80>350),\" \",LOOKUP(S80,waarden!$D$4:$D$353,waarden!$E$4:$E$353)))","v":" "},null,{"$f":"IF(U80=0,\" \",IF(OR(U80<1,U80>350),\" \",LOOKUP(U80,waarden!$D$4:$D$353,waarden!$E$4:$E$353)))","v":" "},null,{"$f":"IF(W80=0,\" \",IF(OR(W80<1,W80>350),\" \",LOOKUP(W80,waarden!$D$4:$D$353,waarden!$E$4:$E$353)))","v":" "},null,{"$f":"IF(Y80=0,\" \",IF(OR(Y80<1,Y80>350),\" \",LOOKUP(Y80,waarden!$D$4:$D$353,waarden!$E$4:$E$353)))","v":" "},null,{"$f":"IF(AA80=0,\" \",IF(OR(AA80<1,AA80>350),\" \",LOOKUP(AA80,waarden!$D$4:$D$353,waarden!$E$4:$E$353)))","v":" "},null,{"$f":"IF(AC80=0,\" \",IF(OR(AC80<1,AC80>350),\" \",LOOKUP(AC80,waarden!$D$4:$D$353,waarden!$E$4:$E$353)))","v":" "},null,{"$f":"IF(AE80=0,\" \",IF(OR(AE80<1,AE80>350),\" \",LOOKUP(AE80,waarden!$D$4:$D$353,waarden!$E$4:$E$353)))","v":" "},null,{"$f":"IF(AG80=0,\" \",IF(OR(AG80<1,AG80>350),\" \",LOOKUP(AG80,waarden!$D$4:$D$353,waarden!$E$4:$E$353)))","v":" "},null,{"$f":"IF(AI80=0,\" \",IF(OR(AI80<1,AI80>350),\" \",LOOKUP(AI80,waarden!$D$4:$D$353,waarden!$E$4:$E$353)))","v":" "},null,{"$f":"IF(AK80=0,\" \",IF(OR(AK80<1,AK80>350),\" \",LOOKUP(AK80,waarden!$D$4:$D$353,waarden!$E$4:$E$353)))","v":" "},null,{"$f":"IF(AM80=0,\" \",IF(OR(AM80<1,AM80>350),\" \",LOOKUP(AM80,waarden!$D$4:$D$353,waarden!$E$4:$E$353)))","v":" "},null,{"$f":"IF(AO80=0,\" \",IF(OR(AO80<1,AO80>350),\" \",LOOKUP(AO80,waarden!$D$4:$D$353,waarden!$E$4:$E$353)))","v":" "},null,{"$f":"IF(AQ80=0,\" \",IF(OR(AQ80<1,AQ80>350),\" \",LOOKUP(AQ80,waarden!$D$4:$D$353,waarden!$E$4:$E$353)))","v":" "},null,{"$f":"IF(AS80=0,\" \",IF(OR(AS80<1,AS80>350),\" \",LOOKUP(AS80,waarden!$D$4:$D$353,waarden!$E$4:$E$353)))","v":" "},null,{"$f":"IF(AU80=0,\" \",IF(OR(AU80<1,AU80>350),\" \",LOOKUP(AU80,waarden!$D$4:$D$353,waarden!$E$4:$E$353)))","v":" "},null,{"$f":"IF(AW80=0,\" \",IF(OR(AW80<1,AW80>350),\" \",LOOKUP(AW80,waarden!$D$4:$D$353,waarden!$E$4:$E$353)))","v":" "},null,{"$f":"IF(AY80=0,\" \",IF(OR(AY80<1,AY80>350),\" \",LOOKUP(AY80,waarden!$D$4:$D$353,waarden!$E$4:$E$353)))","v":" "},null,{"$f":"IF(BA80=0,\" \",IF(OR(BA80<1,BA80>350),\" \",LOOKUP(BA80,waarden!$D$4:$D$353,waarden!$E$4:$E$353)))","v":" "},null,{"$f":"IF(BC80=0,\" \",IF(OR(BC80<1,BC80>350),\" \",LOOKUP(BC80,waarden!$D$4:$D$353,waarden!$E$4:$E$353)))","v":" "},null,{"$f":"IF(BE80=0,\" \",IF(OR(BE80<1,BE80>350),\" \",LOOKUP(BE80,waarden!$D$4:$D$353,waarden!$E$4:$E$353)))","v":" "},null,{"$f":"IF(BG80=0,\" \",IF(OR(BG80<1,BG80>350),\" \",LOOKUP(BG80,waarden!$D$4:$D$353,waarden!$E$4:$E$353)))","v":" "},null,{"$f":"IF(BI80=0,\" \",IF(OR(BI80<1,BI80>350),\" \",LOOKUP(BI80,waarden!$D$4:$D$353,waarden!$E$4:$E$353)))","v":" "},null,{"$f":"IF(BK80=0,\" \",IF(OR(BK80<1,BK80>350),\" \",LOOKUP(BK80,waarden!$D$4:$D$353,waarden!$E$4:$E$353)))","v":" "},null,{"$f":"IF(BM80=0,\" \",IF(OR(BM80<1,BM80>350),\" \",LOOKUP(BM80,waarden!$D$4:$D$353,waarden!$E$4:$E$353)))","v":" "},0,0]
[null,null,null,"Passagier",null,{"$f":"IF(E81=0,\" \",IF(OR(E81<1,E81>350),\" \",LOOKUP(E81,waarden!$A$4:$A$353,waarden!$B$4:$B$353)))","v":" "},null,{"$f":"IF(G81=0,\" \",IF(OR(G81<1,G81>350),\" \",LOOKUP(G81,waarden!$A$4:$A$353,waarden!$B$4:$B$353)))","v":" "},null,{"$f":"IF(I81=0,\" \",IF(OR(I81<1,I81>350),\" \",LOOKUP(I81,waarden!$A$4:$A$353,waarden!$B$4:$B$353)))","v":" "},null,{"$f":"IF(K81=0,\" \",IF(OR(K81<1,K81>350),\" \",LOOKUP(K81,waarden!$A$4:$A$353,waarden!$B$4:$B$353)))","v":" "},null,{"$f":"IF(M81=0,\" \",IF(OR(M81<1,M81>350),\" \",LOOKUP(M81,waarden!$A$4:$A$353,waarden!$B$4:$B$353)))","v":" "},null,{"$f":"IF(O81=0,\" \",IF(OR(O81<1,O81>350),\" \",LOOKUP(O81,waarden!$A$4:$A$353,waarden!$B$4:$B$353)))","v":" "},null,{"$f":"IF(Q81=0,\" \",IF(OR(Q81<1,Q81>350),\" \",LOOKUP(Q81,waarden!$A$4:$A$353,waarden!$B$4:$B$353)))","v":" "},null,{"$f":"IF(S81=0,\" \",IF(OR(S81<1,S81>350),\" \",LOOKUP(S81,waarden!$A$4:$A$353,waarden!$B$4:$B$353)))","v":" "},null,{"$f":"IF(U81=0,\" \",IF(OR(U81<1,U81>350),\" \",LOOKUP(U81,waarden!$A$4:$A$353,waarden!$B$4:$B$353)))","v":" "},null,{"$f":"IF(W81=0,\" \",IF(OR(W81<1,W81>350),\" \",LOOKUP(W81,waarden!$A$4:$A$353,waarden!$B$4:$B$353)))","v":" "},null,{"$f":"IF(Y81=0,\" \",IF(OR(Y81<1,Y81>350),\" \",LOOKUP(Y81,waarden!$A$4:$A$353,waarden!$B$4:$B$353)))","v":" "},null,{"$f":"IF(AA81=0,\" \",IF(OR(AA81<1,AA81>350),\" \",LOOKUP(AA81,waarden!$A$4:$A$353,waarden!$B$4:$B$353)))","v":" "},null,{"$f":"IF(AC81=0,\" \",IF(OR(AC81<1,AC81>350),\" \",LOOKUP(AC81,waarden!$A$4:$A$353,waarden!$B$4:$B$353)))","v":" "},null,{"$f":"IF(AE81=0,\" \",IF(OR(AE81<1,AE81>350),\" \",LOOKUP(AE81,waarden!$A$4:$A$353,waarden!$B$4:$B$353)))","v":" "},null,{"$f":"IF(AG81=0,\" \",IF(OR(AG81<1,AG81>350),\" \",LOOKUP(AG81,waarden!$A$4:$A$353,waarden!$B$4:$B$353)))","v":" "},null,{"$f":"IF(AI81=0,\" \",IF(OR(AI81<1,AI81>350),\" \",LOOKUP(AI81,waarden!$A$4:$A$353,waarden!$B$4:$B$353)))","v":" "},null,{"$f":"IF(AK81=0,\" \",IF(OR(AK81<1,AK81>350),\" \",LOOKUP(AK81,waarden!$A$4:$A$353,waarden!$B$4:$B$353)))","v":" "},null,{"$f":"IF(AM81=0,\" \",IF(OR(AM81<1,AM81>350),\" \",LOOKUP(AM81,waarden!$A$4:$A$353,waarden!$B$4:$B$353)))","v":" "},null,{"$f":"IF(AO81=0,\" \",IF(OR(AO81<1,AO81>350),\" \",LOOKUP(AO81,waarden!$A$4:$A$353,waarden!$B$4:$B$353)))","v":" "},null,{"$f":"IF(AQ81=0,\" \",IF(OR(AQ81<1,AQ81>350),\" \",LOOKUP(AQ81,waarden!$A$4:$A$353,waarden!$B$4:$B$353)))","v":" "},null,{"$f":"IF(AS81=0,\" \",IF(OR(AS81<1,AS81>350),\" \",LOOKUP(AS81,waarden!$A$4:$A$353,waarden!$B$4:$B$353)))","v":" "},null,{"$f":"IF(AU81=0,\" \",IF(OR(AU81<1,AU81>350),\" \",LOOKUP(AU81,waarden!$A$4:$A$353,waarden!$B$4:$B$353)))","v":" "},null,{"$f":"IF(AW81=0,\" \",IF(OR(AW81<1,AW81>350),\" \",LOOKUP(AW81,waarden!$A$4:$A$353,waarden!$B$4:$B$353)))","v":" "},null,{"$f":"IF(AY81=0,\" \",IF(OR(AY81<1,AY81>350),\" \",LOOKUP(AY81,waarden!$A$4:$A$353,waarden!$B$4:$B$353)))","v":" "},null,{"$f":"IF(BA81=0,\" \",IF(OR(BA81<1,BA81>350),\" \",LOOKUP(BA81,waarden!$A$4:$A$353,waarden!$B$4:$B$353)))","v":" "},null,{"$f":"IF(BC81=0,\" \",IF(OR(BC81<1,BC81>350),\" \",LOOKUP(BC81,waarden!$A$4:$A$353,waarden!$B$4:$B$353)))","v":" "},null,{"$f":"IF(BE81=0,\" \",IF(OR(BE81<1,BE81>350),\" \",LOOKUP(BE81,waarden!$A$4:$A$353,waarden!$B$4:$B$353)))","v":" "},null,{"$f":"IF(BG81=0,\" \",IF(OR(BG81<1,BG81>350),\" \",LOOKUP(BG81,waarden!$A$4:$A$353,waarden!$B$4:$B$353)))","v":" "},null,{"$f":"IF(BI81=0,\" \",IF(OR(BI81<1,BI81>350),\" \",LOOKUP(BI81,waarden!$A$4:$A$353,waarden!$B$4:$B$353)))","v":" "},null,{"$f":"IF(BK81=0,\" \",IF(OR(BK81<1,BK81>350),\" \",LOOKUP(BK81,waarden!$A$4:$A$353,waarden!$B$4:$B$353)))","v":" "},null,{"$f":"IF(BM81=0,\" \",IF(OR(BM81<1,BM81>350),\" \",LOOKUP(BM81,waarden!$A$4:$A$353,waarden!$B$4:$B$353)))","v":" "},0,0]
[null,null,null,"Chauffeur personeel",null,{"$f":"IF(E82=0,\" \",IF(OR(E82<1,E82>350),\" \",LOOKUP(E82,waarden!$G$4:$G$353,waarden!$H$4:$H$353)))","v":" "},null,{"$f":"IF(G82=0,\" \",IF(OR(G82<1,G82>350),\" \",LOOKUP(G82,waarden!$G$4:$G$353,waarden!$H$4:$H$353)))","v":" "},null,{"$f":"IF(I82=0,\" \",IF(OR(I82<1,I82>350),\" \",LOOKUP(I82,waarden!$G$4:$G$353,waarden!$H$4:$H$353)))","v":" "},null,{"$f":"IF(K82=0,\" \",IF(OR(K82<1,K82>350),\" \",LOOKUP(K82,waarden!$G$4:$G$353,waarden!$H$4:$H$353)))","v":" "},null,{"$f":"IF(M82=0,\" \",IF(OR(M82<1,M82>350),\" \",LOOKUP(M82,waarden!$G$4:$G$353,waarden!$H$4:$H$353)))","v":" "},null,{"$f":"IF(O82=0,\" \",IF(OR(O82<1,O82>350),\" \",LOOKUP(O82,waarden!$G$4:$G$353,waarden!$H$4:$H$353)))","v":" "},null,{"$f":"IF(Q82=0,\" \",IF(OR(Q82<1,Q82>350),\" \",LOOKUP(Q82,waarden!$G$4:$G$353,waarden!$H$4:$H$353)))","v":" "},null,{"$f":"IF(S82=0,\" \",IF(OR(S82<1,S82>350),\" \",LOOKUP(S82,waarden!$G$4:$G$353,waarden!$H$4:$H$353)))","v":" "},null,{"$f":"IF(U82=0,\" \",IF(OR(U82<1,U82>350),\" \",LOOKUP(U82,waarden!$G$4:$G$353,waarden!$H$4:$H$353)))","v":" "},null,{"$f":"IF(W82=0,\" \",IF(OR(W82<1,W82>350),\" \",LOOKUP(W82,waarden!$G$4:$G$353,waarden!$H$4:$H$353)))","v":" "},null,{"$f":"IF(Y82=0,\" \",IF(OR(Y82<1,Y82>350),\" \",LOOKUP(Y82,waarden!$G$4:$G$353,waarden!$H$4:$H$353)))","v":" "},null,{"$f":"IF(AA82=0,\" \",IF(OR(AA82<1,AA82>350),\" \",LOOKUP(AA82,waarden!$G$4:$G$353,waarden!$H$4:$H$353)))","v":" "},null,{"$f":"IF(AC82=0,\" \",IF(OR(AC82<1,AC82>350),\" \",LOOKUP(AC82,waarden!$G$4:$G$353,waarden!$H$4:$H$353)))","v":" "},null,{"$f":"IF(AE82=0,\" \",IF(OR(AE82<1,AE82>350),\" \",LOOKUP(AE82,waarden!$G$4:$G$353,waarden!$H$4:$H$353)))","v":" "},null,{"$f":"IF(AG82=0,\" \",IF(OR(AG82<1,AG82>350),\" \",LOOKUP(AG82,waarden!$G$4:$G$353,waarden!$H$4:$H$353)))","v":" "},null,{"$f":"IF(AI82=0,\" \",IF(OR(AI82<1,AI82>350),\" \",LOOKUP(AI82,waarden!$G$4:$G$353,waarden!$H$4:$H$353)))","v":" "},null,{"$f":"IF(AK82=0,\" \",IF(OR(AK82<1,AK82>350),\" \",LOOKUP(AK82,waarden!$G$4:$G$353,waarden!$H$4:$H$353)))","v":" "},null,{"$f":"IF(AM82=0,\" \",IF(OR(AM82<1,AM82>350),\" \",LOOKUP(AM82,waarden!$G$4:$G$353,waarden!$H$4:$H$353)))","v":" "},null,{"$f":"IF(AO82=0,\" \",IF(OR(AO82<1,AO82>350),\" \",LOOKUP(AO82,waarden!$G$4:$G$353,waarden!$H$4:$H$353)))","v":" "},null,{"$f":"IF(AQ82=0,\" \",IF(OR(AQ82<1,AQ82>350),\" \",LOOKUP(AQ82,waarden!$G$4:$G$353,waarden!$H$4:$H$353)))","v":" "},null,{"$f":"IF(AS82=0,\" \",IF(OR(AS82<1,AS82>350),\" \",LOOKUP(AS82,waarden!$G$4:$G$353,waarden!$H$4:$H$353)))","v":" "},null,{"$f":"IF(AU82=0,\" \",IF(OR(AU82<1,AU82>350),\" \",LOOKUP(AU82,waarden!$G$4:$G$353,waarden!$H$4:$H$353)))","v":" "},null,{"$f":"IF(AW82=0,\" \",IF(OR(AW82<1,AW82>350),\" \",LOOKUP(AW82,waarden!$G$4:$G$353,waarden!$H$4:$H$353)))","v":" "},null,{"$f":"IF(AY82=0,\" \",IF(OR(AY82<1,AY82>350),\" \",LOOKUP(AY82,waarden!$G$4:$G$353,waarden!$H$4:$H$353)))","v":" "},null,{"$f":"IF(BA82=0,\" \",IF(OR(BA82<1,BA82>350),\" \",LOOKUP(BA82,waarden!$G$4:$G$353,waarden!$H$4:$H$353)))","v":" "},null,{"$f":"IF(BC82=0,\" \",IF(OR(BC82<1,BC82>350),\" \",LOOKUP(BC82,waarden!$G$4:$G$353,waarden!$H$4:$H$353)))","v":" "},null,{"$f":"IF(BE82=0,\" \",IF(OR(BE82<1,BE82>350),\" \",LOOKUP(BE82,waarden!$G$4:$G$353,waarden!$H$4:$H$353)))","v":" "},null,{"$f":"IF(BG82=0,\" \",IF(OR(BG82<1,BG82>350),\" \",LOOKUP(BG82,waarden!$G$4:$G$353,waarden!$H$4:$H$353)))","v":" "},null,{"$f":"IF(BI82=0,\" \",IF(OR(BI82<1,BI82>350),\" \",LOOKUP(BI82,waarden!$G$4:$G$353,waarden!$H$4:$H$353)))","v":" "},null,{"$f":"IF(BK82=0,\" \",IF(OR(BK82<1,BK82>350),\" \",LOOKUP(BK82,waarden!$G$4:$G$353,waarden!$H$4:$H$353)))","v":" "},null,{"$f":"IF(BM82=0,\" \",IF(OR(BM82<1,BM82>350),\" \",LOOKUP(BM82,waarden!$G$4:$G$353,waarden!$H$4:$H$353)))","v":" "},0,{"$f":"SUM(F82,H82,J82,L82,N82,P82,R82,T82,V82,X82,Z82,AB82,AD82,AF82,AH82,AJ82,AL82,AN82,AP82,AR82,AT82,AV82,AX82,AZ82,BB82,BD82,BF82,BH82,BJ82,BL82,BN82)","v":0}]
[null,null,null,"Chauffeur alleen",null,{"$f":"IF(E83=0,\" \",IF(OR(E83<1,E83>350),\" \",LOOKUP(E83,waarden!$D$4:$D$353,waarden!$E$4:$E$353)))","v":" "},null,{"$f":"IF(G83=0,\" \",IF(OR(G83<1,G83>350),\" \",LOOKUP(G83,waarden!$D$4:$D$353,waarden!$E$4:$E$353)))","v":" "},null,{"$f":"IF(I83=0,\" \",IF(OR(I83<1,I83>350),\" \",LOOKUP(I83,waarden!$D$4:$D$353,waarden!$E$4:$E$353)))","v":" "},null,{"$f":"IF(K83=0,\" \",IF(OR(K83<1,K83>350),\" \",LOOKUP(K83,waarden!$D$4:$D$353,waarden!$E$4:$E$353)))","v":" "},null,{"$f":"IF(M83=0,\" \",IF(OR(M83<1,M83>350),\" \",LOOKUP(M83,waarden!$D$4:$D$353,waarden!$E$4:$E$353)))","v":" "},null,{"$f":"IF(O83=0,\" \",IF(OR(O83<1,O83>350),\" \",LOOKUP(O83,waarden!$D$4:$D$353,waarden!$E$4:$E$353)))","v":" "},null,{"$f":"IF(Q83=0,\" \",IF(OR(Q83<1,Q83>350),\" \",LOOKUP(Q83,waarden!$D$4:$D$353,waarden!$E$4:$E$353)))","v":" "},null,{"$f":"IF(S83=0,\" \",IF(OR(S83<1,S83>350),\" \",LOOKUP(S83,waarden!$D$4:$D$353,waarden!$E$4:$E$353)))","v":" "},null,{"$f":"IF(U83=0,\" \",IF(OR(U83<1,U83>350),\" \",LOOKUP(U83,waarden!$D$4:$D$353,waarden!$E$4:$E$353)))","v":" "},null,{"$f":"IF(W83=0,\" \",IF(OR(W83<1,W83>350),\" \",LOOKUP(W83,waarden!$D$4:$D$353,waarden!$E$4:$E$353)))","v":" "},null,{"$f":"IF(Y83=0,\" \",IF(OR(Y83<1,Y83>350),\" \",LOOKUP(Y83,waarden!$D$4:$D$353,waarden!$E$4:$E$353)))","v":" "},null,{"$f":"IF(AA83=0,\" \",IF(OR(AA83<1,AA83>350),\" \",LOOKUP(AA83,waarden!$D$4:$D$353,waarden!$E$4:$E$353)))","v":" "},null,{"$f":"IF(AC83=0,\" \",IF(OR(AC83<1,AC83>350),\" \",LOOKUP(AC83,waarden!$D$4:$D$353,waarden!$E$4:$E$353)))","v":" "},null,{"$f":"IF(AE83=0,\" \",IF(OR(AE83<1,AE83>350),\" \",LOOKUP(AE83,waarden!$D$4:$D$353,waarden!$E$4:$E$353)))","v":" "},null,{"$f":"IF(AG83=0,\" \",IF(OR(AG83<1,AG83>350),\" \",LOOKUP(AG83,waarden!$D$4:$D$353,waarden!$E$4:$E$353)))","v":" "},null,{"$f":"IF(AI83=0,\" \",IF(OR(AI83<1,AI83>350),\" \",LOOKUP(AI83,waarden!$D$4:$D$353,waarden!$E$4:$E$353)))","v":" "},null,{"$f":"IF(AK83=0,\" \",IF(OR(AK83<1,AK83>350),\" \",LOOKUP(AK83,waarden!$D$4:$D$353,waarden!$E$4:$E$353)))","v":" "},null,{"$f":"IF(AM83=0,\" \",IF(OR(AM83<1,AM83>350),\" \",LOOKUP(AM83,waarden!$D$4:$D$353,waarden!$E$4:$E$353)))","v":" "},null,{"$f":"IF(AO83=0,\" \",IF(OR(AO83<1,AO83>350),\" \",LOOKUP(AO83,waarden!$D$4:$D$353,waarden!$E$4:$E$353)))","v":" "},null,{"$f":"IF(AQ83=0,\" \",IF(OR(AQ83<1,AQ83>350),\" \",LOOKUP(AQ83,waarden!$D$4:$D$353,waarden!$E$4:$E$353)))","v":" "},null,{"$f":"IF(AS83=0,\" \",IF(OR(AS83<1,AS83>350),\" \",LOOKUP(AS83,waarden!$D$4:$D$353,waarden!$E$4:$E$353)))","v":" "},null,{"$f":"IF(AU83=0,\" \",IF(OR(AU83<1,AU83>350),\" \",LOOKUP(AU83,waarden!$D$4:$D$353,waarden!$E$4:$E$353)))","v":" "},null,{"$f":"IF(AW83=0,\" \",IF(OR(AW83<1,AW83>350),\" \",LOOKUP(AW83,waarden!$D$4:$D$353,waarden!$E$4:$E$353)))","v":" "},null,{"$f":"IF(AY83=0,\" \",IF(OR(AY83<1,AY83>350),\" \",LOOKUP(AY83,waarden!$D$4:$D$353,waarden!$E$4:$E$353)))","v":" "},null,{"$f":"IF(BA83=0,\" \",IF(OR(BA83<1,BA83>350),\" \",LOOKUP(BA83,waarden!$D$4:$D$353,waarden!$E$4:$E$353)))","v":" "},null,{"$f":"IF(BC83=0,\" \",IF(OR(BC83<1,BC83>350),\" \",LOOKUP(BC83,waarden!$D$4:$D$353,waarden!$E$4:$E$353)))","v":" "},null,{"$f":"IF(BE83=0,\" \",IF(OR(BE83<1,BE83>350),\" \",LOOKUP(BE83,waarden!$D$4:$D$353,waarden!$E$4:$E$353)))","v":" "},null,{"$f":"IF(BG83=0,\" \",IF(OR(BG83<1,BG83>350),\" \",LOOKUP(BG83,waarden!$D$4:$D$353,waarden!$E$4:$E$353)))","v":" "},null,{"$f":"IF(BI83=0,\" \",IF(OR(BI83<1,BI83>350),\" \",LOOKUP(BI83,waarden!$D$4:$D$353,waarden!$E$4:$E$353)))","v":" "},null,{"$f":"IF(BK83=0,\" \",IF(OR(BK83<1,BK83>350),\" \",LOOKUP(BK83,waarden!$D$4:$D$353,waarden!$E$4:$E$353)))","v":" "},null,{"$f":"IF(BM83=0,\" \",IF(OR(BM83<1,BM83>350),\" \",LOOKUP(BM83,waarden!$D$4:$D$353,waarden!$E$4:$E$353)))","v":" "},0,0]
[null,null,null,"Passagier",null,{"$f":"IF(E84=0,\" \",IF(OR(E84<1,E84>350),\" \",LOOKUP(E84,waarden!$A$4:$A$353,waarden!$B$4:$B$353)))","v":" "},null,{"$f":"IF(G84=0,\" \",IF(OR(G84<1,G84>350),\" \",LOOKUP(G84,waarden!$A$4:$A$353,waarden!$B$4:$B$353)))","v":" "},null,{"$f":"IF(I84=0,\" \",IF(OR(I84<1,I84>350),\" \",LOOKUP(I84,waarden!$A$4:$A$353,waarden!$B$4:$B$353)))","v":" "},null,{"$f":"IF(K84=0,\" \",IF(OR(K84<1,K84>350),\" \",LOOKUP(K84,waarden!$A$4:$A$353,waarden!$B$4:$B$353)))","v":" "},null,{"$f":"IF(M84=0,\" \",IF(OR(M84<1,M84>350),\" \",LOOKUP(M84,waarden!$A$4:$A$353,waarden!$B$4:$B$353)))","v":" "},null,{"$f":"IF(O84=0,\" \",IF(OR(O84<1,O84>350),\" \",LOOKUP(O84,waarden!$A$4:$A$353,waarden!$B$4:$B$353)))","v":" "},null,{"$f":"IF(Q84=0,\" \",IF(OR(Q84<1,Q84>350),\" \",LOOKUP(Q84,waarden!$A$4:$A$353,waarden!$B$4:$B$353)))","v":" "},null,{"$f":"IF(S84=0,\" \",IF(OR(S84<1,S84>350),\" \",LOOKUP(S84,waarden!$A$4:$A$353,waarden!$B$4:$B$353)))","v":" "},null,{"$f":"IF(U84=0,\" \",IF(OR(U84<1,U84>350),\" \",LOOKUP(U84,waarden!$A$4:$A$353,waarden!$B$4:$B$353)))","v":" "},null,{"$f":"IF(W84=0,\" \",IF(OR(W84<1,W84>350),\" \",LOOKUP(W84,waarden!$A$4:$A$353,waarden!$B$4:$B$353)))","v":" "},null,{"$f":"IF(Y84=0,\" \",IF(OR(Y84<1,Y84>350),\" \",LOOKUP(Y84,waarden!$A$4:$A$353,waarden!$B$4:$B$353)))","v":" "},null,{"$f":"IF(AA84=0,\" \",IF(OR(AA84<1,AA84>350),\" \",LOOKUP(AA84,waarden!$A$4:$A$353,waarden!$B$4:$B$353)))","v":" "},null,{"$f":"IF(AC84=0,\" \",IF(OR(AC84<1,AC84>350),\" \",LOOKUP(AC84,waarden!$A$4:$A$353,waarden!$B$4:$B$353)))","v":" "},null,{"$f":"IF(AE84=0,\" \",IF(OR(AE84<1,AE84>350),\" \",LOOKUP(AE84,waarden!$A$4:$A$353,waarden!$B$4:$B$353)))","v":" "},null,{"$f":"IF(AG84=0,\" \",IF(OR(AG84<1,AG84>350),\" \",LOOKUP(AG84,waarden!$A$4:$A$353,waarden!$B$4:$B$353)))","v":" "},null,{"$f":"IF(AI84=0,\" \",IF(OR(AI84<1,AI84>350),\" \",LOOKUP(AI84,waarden!$A$4:$A$353,waarden!$B$4:$B$353)))","v":" "},null,{"$f":"IF(AK84=0,\" \",IF(OR(AK84<1,AK84>350),\" \",LOOKUP(AK84,waarden!$A$4:$A$353,waarden!$B$4:$B$353)))","v":" "},null,{"$f":"IF(AM84=0,\" \",IF(OR(AM84<1,AM84>350),\" \",LOOKUP(AM84,waarden!$A$4:$A$353,waarden!$B$4:$B$353)))","v":" "},null,{"$f":"IF(AO84=0,\" \",IF(OR(AO84<1,AO84>350),\" \",LOOKUP(AO84,waarden!$A$4:$A$353,waarden!$B$4:$B$353)))","v":" "},null,{"$f":"IF(AQ84=0,\" \",IF(OR(AQ84<1,AQ84>350),\" \",LOOKUP(AQ84,waarden!$A$4:$A$353,waarden!$B$4:$B$353)))","v":" "},null,{"$f":"IF(AS84=0,\" \",IF(OR(AS84<1,AS84>350),\" \",LOOKUP(AS84,waarden!$A$4:$A$353,waarden!$B$4:$B$353)))","v":" "},null,{"$f":"IF(AU84=0,\" \",IF(OR(AU84<1,AU84>350),\" \",LOOKUP(AU84,waarden!$A$4:$A$353,waarden!$B$4:$B$353)))","v":" "},null,{"$f":"IF(AW84=0,\" \",IF(OR(AW84<1,AW84>350),\" \",LOOKUP(AW84,waarden!$A$4:$A$353,waarden!$B$4:$B$353)))","v":" "},null,{"$f":"IF(AY84=0,\" \",IF(OR(AY84<1,AY84>350),\" \",LOOKUP(AY84,waarden!$A$4:$A$353,waarden!$B$4:$B$353)))","v":" "},null,{"$f":"IF(BA84=0,\" \",IF(OR(BA84<1,BA84>350),\" \",LOOKUP(BA84,waarden!$A$4:$A$353,waarden!$B$4:$B$353)))","v":" "},null,{"$f":"IF(BC84=0,\" \",IF(OR(BC84<1,BC84>350),\" \",LOOKUP(BC84,waarden!$A$4:$A$353,waarden!$B$4:$B$353)))","v":" "},null,{"$f":"IF(BE84=0,\" \",IF(OR(BE84<1,BE84>350),\" \",LOOKUP(BE84,waarden!$A$4:$A$353,waarden!$B$4:$B$353)))","v":" "},null,{"$f":"IF(BG84=0,\" \",IF(OR(BG84<1,BG84>350),\" \",LOOKUP(BG84,waarden!$A$4:$A$353,waarden!$B$4:$B$353)))","v":" "},null,{"$f":"IF(BI84=0,\" \",IF(OR(BI84<1,BI84>350),\" \",LOOKUP(BI84,waarden!$A$4:$A$353,waarden!$B$4:$B$353)))","v":" "},null,{"$f":"IF(BK84=0,\" \",IF(OR(BK84<1,BK84>350),\" \",LOOKUP(BK84,waarden!$A$4:$A$353,waarden!$B$4:$B$353)))","v":" "},null,{"$f":"IF(BM84=0,\" \",IF(OR(BM84<1,BM84>350),\" \",LOOKUP(BM84,waarden!$A$4:$A$353,waarden!$B$4:$B$353)))","v":" "},0,0]
[null,null,null,"Chauffeur personeel",null,{"$f":"IF(E85=0,\" \",IF(OR(E85<1,E85>350),\" \",LOOKUP(E85,waarden!$G$4:$G$353,waarden!$H$4:$H$353)))","v":" "},null,{"$f":"IF(G85=0,\" \",IF(OR(G85<1,G85>350),\" \",LOOKUP(G85,waarden!$G$4:$G$353,waarden!$H$4:$H$353)))","v":" "},null,{"$f":"IF(I85=0,\" \",IF(OR(I85<1,I85>350),\" \",LOOKUP(I85,waarden!$G$4:$G$353,waarden!$H$4:$H$353)))","v":" "},null,{"$f":"IF(K85=0,\" \",IF(OR(K85<1,K85>350),\" \",LOOKUP(K85,waarden!$G$4:$G$353,waarden!$H$4:$H$353)))","v":" "},null,{"$f":"IF(M85=0,\" \",IF(OR(M85<1,M85>350),\" \",LOOKUP(M85,waarden!$G$4:$G$353,waarden!$H$4:$H$353)))","v":" "},null,{"$f":"IF(O85=0,\" \",IF(OR(O85<1,O85>350),\" \",LOOKUP(O85,waarden!$G$4:$G$353,waarden!$H$4:$H$353)))","v":" "},null,{"$f":"IF(Q85=0,\" \",IF(OR(Q85<1,Q85>350),\" \",LOOKUP(Q85,waarden!$G$4:$G$353,waarden!$H$4:$H$353)))","v":" "},null,{"$f":"IF(S85=0,\" \",IF(OR(S85<1,S85>350),\" \",LOOKUP(S85,waarden!$G$4:$G$353,waarden!$H$4:$H$353)))","v":" "},null,{"$f":"IF(U85=0,\" \",IF(OR(U85<1,U85>350),\" \",LOOKUP(U85,waarden!$G$4:$G$353,waarden!$H$4:$H$353)))","v":" "},null,{"$f":"IF(W85=0,\" \",IF(OR(W85<1,W85>350),\" \",LOOKUP(W85,waarden!$G$4:$G$353,waarden!$H$4:$H$353)))","v":" "},null,{"$f":"IF(Y85=0,\" \",IF(OR(Y85<1,Y85>350),\" \",LOOKUP(Y85,waarden!$G$4:$G$353,waarden!$H$4:$H$353)))","v":" "},null,{"$f":"IF(AA85=0,\" \",IF(OR(AA85<1,AA85>350),\" \",LOOKUP(AA85,waarden!$G$4:$G$353,waarden!$H$4:$H$353)))","v":" "},null,{"$f":"IF(AC85=0,\" \",IF(OR(AC85<1,AC85>350),\" \",LOOKUP(AC85,waarden!$G$4:$G$353,waarden!$H$4:$H$353)))","v":" "},null,{"$f":"IF(AE85=0,\" \",IF(OR(AE85<1,AE85>350),\" \",LOOKUP(AE85,waarden!$G$4:$G$353,waarden!$H$4:$H$353)))","v":" "},null,{"$f":"IF(AG85=0,\" \",IF(OR(AG85<1,AG85>350),\" \",LOOKUP(AG85,waarden!$G$4:$G$353,waarden!$H$4:$H$353)))","v":" "},null,{"$f":"IF(AI85=0,\" \",IF(OR(AI85<1,AI85>350),\" \",LOOKUP(AI85,waarden!$G$4:$G$353,waarden!$H$4:$H$353)))","v":" "},null,{"$f":"IF(AK85=0,\" \",IF(OR(AK85<1,AK85>350),\" \",LOOKUP(AK85,waarden!$G$4:$G$353,waarden!$H$4:$H$353)))","v":" "},null,{"$f":"IF(AM85=0,\" \",IF(OR(AM85<1,AM85>350),\" \",LOOKUP(AM85,waarden!$G$4:$G$353,waarden!$H$4:$H$353)))","v":" "},null,{"$f":"IF(AO85=0,\" \",IF(OR(AO85<1,AO85>350),\" \",LOOKUP(AO85,waarden!$G$4:$G$353,waarden!$H$4:$H$353)))","v":" "},null,{"$f":"IF(AQ85=0,\" \",IF(OR(AQ85<1,AQ85>350),\" \",LOOKUP(AQ85,waarden!$G$4:$G$353,waarden!$H$4:$H$353)))","v":" "},null,{"$f":"IF(AS85=0,\" \",IF(OR(AS85<1,AS85>350),\" \",LOOKUP(AS85,waarden!$G$4:$G$353,waarden!$H$4:$H$353)))","v":" "},null,{"$f":"IF(AU85=0,\" \",IF(OR(AU85<1,AU85>350),\" \",LOOKUP(AU85,waarden!$G$4:$G$353,waarden!$H$4:$H$353)))","v":" "},null,{"$f":"IF(AW85=0,\" \",IF(OR(AW85<1,AW85>350),\" \",LOOKUP(AW85,waarden!$G$4:$G$353,waarden!$H$4:$H$353)))","v":" "},null,{"$f":"IF(AY85=0,\" \",IF(OR(AY85<1,AY85>350),\" \",LOOKUP(AY85,waarden!$G$4:$G$353,waarden!$H$4:$H$353)))","v":" "},null,{"$f":"IF(BA85=0,\" \",IF(OR(BA85<1,BA85>350),\" \",LOOKUP(BA85,waarden!$G$4:$G$353,waarden!$H$4:$H$353)))","v":" "},null,{"$f":"IF(BC85=0,\" \",IF(OR(BC85<1,BC85>350),\" \",LOOKUP(BC85,waarden!$G$4:$G$353,waarden!$H$4:$H$353)))","v":" "},null,{"$f":"IF(BE85=0,\" \",IF(OR(BE85<1,BE85>350),\" \",LOOKUP(BE85,waarden!$G$4:$G$353,waarden!$H$4:$H$353)))","v":" "},null,{"$f":"IF(BG85=0,\" \",IF(OR(BG85<1,BG85>350),\" \",LOOKUP(BG85,waarden!$G$4:$G$353,waarden!$H$4:$H$353)))","v":" "},null,{"$f":"IF(BI85=0,\" \",IF(OR(BI85<1,BI85>350),\" \",LOOKUP(BI85,waarden!$G$4:$G$353,waarden!$H$4:$H$353)))","v":" "},null,{"$f":"IF(BK85=0,\" \",IF(OR(BK85<1,BK85>350),\" \",LOOKUP(BK85,waarden!$G$4:$G$353,waarden!$H$4:$H$353)))","v":" "},null,{"$f":"IF(BM85=0,\" \",IF(OR(BM85<1,BM85>350),\" \",LOOKUP(BM85,waarden!$G$4:$G$353,waarden!$H$4:$H$353)))","v":" "},0,{"$f":"SUM(F85,H85,J85,L85,N85,P85,R85,T85,V85,X85,Z85,AB85,AD85,AF85,AH85,AJ85,AL85,AN85,AP85,AR85,AT85,AV85,AX85,AZ85,BB85,BD85,BF85,BH85,BJ85,BL85,BN85)","v":0}]
[null,null,null,"Chauffeur alleen",null,{"$f":"IF(E86=0,\" \",IF(OR(E86<1,E86>350),\" \",LOOKUP(E86,waarden!$D$4:$D$353,waarden!$E$4:$E$353)))","v":" "},null,{"$f":"IF(G86=0,\" \",IF(OR(G86<1,G86>350),\" \",LOOKUP(G86,waarden!$D$4:$D$353,waarden!$E$4:$E$353)))","v":" "},null,{"$f":"IF(I86=0,\" \",IF(OR(I86<1,I86>350),\" \",LOOKUP(I86,waarden!$D$4:$D$353,waarden!$E$4:$E$353)))","v":" "},null,{"$f":"IF(K86=0,\" \",IF(OR(K86<1,K86>350),\" \",LOOKUP(K86,waarden!$D$4:$D$353,waarden!$E$4:$E$353)))","v":" "},null,{"$f":"IF(M86=0,\" \",IF(OR(M86<1,M86>350),\" \",LOOKUP(M86,waarden!$D$4:$D$353,waarden!$E$4:$E$353)))","v":" "},null,{"$f":"IF(O86=0,\" \",IF(OR(O86<1,O86>350),\" \",LOOKUP(O86,waarden!$D$4:$D$353,waarden!$E$4:$E$353)))","v":" "},null,{"$f":"IF(Q86=0,\" \",IF(OR(Q86<1,Q86>350),\" \",LOOKUP(Q86,waarden!$D$4:$D$353,waarden!$E$4:$E$353)))","v":" "},null,{"$f":"IF(S86=0,\" \",IF(OR(S86<1,S86>350),\" \",LOOKUP(S86,waarden!$D$4:$D$353,waarden!$E$4:$E$353)))","v":" "},null,{"$f":"IF(U86=0,\" \",IF(OR(U86<1,U86>350),\" \",LOOKUP(U86,waarden!$D$4:$D$353,waarden!$E$4:$E$353)))","v":" "},null,{"$f":"IF(W86=0,\" \",IF(OR(W86<1,W86>350),\" \",LOOKUP(W86,waarden!$D$4:$D$353,waarden!$E$4:$E$353)))","v":" "},null,{"$f":"IF(Y86=0,\" \",IF(OR(Y86<1,Y86>350),\" \",LOOKUP(Y86,waarden!$D$4:$D$353,waarden!$E$4:$E$353)))","v":" "},null,{"$f":"IF(AA86=0,\" \",IF(OR(AA86<1,AA86>350),\" \",LOOKUP(AA86,waarden!$D$4:$D$353,waarden!$E$4:$E$353)))","v":" "},null,{"$f":"IF(AC86=0,\" \",IF(OR(AC86<1,AC86>350),\" \",LOOKUP(AC86,waarden!$D$4:$D$353,waarden!$E$4:$E$353)))","v":" "},null,{"$f":"IF(AE86=0,\" \",IF(OR(AE86<1,AE86>350),\" \",LOOKUP(AE86,waarden!$D$4:$D$353,waarden!$E$4:$E$353)))","v":" "},null,{"$f":"IF(AG86=0,\" \",IF(OR(AG86<1,AG86>350),\" \",LOOKUP(AG86,waarden!$D$4:$D$353,waarden!$E$4:$E$353)))","v":" "},null,{"$f":"IF(AI86=0,\" \",IF(OR(AI86<1,AI86>350),\" \",LOOKUP(AI86,waarden!$D$4:$D$353,waarden!$E$4:$E$353)))","v":" "},null,{"$f":"IF(AK86=0,\" \",IF(OR(AK86<1,AK86>350),\" \",LOOKUP(AK86,waarden!$D$4:$D$353,waarden!$E$4:$E$353)))","v":" "},null,{"$f":"IF(AM86=0,\" \",IF(OR(AM86<1,AM86>350),\" \",LOOKUP(AM86,waarden!$D$4:$D$353,waarden!$E$4:$E$353)))","v":" "},null,{"$f":"IF(AO86=0,\" \",IF(OR(AO86<1,AO86>350),\" \",LOOKUP(AO86,waarden!$D$4:$D$353,waarden!$E$4:$E$353)))","v":" "},null,{"$f":"IF(AQ86=0,\" \",IF(OR(AQ86<1,AQ86>350),\" \",LOOKUP(AQ86,waarden!$D$4:$D$353,waarden!$E$4:$E$353)))","v":" "},null,{"$f":"IF(AS86=0,\" \",IF(OR(AS86<1,AS86>350),\" \",LOOKUP(AS86,waarden!$D$4:$D$353,waarden!$E$4:$E$353)))","v":" "},null,{"$f":"IF(AU86=0,\" \",IF(OR(AU86<1,AU86>350),\" \",LOOKUP(AU86,waarden!$D$4:$D$353,waarden!$E$4:$E$353)))","v":" "},null,{"$f":"IF(AW86=0,\" \",IF(OR(AW86<1,AW86>350),\" \",LOOKUP(AW86,waarden!$D$4:$D$353,waarden!$E$4:$E$353)))","v":" "},null,{"$f":"IF(AY86=0,\" \",IF(OR(AY86<1,AY86>350),\" \",LOOKUP(AY86,waarden!$D$4:$D$353,waarden!$E$4:$E$353)))","v":" "},null,{"$f":"IF(BA86=0,\" \",IF(OR(BA86<1,BA86>350),\" \",LOOKUP(BA86,waarden!$D$4:$D$353,waarden!$E$4:$E$353)))","v":" "},null,{"$f":"IF(BC86=0,\" \",IF(OR(BC86<1,BC86>350),\" \",LOOKUP(BC86,waarden!$D$4:$D$353,waarden!$E$4:$E$353)))","v":" "},null,{"$f":"IF(BE86=0,\" \",IF(OR(BE86<1,BE86>350),\" \",LOOKUP(BE86,waarden!$D$4:$D$353,waarden!$E$4:$E$353)))","v":" "},null,{"$f":"IF(BG86=0,\" \",IF(OR(BG86<1,BG86>350),\" \",LOOKUP(BG86,waarden!$D$4:$D$353,waarden!$E$4:$E$353)))","v":" "},null,{"$f":"IF(BI86=0,\" \",IF(OR(BI86<1,BI86>350),\" \",LOOKUP(BI86,waarden!$D$4:$D$353,waarden!$E$4:$E$353)))","v":" "},null,{"$f":"IF(BK86=0,\" \",IF(OR(BK86<1,BK86>350),\" \",LOOKUP(BK86,waarden!$D$4:$D$353,waarden!$E$4:$E$353)))","v":" "},null,{"$f":"IF(BM86=0,\" \",IF(OR(BM86<1,BM86>350),\" \",LOOKUP(BM86,waarden!$D$4:$D$353,waarden!$E$4:$E$353)))","v":" "},0,0]
[null,null,null,"Passagier",null,{"$f":"IF(E87=0,\" \",IF(OR(E87<1,E87>350),\" \",LOOKUP(E87,waarden!$A$4:$A$353,waarden!$B$4:$B$353)))","v":" "},null,{"$f":"IF(G87=0,\" \",IF(OR(G87<1,G87>350),\" \",LOOKUP(G87,waarden!$A$4:$A$353,waarden!$B$4:$B$353)))","v":" "},null,{"$f":"IF(I87=0,\" \",IF(OR(I87<1,I87>350),\" \",LOOKUP(I87,waarden!$A$4:$A$353,waarden!$B$4:$B$353)))","v":" "},null,{"$f":"IF(K87=0,\" \",IF(OR(K87<1,K87>350),\" \",LOOKUP(K87,waarden!$A$4:$A$353,waarden!$B$4:$B$353)))","v":" "},null,{"$f":"IF(M87=0,\" \",IF(OR(M87<1,M87>350),\" \",LOOKUP(M87,waarden!$A$4:$A$353,waarden!$B$4:$B$353)))","v":" "},null,{"$f":"IF(O87=0,\" \",IF(OR(O87<1,O87>350),\" \",LOOKUP(O87,waarden!$A$4:$A$353,waarden!$B$4:$B$353)))","v":" "},null,{"$f":"IF(Q87=0,\" \",IF(OR(Q87<1,Q87>350),\" \",LOOKUP(Q87,waarden!$A$4:$A$353,waarden!$B$4:$B$353)))","v":" "},null,{"$f":"IF(S87=0,\" \",IF(OR(S87<1,S87>350),\" \",LOOKUP(S87,waarden!$A$4:$A$353,waarden!$B$4:$B$353)))","v":" "},null,{"$f":"IF(U87=0,\" \",IF(OR(U87<1,U87>350),\" \",LOOKUP(U87,waarden!$A$4:$A$353,waarden!$B$4:$B$353)))","v":" "},null,{"$f":"IF(W87=0,\" \",IF(OR(W87<1,W87>350),\" \",LOOKUP(W87,waarden!$A$4:$A$353,waarden!$B$4:$B$353)))","v":" "},null,{"$f":"IF(Y87=0,\" \",IF(OR(Y87<1,Y87>350),\" \",LOOKUP(Y87,waarden!$A$4:$A$353,waarden!$B$4:$B$353)))","v":" "},null,{"$f":"IF(AA87=0,\" \",IF(OR(AA87<1,AA87>350),\" \",LOOKUP(AA87,waarden!$A$4:$A$353,waarden!$B$4:$B$353)))","v":" "},null,{"$f":"IF(AC87=0,\" \",IF(OR(AC87<1,AC87>350),\" \",LOOKUP(AC87,waarden!$A$4:$A$353,waarden!$B$4:$B$353)))","v":" "},null,{"$f":"IF(AE87=0,\" \",IF(OR(AE87<1,AE87>350),\" \",LOOKUP(AE87,waarden!$A$4:$A$353,waarden!$B$4:$B$353)))","v":" "},null,{"$f":"IF(AG87=0,\" \",IF(OR(AG87<1,AG87>350),\" \",LOOKUP(AG87,waarden!$A$4:$A$353,waarden!$B$4:$B$353)))","v":" "},null,{"$f":"IF(AI87=0,\" \",IF(OR(AI87<1,AI87>350),\" \",LOOKUP(AI87,waarden!$A$4:$A$353,waarden!$B$4:$B$353)))","v":" "},null,{"$f":"IF(AK87=0,\" \",IF(OR(AK87<1,AK87>350),\" \",LOOKUP(AK87,waarden!$A$4:$A$353,waarden!$B$4:$B$353)))","v":" "},null,{"$f":"IF(AM87=0,\" \",IF(OR(AM87<1,AM87>350),\" \",LOOKUP(AM87,waarden!$A$4:$A$353,waarden!$B$4:$B$353)))","v":" "},null,{"$f":"IF(AO87=0,\" \",IF(OR(AO87<1,AO87>350),\" \",LOOKUP(AO87,waarden!$A$4:$A$353,waarden!$B$4:$B$353)))","v":" "},null,{"$f":"IF(AQ87=0,\" \",IF(OR(AQ87<1,AQ87>350),\" \",LOOKUP(AQ87,waarden!$A$4:$A$353,waarden!$B$4:$B$353)))","v":" "},null,{"$f":"IF(AS87=0,\" \",IF(OR(AS87<1,AS87>350),\" \",LOOKUP(AS87,waarden!$A$4:$A$353,waarden!$B$4:$B$353)))","v":" "},null,{"$f":"IF(AU87=0,\" \",IF(OR(AU87<1,AU87>350),\" \",LOOKUP(AU87,waarden!$A$4:$A$353,waarden!$B$4:$B$353)))","v":" "},null,{"$f":"IF(AW87=0,\" \",IF(OR(AW87<1,AW87>350),\" \",LOOKUP(AW87,waarden!$A$4:$A$353,waarden!$B$4:$B$353)))","v":" "},null,{"$f":"IF(AY87=0,\" \",IF(OR(AY87<1,AY87>350),\" \",LOOKUP(AY87,waarden!$A$4:$A$353,waarden!$B$4:$B$353)))","v":" "},null,{"$f":"IF(BA87=0,\" \",IF(OR(BA87<1,BA87>350),\" \",LOOKUP(BA87,waarden!$A$4:$A$353,waarden!$B$4:$B$353)))","v":" "},null,{"$f":"IF(BC87=0,\" \",IF(OR(BC87<1,BC87>350),\" \",LOOKUP(BC87,waarden!$A$4:$A$353,waarden!$B$4:$B$353)))","v":" "},null,{"$f":"IF(BE87=0,\" \",IF(OR(BE87<1,BE87>350),\" \",LOOKUP(BE87,waarden!$A$4:$A$353,waarden!$B$4:$B$353)))","v":" "},null,{"$f":"IF(BG87=0,\" \",IF(OR(BG87<1,BG87>350),\" \",LOOKUP(BG87,waarden!$A$4:$A$353,waarden!$B$4:$B$353)))","v":" "},null,{"$f":"IF(BI87=0,\" \",IF(OR(BI87<1,BI87>350),\" \",LOOKUP(BI87,waarden!$A$4:$A$353,waarden!$B$4:$B$353)))","v":" "},null,{"$f":"IF(BK87=0,\" \",IF(OR(BK87<1,BK87>350),\" \",LOOKUP(BK87,waarden!$A$4:$A$353,waarden!$B$4:$B$353)))","v":" "},null,{"$f":"IF(BM87=0,\" \",IF(OR(BM87<1,BM87>350),\" \",LOOKUP(BM87,waarden!$A$4:$A$353,waarden!$B$4:$B$353)))","v":" "},0,0]
[null,null,null,"Chauffeur personeel",null,{"$f":"IF(E88=0,\" \",IF(OR(E88<1,E88>350),\" \",LOOKUP(E88,waarden!$G$4:$G$353,waarden!$H$4:$H$353)))","v":" "},null,{"$f":"IF(G88=0,\" \",IF(OR(G88<1,G88>350),\" \",LOOKUP(G88,waarden!$G$4:$G$353,waarden!$H$4:$H$353)))","v":" "},null,{"$f":"IF(I88=0,\" \",IF(OR(I88<1,I88>350),\" \",LOOKUP(I88,waarden!$G$4:$G$353,waarden!$H$4:$H$353)))","v":" "},null,{"$f":"IF(K88=0,\" \",IF(OR(K88<1,K88>350),\" \",LOOKUP(K88,waarden!$G$4:$G$353,waarden!$H$4:$H$353)))","v":" "},null,{"$f":"IF(M88=0,\" \",IF(OR(M88<1,M88>350),\" \",LOOKUP(M88,waarden!$G$4:$G$353,waarden!$H$4:$H$353)))","v":" "},null,{"$f":"IF(O88=0,\" \",IF(OR(O88<1,O88>350),\" \",LOOKUP(O88,waarden!$G$4:$G$353,waarden!$H$4:$H$353)))","v":" "},null,{"$f":"IF(Q88=0,\" \",IF(OR(Q88<1,Q88>350),\" \",LOOKUP(Q88,waarden!$G$4:$G$353,waarden!$H$4:$H$353)))","v":" "},null,{"$f":"IF(S88=0,\" \",IF(OR(S88<1,S88>350),\" \",LOOKUP(S88,waarden!$G$4:$G$353,waarden!$H$4:$H$353)))","v":" "},null,{"$f":"IF(U88=0,\" \",IF(OR(U88<1,U88>350),\" \",LOOKUP(U88,waarden!$G$4:$G$353,waarden!$H$4:$H$353)))","v":" "},null,{"$f":"IF(W88=0,\" \",IF(OR(W88<1,W88>350),\" \",LOOKUP(W88,waarden!$G$4:$G$353,waarden!$H$4:$H$353)))","v":" "},null,{"$f":"IF(Y88=0,\" \",IF(OR(Y88<1,Y88>350),\" \",LOOKUP(Y88,waarden!$G$4:$G$353,waarden!$H$4:$H$353)))","v":" "},null,{"$f":"IF(AA88=0,\" \",IF(OR(AA88<1,AA88>350),\" \",LOOKUP(AA88,waarden!$G$4:$G$353,waarden!$H$4:$H$353)))","v":" "},null,{"$f":"IF(AC88=0,\" \",IF(OR(AC88<1,AC88>350),\" \",LOOKUP(AC88,waarden!$G$4:$G$353,waarden!$H$4:$H$353)))","v":" "},null,{"$f":"IF(AE88=0,\" \",IF(OR(AE88<1,AE88>350),\" \",LOOKUP(AE88,waarden!$G$4:$G$353,waarden!$H$4:$H$353)))","v":" "},null,{"$f":"IF(AG88=0,\" \",IF(OR(AG88<1,AG88>350),\" \",LOOKUP(AG88,waarden!$G$4:$G$353,waarden!$H$4:$H$353)))","v":" "},null,{"$f":"IF(AI88=0,\" \",IF(OR(AI88<1,AI88>350),\" \",LOOKUP(AI88,waarden!$G$4:$G$353,waarden!$H$4:$H$353)))","v":" "},null,{"$f":"IF(AK88=0,\" \",IF(OR(AK88<1,AK88>350),\" \",LOOKUP(AK88,waarden!$G$4:$G$353,waarden!$H$4:$H$353)))","v":" "},null,{"$f":"IF(AM88=0,\" \",IF(OR(AM88<1,AM88>350),\" \",LOOKUP(AM88,waarden!$G$4:$G$353,waarden!$H$4:$H$353)))","v":" "},null,{"$f":"IF(AO88=0,\" \",IF(OR(AO88<1,AO88>350),\" \",LOOKUP(AO88,waarden!$G$4:$G$353,waarden!$H$4:$H$353)))","v":" "},null,{"$f":"IF(AQ88=0,\" \",IF(OR(AQ88<1,AQ88>350),\" \",LOOKUP(AQ88,waarden!$G$4:$G$353,waarden!$H$4:$H$353)))","v":" "},null,{"$f":"IF(AS88=0,\" \",IF(OR(AS88<1,AS88>350),\" \",LOOKUP(AS88,waarden!$G$4:$G$353,waarden!$H$4:$H$353)))","v":" "},null,{"$f":"IF(AU88=0,\" \",IF(OR(AU88<1,AU88>350),\" \",LOOKUP(AU88,waarden!$G$4:$G$353,waarden!$H$4:$H$353)))","v":" "},null,{"$f":"IF(AW88=0,\" \",IF(OR(AW88<1,AW88>350),\" \",LOOKUP(AW88,waarden!$G$4:$G$353,waarden!$H$4:$H$353)))","v":" "},null,{"$f":"IF(AY88=0,\" \",IF(OR(AY88<1,AY88>350),\" \",LOOKUP(AY88,waarden!$G$4:$G$353,waarden!$H$4:$H$353)))","v":" "},null,{"$f":"IF(BA88=0,\" \",IF(OR(BA88<1,BA88>350),\" \",LOOKUP(BA88,waarden!$G$4:$G$353,waarden!$H$4:$H$353)))","v":" "},null,{"$f":"IF(BC88=0,\" \",IF(OR(BC88<1,BC88>350),\" \",LOOKUP(BC88,waarden!$G$4:$G$353,waarden!$H$4:$H$353)))","v":" "},null,{"$f":"IF(BE88=0,\" \",IF(OR(BE88<1,BE88>350),\" \",LOOKUP(BE88,waarden!$G$4:$G$353,waarden!$H$4:$H$353)))","v":" "},null,{"$f":"IF(BG88=0,\" \",IF(OR(BG88<1,BG88>350),\" \",LOOKUP(BG88,waarden!$G$4:$G$353,waarden!$H$4:$H$353)))","v":" "},null,{"$f":"IF(BI88=0,\" \",IF(OR(BI88<1,BI88>350),\" \",LOOKUP(BI88,waarden!$G$4:$G$353,waarden!$H$4:$H$353)))","v":" "},null,{"$f":"IF(BK88=0,\" \",IF(OR(BK88<1,BK88>350),\" \",LOOKUP(BK88,waarden!$G$4:$G$353,waarden!$H$4:$H$353)))","v":" "},null,{"$f":"IF(BM88=0,\" \",IF(OR(BM88<1,BM88>350),\" \",LOOKUP(BM88,waarden!$G$4:$G$353,waarden!$H$4:$H$353)))","v":" "},0,{"$f":"SUM(F88,H88,J88,L88,N88,P88,R88,T88,V88,X88,Z88,AB88,AD88,AF88,AH88,AJ88,AL88,AN88,AP88,AR88,AT88,AV88,AX88,AZ88,BB88,BD88,BF88,BH88,BJ88,BL88,BN88)","v":0}]
[null,null,null,"Chauffeur alleen",null,{"$f":"IF(E89=0,\" \",IF(OR(E89<1,E89>350),\" \",LOOKUP(E89,waarden!$D$4:$D$353,waarden!$E$4:$E$353)))","v":" "},null,{"$f":"IF(G89=0,\" \",IF(OR(G89<1,G89>350),\" \",LOOKUP(G89,waarden!$D$4:$D$353,waarden!$E$4:$E$353)))","v":" "},null,{"$f":"IF(I89=0,\" \",IF(OR(I89<1,I89>350),\" \",LOOKUP(I89,waarden!$D$4:$D$353,waarden!$E$4:$E$353)))","v":" "},null,{"$f":"IF(K89=0,\" \",IF(OR(K89<1,K89>350),\" \",LOOKUP(K89,waarden!$D$4:$D$353,waarden!$E$4:$E$353)))","v":" "},null,{"$f":"IF(M89=0,\" \",IF(OR(M89<1,M89>350),\" \",LOOKUP(M89,waarden!$D$4:$D$353,waarden!$E$4:$E$353)))","v":" "},null,{"$f":"IF(O89=0,\" \",IF(OR(O89<1,O89>350),\" \",LOOKUP(O89,waarden!$D$4:$D$353,waarden!$E$4:$E$353)))","v":" "},null,{"$f":"IF(Q89=0,\" \",IF(OR(Q89<1,Q89>350),\" \",LOOKUP(Q89,waarden!$D$4:$D$353,waarden!$E$4:$E$353)))","v":" "},null,{"$f":"IF(S89=0,\" \",IF(OR(S89<1,S89>350),\" \",LOOKUP(S89,waarden!$D$4:$D$353,waarden!$E$4:$E$353)))","v":" "},null,{"$f":"IF(U89=0,\" \",IF(OR(U89<1,U89>350),\" \",LOOKUP(U89,waarden!$D$4:$D$353,waarden!$E$4:$E$353)))","v":" "},null,{"$f":"IF(W89=0,\" \",IF(OR(W89<1,W89>350),\" \",LOOKUP(W89,waarden!$D$4:$D$353,waarden!$E$4:$E$353)))","v":" "},null,{"$f":"IF(Y89=0,\" \",IF(OR(Y89<1,Y89>350),\" \",LOOKUP(Y89,waarden!$D$4:$D$353,waarden!$E$4:$E$353)))","v":" "},null,{"$f":"IF(AA89=0,\" \",IF(OR(AA89<1,AA89>350),\" \",LOOKUP(AA89,waarden!$D$4:$D$353,waarden!$E$4:$E$353)))","v":" "},null,{"$f":"IF(AC89=0,\" \",IF(OR(AC89<1,AC89>350),\" \",LOOKUP(AC89,waarden!$D$4:$D$353,waarden!$E$4:$E$353)))","v":" "},null,{"$f":"IF(AE89=0,\" \",IF(OR(AE89<1,AE89>350),\" \",LOOKUP(AE89,waarden!$D$4:$D$353,waarden!$E$4:$E$353)))","v":" "},null,{"$f":"IF(AG89=0,\" \",IF(OR(AG89<1,AG89>350),\" \",LOOKUP(AG89,waarden!$D$4:$D$353,waarden!$E$4:$E$353)))","v":" "},null,{"$f":"IF(AI89=0,\" \",IF(OR(AI89<1,AI89>350),\" \",LOOKUP(AI89,waarden!$D$4:$D$353,waarden!$E$4:$E$353)))","v":" "},null,{"$f":"IF(AK89=0,\" \",IF(OR(AK89<1,AK89>350),\" \",LOOKUP(AK89,waarden!$D$4:$D$353,waarden!$E$4:$E$353)))","v":" "},null,{"$f":"IF(AM89=0,\" \",IF(OR(AM89<1,AM89>350),\" \",LOOKUP(AM89,waarden!$D$4:$D$353,waarden!$E$4:$E$353)))","v":" "},null,{"$f":"IF(AO89=0,\" \",IF(OR(AO89<1,AO89>350),\" \",LOOKUP(AO89,waarden!$D$4:$D$353,waarden!$E$4:$E$353)))","v":" "},null,{"$f":"IF(AQ89=0,\" \",IF(OR(AQ89<1,AQ89>350),\" \",LOOKUP(AQ89,waarden!$D$4:$D$353,waarden!$E$4:$E$353)))","v":" "},null,{"$f":"IF(AS89=0,\" \",IF(OR(AS89<1,AS89>350),\" \",LOOKUP(AS89,waarden!$D$4:$D$353,waarden!$E$4:$E$353)))","v":" "},null,{"$f":"IF(AU89=0,\" \",IF(OR(AU89<1,AU89>350),\" \",LOOKUP(AU89,waarden!$D$4:$D$353,waarden!$E$4:$E$353)))","v":" "},null,{"$f":"IF(AW89=0,\" \",IF(OR(AW89<1,AW89>350),\" \",LOOKUP(AW89,waarden!$D$4:$D$353,waarden!$E$4:$E$353)))","v":" "},null,{"$f":"IF(AY89=0,\" \",IF(OR(AY89<1,AY89>350),\" \",LOOKUP(AY89,waarden!$D$4:$D$353,waarden!$E$4:$E$353)))","v":" "},null,{"$f":"IF(BA89=0,\" \",IF(OR(BA89<1,BA89>350),\" \",LOOKUP(BA89,waarden!$D$4:$D$353,waarden!$E$4:$E$353)))","v":" "},null,{"$f":"IF(BC89=0,\" \",IF(OR(BC89<1,BC89>350),\" \",LOOKUP(BC89,waarden!$D$4:$D$353,waarden!$E$4:$E$353)))","v":" "},null,{"$f":"IF(BE89=0,\" \",IF(OR(BE89<1,BE89>350),\" \",LOOKUP(BE89,waarden!$D$4:$D$353,waarden!$E$4:$E$353)))","v":" "},null,{"$f":"IF(BG89=0,\" \",IF(OR(BG89<1,BG89>350),\" \",LOOKUP(BG89,waarden!$D$4:$D$353,waarden!$E$4:$E$353)))","v":" "},null,{"$f":"IF(BI89=0,\" \",IF(OR(BI89<1,BI89>350),\" \",LOOKUP(BI89,waarden!$D$4:$D$353,waarden!$E$4:$E$353)))","v":" "},null,{"$f":"IF(BK89=0,\" \",IF(OR(BK89<1,BK89>350),\" \",LOOKUP(BK89,waarden!$D$4:$D$353,waarden!$E$4:$E$353)))","v":" "},null,{"$f":"IF(BM89=0,\" \",IF(OR(BM89<1,BM89>350),\" \",LOOKUP(BM89,waarden!$D$4:$D$353,waarden!$E$4:$E$353)))","v":" "},0,0]
[null,null,null,"Passagier",null,{"$f":"IF(E90=0,\" \",IF(OR(E90<1,E90>350),\" \",LOOKUP(E90,waarden!$A$4:$A$353,waarden!$B$4:$B$353)))","v":" "},null,{"$f":"IF(G90=0,\" \",IF(OR(G90<1,G90>350),\" \",LOOKUP(G90,waarden!$A$4:$A$353,waarden!$B$4:$B$353)))","v":" "},null,{"$f":"IF(I90=0,\" \",IF(OR(I90<1,I90>350),\" \",LOOKUP(I90,waarden!$A$4:$A$353,waarden!$B$4:$B$353)))","v":" "},null,{"$f":"IF(K90=0,\" \",IF(OR(K90<1,K90>350),\" \",LOOKUP(K90,waarden!$A$4:$A$353,waarden!$B$4:$B$353)))","v":" "},null,{"$f":"IF(M90=0,\" \",IF(OR(M90<1,M90>350),\" \",LOOKUP(M90,waarden!$A$4:$A$353,waarden!$B$4:$B$353)))","v":" "},null,{"$f":"IF(O90=0,\" \",IF(OR(O90<1,O90>350),\" \",LOOKUP(O90,waarden!$A$4:$A$353,waarden!$B$4:$B$353)))","v":" "},null,{"$f":"IF(Q90=0,\" \",IF(OR(Q90<1,Q90>350),\" \",LOOKUP(Q90,waarden!$A$4:$A$353,waarden!$B$4:$B$353)))","v":" "},null,{"$f":"IF(S90=0,\" \",IF(OR(S90<1,S90>350),\" \",LOOKUP(S90,waarden!$A$4:$A$353,waarden!$B$4:$B$353)))","v":" "},null,{"$f":"IF(U90=0,\" \",IF(OR(U90<1,U90>350),\" \",LOOKUP(U90,waarden!$A$4:$A$353,waarden!$B$4:$B$353)))","v":" "},null,{"$f":"IF(W90=0,\" \",IF(OR(W90<1,W90>350),\" \",LOOKUP(W90,waarden!$A$4:$A$353,waarden!$B$4:$B$353)))","v":" "},null,{"$f":"IF(Y90=0,\" \",IF(OR(Y90<1,Y90>350),\" \",LOOKUP(Y90,waarden!$A$4:$A$353,waarden!$B$4:$B$353)))","v":" "},null,{"$f":"IF(AA90=0,\" \",IF(OR(AA90<1,AA90>350),\" \",LOOKUP(AA90,waarden!$A$4:$A$353,waarden!$B$4:$B$353)))","v":" "},null,{"$f":"IF(AC90=0,\" \",IF(OR(AC90<1,AC90>350),\" \",LOOKUP(AC90,waarden!$A$4:$A$353,waarden!$B$4:$B$353)))","v":" "},null,{"$f":"IF(AE90=0,\" \",IF(OR(AE90<1,AE90>350),\" \",LOOKUP(AE90,waarden!$A$4:$A$353,waarden!$B$4:$B$353)))","v":" "},null,{"$f":"IF(AG90=0,\" \",IF(OR(AG90<1,AG90>350),\" \",LOOKUP(AG90,waarden!$A$4:$A$353,waarden!$B$4:$B$353)))","v":" "},null,{"$f":"IF(AI90=0,\" \",IF(OR(AI90<1,AI90>350),\" \",LOOKUP(AI90,waarden!$A$4:$A$353,waarden!$B$4:$B$353)))","v":" "},null,{"$f":"IF(AK90=0,\" \",IF(OR(AK90<1,AK90>350),\" \",LOOKUP(AK90,waarden!$A$4:$A$353,waarden!$B$4:$B$353)))","v":" "},null,{"$f":"IF(AM90=0,\" \",IF(OR(AM90<1,AM90>350),\" \",LOOKUP(AM90,waarden!$A$4:$A$353,waarden!$B$4:$B$353)))","v":" "},null,{"$f":"IF(AO90=0,\" \",IF(OR(AO90<1,AO90>350),\" \",LOOKUP(AO90,waarden!$A$4:$A$353,waarden!$B$4:$B$353)))","v":" "},null,{"$f":"IF(AQ90=0,\" \",IF(OR(AQ90<1,AQ90>350),\" \",LOOKUP(AQ90,waarden!$A$4:$A$353,waarden!$B$4:$B$353)))","v":" "},null,{"$f":"IF(AS90=0,\" \",IF(OR(AS90<1,AS90>350),\" \",LOOKUP(AS90,waarden!$A$4:$A$353,waarden!$B$4:$B$353)))","v":" "},null,{"$f":"IF(AU90=0,\" \",IF(OR(AU90<1,AU90>350),\" \",LOOKUP(AU90,waarden!$A$4:$A$353,waarden!$B$4:$B$353)))","v":" "},null,{"$f":"IF(AW90=0,\" \",IF(OR(AW90<1,AW90>350),\" \",LOOKUP(AW90,waarden!$A$4:$A$353,waarden!$B$4:$B$353)))","v":" "},null,{"$f":"IF(AY90=0,\" \",IF(OR(AY90<1,AY90>350),\" \",LOOKUP(AY90,waarden!$A$4:$A$353,waarden!$B$4:$B$353)))","v":" "},null,{"$f":"IF(BA90=0,\" \",IF(OR(BA90<1,BA90>350),\" \",LOOKUP(BA90,waarden!$A$4:$A$353,waarden!$B$4:$B$353)))","v":" "},null,{"$f":"IF(BC90=0,\" \",IF(OR(BC90<1,BC90>350),\" \",LOOKUP(BC90,waarden!$A$4:$A$353,waarden!$B$4:$B$353)))","v":" "},null,{"$f":"IF(BE90=0,\" \",IF(OR(BE90<1,BE90>350),\" \",LOOKUP(BE90,waarden!$A$4:$A$353,waarden!$B$4:$B$353)))","v":" "},null,{"$f":"IF(BG90=0,\" \",IF(OR(BG90<1,BG90>350),\" \",LOOKUP(BG90,waarden!$A$4:$A$353,waarden!$B$4:$B$353)))","v":" "},null,{"$f":"IF(BI90=0,\" \",IF(OR(BI90<1,BI90>350),\" \",LOOKUP(BI90,waarden!$A$4:$A$353,waarden!$B$4:$B$353)))","v":" "},null,{"$f":"IF(BK90=0,\" \",IF(OR(BK90<1,BK90>350),\" \",LOOKUP(BK90,waarden!$A$4:$A$353,waarden!$B$4:$B$353)))","v":" "},null,{"$f":"IF(BM90=0,\" \",IF(OR(BM90<1,BM90>350),\" \",LOOKUP(BM90,waarden!$A$4:$A$353,waarden!$B$4:$B$353)))","v":" "},0,0]
[null,null,null,"Chauffeur personeel",null,{"$f":"IF(E91=0,\" \",IF(OR(E91<1,E91>350),\" \",LOOKUP(E91,waarden!$G$4:$G$353,waarden!$H$4:$H$353)))","v":" "},null,{"$f":"IF(G91=0,\" \",IF(OR(G91<1,G91>350),\" \",LOOKUP(G91,waarden!$G$4:$G$353,waarden!$H$4:$H$353)))","v":" "},null,{"$f":"IF(I91=0,\" \",IF(OR(I91<1,I91>350),\" \",LOOKUP(I91,waarden!$G$4:$G$353,waarden!$H$4:$H$353)))","v":" "},null,{"$f":"IF(K91=0,\" \",IF(OR(K91<1,K91>350),\" \",LOOKUP(K91,waarden!$G$4:$G$353,waarden!$H$4:$H$353)))","v":" "},null,{"$f":"IF(M91=0,\" \",IF(OR(M91<1,M91>350),\" \",LOOKUP(M91,waarden!$G$4:$G$353,waarden!$H$4:$H$353)))","v":" "},null,{"$f":"IF(O91=0,\" \",IF(OR(O91<1,O91>350),\" \",LOOKUP(O91,waarden!$G$4:$G$353,waarden!$H$4:$H$353)))","v":" "},null,{"$f":"IF(Q91=0,\" \",IF(OR(Q91<1,Q91>350),\" \",LOOKUP(Q91,waarden!$G$4:$G$353,waarden!$H$4:$H$353)))","v":" "},null,{"$f":"IF(S91=0,\" \",IF(OR(S91<1,S91>350),\" \",LOOKUP(S91,waarden!$G$4:$G$353,waarden!$H$4:$H$353)))","v":" "},null,{"$f":"IF(U91=0,\" \",IF(OR(U91<1,U91>350),\" \",LOOKUP(U91,waarden!$G$4:$G$353,waarden!$H$4:$H$353)))","v":" "},null,{"$f":"IF(W91=0,\" \",IF(OR(W91<1,W91>350),\" \",LOOKUP(W91,waarden!$G$4:$G$353,waarden!$H$4:$H$353)))","v":" "},null,{"$f":"IF(Y91=0,\" \",IF(OR(Y91<1,Y91>350),\" \",LOOKUP(Y91,waarden!$G$4:$G$353,waarden!$H$4:$H$353)))","v":" "},null,{"$f":"IF(AA91=0,\" \",IF(OR(AA91<1,AA91>350),\" \",LOOKUP(AA91,waarden!$G$4:$G$353,waarden!$H$4:$H$353)))","v":" "},null,{"$f":"IF(AC91=0,\" \",IF(OR(AC91<1,AC91>350),\" \",LOOKUP(AC91,waarden!$G$4:$G$353,waarden!$H$4:$H$353)))","v":" "},null,{"$f":"IF(AE91=0,\" \",IF(OR(AE91<1,AE91>350),\" \",LOOKUP(AE91,waarden!$G$4:$G$353,waarden!$H$4:$H$353)))","v":" "},null,{"$f":"IF(AG91=0,\" \",IF(OR(AG91<1,AG91>350),\" \",LOOKUP(AG91,waarden!$G$4:$G$353,waarden!$H$4:$H$353)))","v":" "},null,{"$f":"IF(AI91=0,\" \",IF(OR(AI91<1,AI91>350),\" \",LOOKUP(AI91,waarden!$G$4:$G$353,waarden!$H$4:$H$353)))","v":" "},null,{"$f":"IF(AK91=0,\" \",IF(OR(AK91<1,AK91>350),\" \",LOOKUP(AK91,waarden!$G$4:$G$353,waarden!$H$4:$H$353)))","v":" "},null,{"$f":"IF(AM91=0,\" \",IF(OR(AM91<1,AM91>350),\" \",LOOKUP(AM91,waarden!$G$4:$G$353,waarden!$H$4:$H$353)))","v":" "},null,{"$f":"IF(AO91=0,\" \",IF(OR(AO91<1,AO91>350),\" \",LOOKUP(AO91,waarden!$G$4:$G$353,waarden!$H$4:$H$353)))","v":" "},null,{"$f":"IF(AQ91=0,\" \",IF(OR(AQ91<1,AQ91>350),\" \",LOOKUP(AQ91,waarden!$G$4:$G$353,waarden!$H$4:$H$353)))","v":" "},null,{"$f":"IF(AS91=0,\" \",IF(OR(AS91<1,AS91>350),\" \",LOOKUP(AS91,waarden!$G$4:$G$353,waarden!$H$4:$H$353)))","v":" "},null,{"$f":"IF(AU91=0,\" \",IF(OR(AU91<1,AU91>350),\" \",LOOKUP(AU91,waarden!$G$4:$G$353,waarden!$H$4:$H$353)))","v":" "},null,{"$f":"IF(AW91=0,\" \",IF(OR(AW91<1,AW91>350),\" \",LOOKUP(AW91,waarden!$G$4:$G$353,waarden!$H$4:$H$353)))","v":" "},null,{"$f":"IF(AY91=0,\" \",IF(OR(AY91<1,AY91>350),\" \",LOOKUP(AY91,waarden!$G$4:$G$353,waarden!$H$4:$H$353)))","v":" "},null,{"$f":"IF(BA91=0,\" \",IF(OR(BA91<1,BA91>350),\" \",LOOKUP(BA91,waarden!$G$4:$G$353,waarden!$H$4:$H$353)))","v":" "},null,{"$f":"IF(BC91=0,\" \",IF(OR(BC91<1,BC91>350),\" \",LOOKUP(BC91,waarden!$G$4:$G$353,waarden!$H$4:$H$353)))","v":" "},null,{"$f":"IF(BE91=0,\" \",IF(OR(BE91<1,BE91>350),\" \",LOOKUP(BE91,waarden!$G$4:$G$353,waarden!$H$4:$H$353)))","v":" "},null,{"$f":"IF(BG91=0,\" \",IF(OR(BG91<1,BG91>350),\" \",LOOKUP(BG91,waarden!$G$4:$G$353,waarden!$H$4:$H$353)))","v":" "},null,{"$f":"IF(BI91=0,\" \",IF(OR(BI91<1,BI91>350),\" \",LOOKUP(BI91,waarden!$G$4:$G$353,waarden!$H$4:$H$353)))","v":" "},null,{"$f":"IF(BK91=0,\" \",IF(OR(BK91<1,BK91>350),\" \",LOOKUP(BK91,waarden!$G$4:$G$353,waarden!$H$4:$H$353)))","v":" "},null,{"$f":"IF(BM91=0,\" \",IF(OR(BM91<1,BM91>350),\" \",LOOKUP(BM91,waarden!$G$4:$G$353,waarden!$H$4:$H$353)))","v":" "},0,{"$f":"SUM(F91,H91,J91,L91,N91,P91,R91,T91,V91,X91,Z91,AB91,AD91,AF91,AH91,AJ91,AL91,AN91,AP91,AR91,AT91,AV91,AX91,AZ91,BB91,BD91,BF91,BH91,BJ91,BL91,BN91)","v":0}]
[null,null,null,"Chauffeur alleen",null,{"$f":"IF(E92=0,\" \",IF(OR(E92<1,E92>350),\" \",LOOKUP(E92,waarden!$D$4:$D$353,waarden!$E$4:$E$353)))","v":" "},null,{"$f":"IF(G92=0,\" \",IF(OR(G92<1,G92>350),\" \",LOOKUP(G92,waarden!$D$4:$D$353,waarden!$E$4:$E$353)))","v":" "},null,{"$f":"IF(I92=0,\" \",IF(OR(I92<1,I92>350),\" \",LOOKUP(I92,waarden!$D$4:$D$353,waarden!$E$4:$E$353)))","v":" "},null,{"$f":"IF(K92=0,\" \",IF(OR(K92<1,K92>350),\" \",LOOKUP(K92,waarden!$D$4:$D$353,waarden!$E$4:$E$353)))","v":" "},null,{"$f":"IF(M92=0,\" \",IF(OR(M92<1,M92>350),\" \",LOOKUP(M92,waarden!$D$4:$D$353,waarden!$E$4:$E$353)))","v":" "},null,{"$f":"IF(O92=0,\" \",IF(OR(O92<1,O92>350),\" \",LOOKUP(O92,waarden!$D$4:$D$353,waarden!$E$4:$E$353)))","v":" "},null,{"$f":"IF(Q92=0,\" \",IF(OR(Q92<1,Q92>350),\" \",LOOKUP(Q92,waarden!$D$4:$D$353,waarden!$E$4:$E$353)))","v":" "},null,{"$f":"IF(S92=0,\" \",IF(OR(S92<1,S92>350),\" \",LOOKUP(S92,waarden!$D$4:$D$353,waarden!$E$4:$E$353)))","v":" "},null,{"$f":"IF(U92=0,\" \",IF(OR(U92<1,U92>350),\" \",LOOKUP(U92,waarden!$D$4:$D$353,waarden!$E$4:$E$353)))","v":" "},null,{"$f":"IF(W92=0,\" \",IF(OR(W92<1,W92>350),\" \",LOOKUP(W92,waarden!$D$4:$D$353,waarden!$E$4:$E$353)))","v":" "},null,{"$f":"IF(Y92=0,\" \",IF(OR(Y92<1,Y92>350),\" \",LOOKUP(Y92,waarden!$D$4:$D$353,waarden!$E$4:$E$353)))","v":" "},null,{"$f":"IF(AA92=0,\" \",IF(OR(AA92<1,AA92>350),\" \",LOOKUP(AA92,waarden!$D$4:$D$353,waarden!$E$4:$E$353)))","v":" "},null,{"$f":"IF(AC92=0,\" \",IF(OR(AC92<1,AC92>350),\" \",LOOKUP(AC92,waarden!$D$4:$D$353,waarden!$E$4:$E$353)))","v":" "},null,{"$f":"IF(AE92=0,\" \",IF(OR(AE92<1,AE92>350),\" \",LOOKUP(AE92,waarden!$D$4:$D$353,waarden!$E$4:$E$353)))","v":" "},null,{"$f":"IF(AG92=0,\" \",IF(OR(AG92<1,AG92>350),\" \",LOOKUP(AG92,waarden!$D$4:$D$353,waarden!$E$4:$E$353)))","v":" "},null,{"$f":"IF(AI92=0,\" \",IF(OR(AI92<1,AI92>350),\" \",LOOKUP(AI92,waarden!$D$4:$D$353,waarden!$E$4:$E$353)))","v":" "},null,{"$f":"IF(AK92=0,\" \",IF(OR(AK92<1,AK92>350),\" \",LOOKUP(AK92,waarden!$D$4:$D$353,waarden!$E$4:$E$353)))","v":" "},null,{"$f":"IF(AM92=0,\" \",IF(OR(AM92<1,AM92>350),\" \",LOOKUP(AM92,waarden!$D$4:$D$353,waarden!$E$4:$E$353)))","v":" "},null,{"$f":"IF(AO92=0,\" \",IF(OR(AO92<1,AO92>350),\" \",LOOKUP(AO92,waarden!$D$4:$D$353,waarden!$E$4:$E$353)))","v":" "},null,{"$f":"IF(AQ92=0,\" \",IF(OR(AQ92<1,AQ92>350),\" \",LOOKUP(AQ92,waarden!$D$4:$D$353,waarden!$E$4:$E$353)))","v":" "},null,{"$f":"IF(AS92=0,\" \",IF(OR(AS92<1,AS92>350),\" \",LOOKUP(AS92,waarden!$D$4:$D$353,waarden!$E$4:$E$353)))","v":" "},null,{"$f":"IF(AU92=0,\" \",IF(OR(AU92<1,AU92>350),\" \",LOOKUP(AU92,waarden!$D$4:$D$353,waarden!$E$4:$E$353)))","v":" "},null,{"$f":"IF(AW92=0,\" \",IF(OR(AW92<1,AW92>350),\" \",LOOKUP(AW92,waarden!$D$4:$D$353,waarden!$E$4:$E$353)))","v":" "},null,{"$f":"IF(AY92=0,\" \",IF(OR(AY92<1,AY92>350),\" \",LOOKUP(AY92,waarden!$D$4:$D$353,waarden!$E$4:$E$353)))","v":" "},null,{"$f":"IF(BA92=0,\" \",IF(OR(BA92<1,BA92>350),\" \",LOOKUP(BA92,waarden!$D$4:$D$353,waarden!$E$4:$E$353)))","v":" "},null,{"$f":"IF(BC92=0,\" \",IF(OR(BC92<1,BC92>350),\" \",LOOKUP(BC92,waarden!$D$4:$D$353,waarden!$E$4:$E$353)))","v":" "},null,{"$f":"IF(BE92=0,\" \",IF(OR(BE92<1,BE92>350),\" \",LOOKUP(BE92,waarden!$D$4:$D$353,waarden!$E$4:$E$353)))","v":" "},null,{"$f":"IF(BG92=0,\" \",IF(OR(BG92<1,BG92>350),\" \",LOOKUP(BG92,waarden!$D$4:$D$353,waarden!$E$4:$E$353)))","v":" "},null,{"$f":"IF(BI92=0,\" \",IF(OR(BI92<1,BI92>350),\" \",LOOKUP(BI92,waarden!$D$4:$D$353,waarden!$E$4:$E$353)))","v":" "},null,{"$f":"IF(BK92=0,\" \",IF(OR(BK92<1,BK92>350),\" \",LOOKUP(BK92,waarden!$D$4:$D$353,waarden!$E$4:$E$353)))","v":" "},null,{"$f":"IF(BM92=0,\" \",IF(OR(BM92<1,BM92>350),\" \",LOOKUP(BM92,waarden!$D$4:$D$353,waarden!$E$4:$E$353)))","v":" "},0,0]
[null,null,null,"Passagier",null,{"$f":"IF(E93=0,\" \",IF(OR(E93<1,E93>350),\" \",LOOKUP(E93,waarden!$A$4:$A$353,waarden!$B$4:$B$353)))","v":" "},null,{"$f":"IF(G93=0,\" \",IF(OR(G93<1,G93>350),\" \",LOOKUP(G93,waarden!$A$4:$A$353,waarden!$B$4:$B$353)))","v":" "},null,{"$f":"IF(I93=0,\" \",IF(OR(I93<1,I93>350),\" \",LOOKUP(I93,waarden!$A$4:$A$353,waarden!$B$4:$B$353)))","v":" "},null,{"$f":"IF(K93=0,\" \",IF(OR(K93<1,K93>350),\" \",LOOKUP(K93,waarden!$A$4:$A$353,waarden!$B$4:$B$353)))","v":" "},null,{"$f":"IF(M93=0,\" \",IF(OR(M93<1,M93>350),\" \",LOOKUP(M93,waarden!$A$4:$A$353,waarden!$B$4:$B$353)))","v":" "},null,{"$f":"IF(O93=0,\" \",IF(OR(O93<1,O93>350),\" \",LOOKUP(O93,waarden!$A$4:$A$353,waarden!$B$4:$B$353)))","v":" "},null,{"$f":"IF(Q93=0,\" \",IF(OR(Q93<1,Q93>350),\" \",LOOKUP(Q93,waarden!$A$4:$A$353,waarden!$B$4:$B$353)))","v":" "},null,{"$f":"IF(S93=0,\" \",IF(OR(S93<1,S93>350),\" \",LOOKUP(S93,waarden!$A$4:$A$353,waarden!$B$4:$B$353)))","v":" "},null,{"$f":"IF(U93=0,\" \",IF(OR(U93<1,U93>350),\" \",LOOKUP(U93,waarden!$A$4:$A$353,waarden!$B$4:$B$353)))","v":" "},null,{"$f":"IF(W93=0,\" \",IF(OR(W93<1,W93>350),\" \",LOOKUP(W93,waarden!$A$4:$A$353,waarden!$B$4:$B$353)))","v":" "},null,{"$f":"IF(Y93=0,\" \",IF(OR(Y93<1,Y93>350),\" \",LOOKUP(Y93,waarden!$A$4:$A$353,waarden!$B$4:$B$353)))","v":" "},null,{"$f":"IF(AA93=0,\" \",IF(OR(AA93<1,AA93>350),\" \",LOOKUP(AA93,waarden!$A$4:$A$353,waarden!$B$4:$B$353)))","v":" "},null,{"$f":"IF(AC93=0,\" \",IF(OR(AC93<1,AC93>350),\" \",LOOKUP(AC93,waarden!$A$4:$A$353,waarden!$B$4:$B$353)))","v":" "},null,{"$f":"IF(AE93=0,\" \",IF(OR(AE93<1,AE93>350),\" \",LOOKUP(AE93,waarden!$A$4:$A$353,waarden!$B$4:$B$353)))","v":" "},null,{"$f":"IF(AG93=0,\" \",IF(OR(AG93<1,AG93>350),\" \",LOOKUP(AG93,waarden!$A$4:$A$353,waarden!$B$4:$B$353)))","v":" "},null,{"$f":"IF(AI93=0,\" \",IF(OR(AI93<1,AI93>350),\" \",LOOKUP(AI93,waarden!$A$4:$A$353,waarden!$B$4:$B$353)))","v":" "},null,{"$f":"IF(AK93=0,\" \",IF(OR(AK93<1,AK93>350),\" \",LOOKUP(AK93,waarden!$A$4:$A$353,waarden!$B$4:$B$353)))","v":" "},null,{"$f":"IF(AM93=0,\" \",IF(OR(AM93<1,AM93>350),\" \",LOOKUP(AM93,waarden!$A$4:$A$353,waarden!$B$4:$B$353)))","v":" "},null,{"$f":"IF(AO93=0,\" \",IF(OR(AO93<1,AO93>350),\" \",LOOKUP(AO93,waarden!$A$4:$A$353,waarden!$B$4:$B$353)))","v":" "},null,{"$f":"IF(AQ93=0,\" \",IF(OR(AQ93<1,AQ93>350),\" \",LOOKUP(AQ93,waarden!$A$4:$A$353,waarden!$B$4:$B$353)))","v":" "},null,{"$f":"IF(AS93=0,\" \",IF(OR(AS93<1,AS93>350),\" \",LOOKUP(AS93,waarden!$A$4:$A$353,waarden!$B$4:$B$353)))","v":" "},null,{"$f":"IF(AU93=0,\" \",IF(OR(AU93<1,AU93>350),\" \",LOOKUP(AU93,waarden!$A$4:$A$353,waarden!$B$4:$B$353)))","v":" "},null,{"$f":"IF(AW93=0,\" \",IF(OR(AW93<1,AW93>350),\" \",LOOKUP(AW93,waarden!$A$4:$A$353,waarden!$B$4:$B$353)))","v":" "},null,{"$f":"IF(AY93=0,\" \",IF(OR(AY93<1,AY93>350),\" \",LOOKUP(AY93,waarden!$A$4:$A$353,waarden!$B$4:$B$353)))","v":" "},null,{"$f":"IF(BA93=0,\" \",IF(OR(BA93<1,BA93>350),\" \",LOOKUP(BA93,waarden!$A$4:$A$353,waarden!$B$4:$B$353)))","v":" "},null,{"$f":"IF(BC93=0,\" \",IF(OR(BC93<1,BC93>350),\" \",LOOKUP(BC93,waarden!$A$4:$A$353,waarden!$B$4:$B$353)))","v":" "},null,{"$f":"IF(BE93=0,\" \",IF(OR(BE93<1,BE93>350),\" \",LOOKUP(BE93,waarden!$A$4:$A$353,waarden!$B$4:$B$353)))","v":" "},null,{"$f":"IF(BG93=0,\" \",IF(OR(BG93<1,BG93>350),\" \",LOOKUP(BG93,waarden!$A$4:$A$353,waarden!$B$4:$B$353)))","v":" "},null,{"$f":"IF(BI93=0,\" \",IF(OR(BI93<1,BI93>350),\" \",LOOKUP(BI93,waarden!$A$4:$A$353,waarden!$B$4:$B$353)))","v":" "},null,{"$f":"IF(BK93=0,\" \",IF(OR(BK93<1,BK93>350),\" \",LOOKUP(BK93,waarden!$A$4:$A$353,waarden!$B$4:$B$353)))","v":" "},null,{"$f":"IF(BM93=0,\" \",IF(OR(BM93<1,BM93>350),\" \",LOOKUP(BM93,waarden!$A$4:$A$353,waarden!$B$4:$B$353)))","v":" "},0,0]
[null,null,null,"Chauffeur personeel",null,{"$f":"IF(E94=0,\" \",IF(OR(E94<1,E94>350),\" \",LOOKUP(E94,waarden!$G$4:$G$353,waarden!$H$4:$H$353)))","v":" "},null,{"$f":"IF(G94=0,\" \",IF(OR(G94<1,G94>350),\" \",LOOKUP(G94,waarden!$G$4:$G$353,waarden!$H$4:$H$353)))","v":" "},null,{"$f":"IF(I94=0,\" \",IF(OR(I94<1,I94>350),\" \",LOOKUP(I94,waarden!$G$4:$G$353,waarden!$H$4:$H$353)))","v":" "},null,{"$f":"IF(K94=0,\" \",IF(OR(K94<1,K94>350),\" \",LOOKUP(K94,waarden!$G$4:$G$353,waarden!$H$4:$H$353)))","v":" "},null,{"$f":"IF(M94=0,\" \",IF(OR(M94<1,M94>350),\" \",LOOKUP(M94,waarden!$G$4:$G$353,waarden!$H$4:$H$353)))","v":" "},null,{"$f":"IF(O94=0,\" \",IF(OR(O94<1,O94>350),\" \",LOOKUP(O94,waarden!$G$4:$G$353,waarden!$H$4:$H$353)))","v":" "},null,{"$f":"IF(Q94=0,\" \",IF(OR(Q94<1,Q94>350),\" \",LOOKUP(Q94,waarden!$G$4:$G$353,waarden!$H$4:$H$353)))","v":" "},null,{"$f":"IF(S94=0,\" \",IF(OR(S94<1,S94>350),\" \",LOOKUP(S94,waarden!$G$4:$G$353,waarden!$H$4:$H$353)))","v":" "},null,{"$f":"IF(U94=0,\" \",IF(OR(U94<1,U94>350),\" \",LOOKUP(U94,waarden!$G$4:$G$353,waarden!$H$4:$H$353)))","v":" "},null,{"$f":"IF(W94=0,\" \",IF(OR(W94<1,W94>350),\" \",LOOKUP(W94,waarden!$G$4:$G$353,waarden!$H$4:$H$353)))","v":" "},null,{"$f":"IF(Y94=0,\" \",IF(OR(Y94<1,Y94>350),\" \",LOOKUP(Y94,waarden!$G$4:$G$353,waarden!$H$4:$H$353)))","v":" "},null,{"$f":"IF(AA94=0,\" \",IF(OR(AA94<1,AA94>350),\" \",LOOKUP(AA94,waarden!$G$4:$G$353,waarden!$H$4:$H$353)))","v":" "},null,{"$f":"IF(AC94=0,\" \",IF(OR(AC94<1,AC94>350),\" \",LOOKUP(AC94,waarden!$G$4:$G$353,waarden!$H$4:$H$353)))","v":" "},null,{"$f":"IF(AE94=0,\" \",IF(OR(AE94<1,AE94>350),\" \",LOOKUP(AE94,waarden!$G$4:$G$353,waarden!$H$4:$H$353)))","v":" "},null,{"$f":"IF(AG94=0,\" \",IF(OR(AG94<1,AG94>350),\" \",LOOKUP(AG94,waarden!$G$4:$G$353,waarden!$H$4:$H$353)))","v":" "},null,{"$f":"IF(AI94=0,\" \",IF(OR(AI94<1,AI94>350),\" \",LOOKUP(AI94,waarden!$G$4:$G$353,waarden!$H$4:$H$353)))","v":" "},null,{"$f":"IF(AK94=0,\" \",IF(OR(AK94<1,AK94>350),\" \",LOOKUP(AK94,waarden!$G$4:$G$353,waarden!$H$4:$H$353)))","v":" "},null,{"$f":"IF(AM94=0,\" \",IF(OR(AM94<1,AM94>350),\" \",LOOKUP(AM94,waarden!$G$4:$G$353,waarden!$H$4:$H$353)))","v":" "},null,{"$f":"IF(AO94=0,\" \",IF(OR(AO94<1,AO94>350),\" \",LOOKUP(AO94,waarden!$G$4:$G$353,waarden!$H$4:$H$353)))","v":" "},null,{"$f":"IF(AQ94=0,\" \",IF(OR(AQ94<1,AQ94>350),\" \",LOOKUP(AQ94,waarden!$G$4:$G$353,waarden!$H$4:$H$353)))","v":" "},null,{"$f":"IF(AS94=0,\" \",IF(OR(AS94<1,AS94>350),\" \",LOOKUP(AS94,waarden!$G$4:$G$353,waarden!$H$4:$H$353)))","v":" "},null,{"$f":"IF(AU94=0,\" \",IF(OR(AU94<1,AU94>350),\" \",LOOKUP(AU94,waarden!$G$4:$G$353,waarden!$H$4:$H$353)))","v":" "},null,{"$f":"IF(AW94=0,\" \",IF(OR(AW94<1,AW94>350),\" \",LOOKUP(AW94,waarden!$G$4:$G$353,waarden!$H$4:$H$353)))","v":" "},null,{"$f":"IF(AY94=0,\" \",IF(OR(AY94<1,AY94>350),\" \",LOOKUP(AY94,waarden!$G$4:$G$353,waarden!$H$4:$H$353)))","v":" "},null,{"$f":"IF(BA94=0,\" \",IF(OR(BA94<1,BA94>350),\" \",LOOKUP(BA94,waarden!$G$4:$G$353,waarden!$H$4:$H$353)))","v":" "},null,{"$f":"IF(BC94=0,\" \",IF(OR(BC94<1,BC94>350),\" \",LOOKUP(BC94,waarden!$G$4:$G$353,waarden!$H$4:$H$353)))","v":" "},null,{"$f":"IF(BE94=0,\" \",IF(OR(BE94<1,BE94>350),\" \",LOOKUP(BE94,waarden!$G$4:$G$353,waarden!$H$4:$H$353)))","v":" "},null,{"$f":"IF(BG94=0,\" \",IF(OR(BG94<1,BG94>350),\" \",LOOKUP(BG94,waarden!$G$4:$G$353,waarden!$H$4:$H$353)))","v":" "},null,{"$f":"IF(BI94=0,\" \",IF(OR(BI94<1,BI94>350),\" \",LOOKUP(BI94,waarden!$G$4:$G$353,waarden!$H$4:$H$353)))","v":" "},null,{"$f":"IF(BK94=0,\" \",IF(OR(BK94<1,BK94>350),\" \",LOOKUP(BK94,waarden!$G$4:$G$353,waarden!$H$4:$H$353)))","v":" "},null,{"$f":"IF(BM94=0,\" \",IF(OR(BM94<1,BM94>350),\" \",LOOKUP(BM94,waarden!$G$4:$G$353,waarden!$H$4:$H$353)))","v":" "},0,{"$f":"SUM(F94,H94,J94,L94,N94,P94,R94,T94,V94,X94,Z94,AB94,AD94,AF94,AH94,AJ94,AL94,AN94,AP94,AR94,AT94,AV94,AX94,AZ94,BB94,BD94,BF94,BH94,BJ94,BL94,BN94)","v":0}]
[null,null,null,"Chauffeur alleen",null,{"$f":"IF(E95=0,\" \",IF(OR(E95<1,E95>350),\" \",LOOKUP(E95,waarden!$D$4:$D$353,waarden!$E$4:$E$353)))","v":" "},null,{"$f":"IF(G95=0,\" \",IF(OR(G95<1,G95>350),\" \",LOOKUP(G95,waarden!$D$4:$D$353,waarden!$E$4:$E$353)))","v":" "},null,{"$f":"IF(I95=0,\" \",IF(OR(I95<1,I95>350),\" \",LOOKUP(I95,waarden!$D$4:$D$353,waarden!$E$4:$E$353)))","v":" "},null,{"$f":"IF(K95=0,\" \",IF(OR(K95<1,K95>350),\" \",LOOKUP(K95,waarden!$D$4:$D$353,waarden!$E$4:$E$353)))","v":" "},null,{"$f":"IF(M95=0,\" \",IF(OR(M95<1,M95>350),\" \",LOOKUP(M95,waarden!$D$4:$D$353,waarden!$E$4:$E$353)))","v":" "},null,{"$f":"IF(O95=0,\" \",IF(OR(O95<1,O95>350),\" \",LOOKUP(O95,waarden!$D$4:$D$353,waarden!$E$4:$E$353)))","v":" "},null,{"$f":"IF(Q95=0,\" \",IF(OR(Q95<1,Q95>350),\" \",LOOKUP(Q95,waarden!$D$4:$D$353,waarden!$E$4:$E$353)))","v":" "},null,{"$f":"IF(S95=0,\" \",IF(OR(S95<1,S95>350),\" \",LOOKUP(S95,waarden!$D$4:$D$353,waarden!$E$4:$E$353)))","v":" "},null,{"$f":"IF(U95=0,\" \",IF(OR(U95<1,U95>350),\" \",LOOKUP(U95,waarden!$D$4:$D$353,waarden!$E$4:$E$353)))","v":" "},null,{"$f":"IF(W95=0,\" \",IF(OR(W95<1,W95>350),\" \",LOOKUP(W95,waarden!$D$4:$D$353,waarden!$E$4:$E$353)))","v":" "},null,{"$f":"IF(Y95=0,\" \",IF(OR(Y95<1,Y95>350),\" \",LOOKUP(Y95,waarden!$D$4:$D$353,waarden!$E$4:$E$353)))","v":" "},null,{"$f":"IF(AA95=0,\" \",IF(OR(AA95<1,AA95>350),\" \",LOOKUP(AA95,waarden!$D$4:$D$353,waarden!$E$4:$E$353)))","v":" "},null,{"$f":"IF(AC95=0,\" \",IF(OR(AC95<1,AC95>350),\" \",LOOKUP(AC95,waarden!$D$4:$D$353,waarden!$E$4:$E$353)))","v":" "},null,{"$f":"IF(AE95=0,\" \",IF(OR(AE95<1,AE95>350),\" \",LOOKUP(AE95,waarden!$D$4:$D$353,waarden!$E$4:$E$353)))","v":" "},null,{"$f":"IF(AG95=0,\" \",IF(OR(AG95<1,AG95>350),\" \",LOOKUP(AG95,waarden!$D$4:$D$353,waarden!$E$4:$E$353)))","v":" "},null,{"$f":"IF(AI95=0,\" \",IF(OR(AI95<1,AI95>350),\" \",LOOKUP(AI95,waarden!$D$4:$D$353,waarden!$E$4:$E$353)))","v":" "},null,{"$f":"IF(AK95=0,\" \",IF(OR(AK95<1,AK95>350),\" \",LOOKUP(AK95,waarden!$D$4:$D$353,waarden!$E$4:$E$353)))","v":" "},null,{"$f":"IF(AM95=0,\" \",IF(OR(AM95<1,AM95>350),\" \",LOOKUP(AM95,waarden!$D$4:$D$353,waarden!$E$4:$E$353)))","v":" "},null,{"$f":"IF(AO95=0,\" \",IF(OR(AO95<1,AO95>350),\" \",LOOKUP(AO95,waarden!$D$4:$D$353,waarden!$E$4:$E$353)))","v":" "},null,{"$f":"IF(AQ95=0,\" \",IF(OR(AQ95<1,AQ95>350),\" \",LOOKUP(AQ95,waarden!$D$4:$D$353,waarden!$E$4:$E$353)))","v":" "},null,{"$f":"IF(AS95=0,\" \",IF(OR(AS95<1,AS95>350),\" \",LOOKUP(AS95,waarden!$D$4:$D$353,waarden!$E$4:$E$353)))","v":" "},null,{"$f":"IF(AU95=0,\" \",IF(OR(AU95<1,AU95>350),\" \",LOOKUP(AU95,waarden!$D$4:$D$353,waarden!$E$4:$E$353)))","v":" "},null,{"$f":"IF(AW95=0,\" \",IF(OR(AW95<1,AW95>350),\" \",LOOKUP(AW95,waarden!$D$4:$D$353,waarden!$E$4:$E$353)))","v":" "},null,{"$f":"IF(AY95=0,\" \",IF(OR(AY95<1,AY95>350),\" \",LOOKUP(AY95,waarden!$D$4:$D$353,waarden!$E$4:$E$353)))","v":" "},null,{"$f":"IF(BA95=0,\" \",IF(OR(BA95<1,BA95>350),\" \",LOOKUP(BA95,waarden!$D$4:$D$353,waarden!$E$4:$E$353)))","v":" "},null,{"$f":"IF(BC95=0,\" \",IF(OR(BC95<1,BC95>350),\" \",LOOKUP(BC95,waarden!$D$4:$D$353,waarden!$E$4:$E$353)))","v":" "},null,{"$f":"IF(BE95=0,\" \",IF(OR(BE95<1,BE95>350),\" \",LOOKUP(BE95,waarden!$D$4:$D$353,waarden!$E$4:$E$353)))","v":" "},null,{"$f":"IF(BG95=0,\" \",IF(OR(BG95<1,BG95>350),\" \",LOOKUP(BG95,waarden!$D$4:$D$353,waarden!$E$4:$E$353)))","v":" "},null,{"$f":"IF(BI95=0,\" \",IF(OR(BI95<1,BI95>350),\" \",LOOKUP(BI95,waarden!$D$4:$D$353,waarden!$E$4:$E$353)))","v":" "},null,{"$f":"IF(BK95=0,\" \",IF(OR(BK95<1,BK95>350),\" \",LOOKUP(BK95,waarden!$D$4:$D$353,waarden!$E$4:$E$353)))","v":" "},null,{"$f":"IF(BM95=0,\" \",IF(OR(BM95<1,BM95>350),\" \",LOOKUP(BM95,waarden!$D$4:$D$353,waarden!$E$4:$E$353)))","v":" "},0,0]
[null,null,null,"Passagier",null,{"$f":"IF(E96=0,\" \",IF(OR(E96<1,E96>350),\" \",LOOKUP(E96,waarden!$A$4:$A$353,waarden!$B$4:$B$353)))","v":" "},null,{"$f":"IF(G96=0,\" \",IF(OR(G96<1,G96>350),\" \",LOOKUP(G96,waarden!$A$4:$A$353,waarden!$B$4:$B$353)))","v":" "},null,{"$f":"IF(I96=0,\" \",IF(OR(I96<1,I96>350),\" \",LOOKUP(I96,waarden!$A$4:$A$353,waarden!$B$4:$B$353)))","v":" "},null,{"$f":"IF(K96=0,\" \",IF(OR(K96<1,K96>350),\" \",LOOKUP(K96,waarden!$A$4:$A$353,waarden!$B$4:$B$353)))","v":" "},null,{"$f":"IF(M96=0,\" \",IF(OR(M96<1,M96>350),\" \",LOOKUP(M96,waarden!$A$4:$A$353,waarden!$B$4:$B$353)))","v":" "},null,{"$f":"IF(O96=0,\" \",IF(OR(O96<1,O96>350),\" \",LOOKUP(O96,waarden!$A$4:$A$353,waarden!$B$4:$B$353)))","v":" "},null,{"$f":"IF(Q96=0,\" \",IF(OR(Q96<1,Q96>350),\" \",LOOKUP(Q96,waarden!$A$4:$A$353,waarden!$B$4:$B$353)))","v":" "},null,{"$f":"IF(S96=0,\" \",IF(OR(S96<1,S96>350),\" \",LOOKUP(S96,waarden!$A$4:$A$353,waarden!$B$4:$B$353)))","v":" "},null,{"$f":"IF(U96=0,\" \",IF(OR(U96<1,U96>350),\" \",LOOKUP(U96,waarden!$A$4:$A$353,waarden!$B$4:$B$353)))","v":" "},null,{"$f":"IF(W96=0,\" \",IF(OR(W96<1,W96>350),\" \",LOOKUP(W96,waarden!$A$4:$A$353,waarden!$B$4:$B$353)))","v":" "},null,{"$f":"IF(Y96=0,\" \",IF(OR(Y96<1,Y96>350),\" \",LOOKUP(Y96,waarden!$A$4:$A$353,waarden!$B$4:$B$353)))","v":" "},null,{"$f":"IF(AA96=0,\" \",IF(OR(AA96<1,AA96>350),\" \",LOOKUP(AA96,waarden!$A$4:$A$353,waarden!$B$4:$B$353)))","v":" "},null,{"$f":"IF(AC96=0,\" \",IF(OR(AC96<1,AC96>350),\" \",LOOKUP(AC96,waarden!$A$4:$A$353,waarden!$B$4:$B$353)))","v":" "},null,{"$f":"IF(AE96=0,\" \",IF(OR(AE96<1,AE96>350),\" \",LOOKUP(AE96,waarden!$A$4:$A$353,waarden!$B$4:$B$353)))","v":" "},null,{"$f":"IF(AG96=0,\" \",IF(OR(AG96<1,AG96>350),\" \",LOOKUP(AG96,waarden!$A$4:$A$353,waarden!$B$4:$B$353)))","v":" "},null,{"$f":"IF(AI96=0,\" \",IF(OR(AI96<1,AI96>350),\" \",LOOKUP(AI96,waarden!$A$4:$A$353,waarden!$B$4:$B$353)))","v":" "},null,{"$f":"IF(AK96=0,\" \",IF(OR(AK96<1,AK96>350),\" \",LOOKUP(AK96,waarden!$A$4:$A$353,waarden!$B$4:$B$353)))","v":" "},null,{"$f":"IF(AM96=0,\" \",IF(OR(AM96<1,AM96>350),\" \",LOOKUP(AM96,waarden!$A$4:$A$353,waarden!$B$4:$B$353)))","v":" "},null,{"$f":"IF(AO96=0,\" \",IF(OR(AO96<1,AO96>350),\" \",LOOKUP(AO96,waarden!$A$4:$A$353,waarden!$B$4:$B$353)))","v":" "},null,{"$f":"IF(AQ96=0,\" \",IF(OR(AQ96<1,AQ96>350),\" \",LOOKUP(AQ96,waarden!$A$4:$A$353,waarden!$B$4:$B$353)))","v":" "},null,{"$f":"IF(AS96=0,\" \",IF(OR(AS96<1,AS96>350),\" \",LOOKUP(AS96,waarden!$A$4:$A$353,waarden!$B$4:$B$353)))","v":" "},null,{"$f":"IF(AU96=0,\" \",IF(OR(AU96<1,AU96>350),\" \",LOOKUP(AU96,waarden!$A$4:$A$353,waarden!$B$4:$B$353)))","v":" "},null,{"$f":"IF(AW96=0,\" \",IF(OR(AW96<1,AW96>350),\" \",LOOKUP(AW96,waarden!$A$4:$A$353,waarden!$B$4:$B$353)))","v":" "},null,{"$f":"IF(AY96=0,\" \",IF(OR(AY96<1,AY96>350),\" \",LOOKUP(AY96,waarden!$A$4:$A$353,waarden!$B$4:$B$353)))","v":" "},null,{"$f":"IF(BA96=0,\" \",IF(OR(BA96<1,BA96>350),\" \",LOOKUP(BA96,waarden!$A$4:$A$353,waarden!$B$4:$B$353)))","v":" "},null,{"$f":"IF(BC96=0,\" \",IF(OR(BC96<1,BC96>350),\" \",LOOKUP(BC96,waarden!$A$4:$A$353,waarden!$B$4:$B$353)))","v":" "},null,{"$f":"IF(BE96=0,\" \",IF(OR(BE96<1,BE96>350),\" \",LOOKUP(BE96,waarden!$A$4:$A$353,waarden!$B$4:$B$353)))","v":" "},null,{"$f":"IF(BG96=0,\" \",IF(OR(BG96<1,BG96>350),\" \",LOOKUP(BG96,waarden!$A$4:$A$353,waarden!$B$4:$B$353)))","v":" "},null,{"$f":"IF(BI96=0,\" \",IF(OR(BI96<1,BI96>350),\" \",LOOKUP(BI96,waarden!$A$4:$A$353,waarden!$B$4:$B$353)))","v":" "},null,{"$f":"IF(BK96=0,\" \",IF(OR(BK96<1,BK96>350),\" \",LOOKUP(BK96,waarden!$A$4:$A$353,waarden!$B$4:$B$353)))","v":" "},null,{"$f":"IF(BM96=0,\" \",IF(OR(BM96<1,BM96>350),\" \",LOOKUP(BM96,waarden!$A$4:$A$353,waarden!$B$4:$B$353)))","v":" "},0,0]
[null,null,null,"Chauffeur personeel",null,{"$f":"IF(E97=0,\" \",IF(OR(E97<1,E97>350),\" \",LOOKUP(E97,waarden!$G$4:$G$353,waarden!$H$4:$H$353)))","v":" "},null,{"$f":"IF(G97=0,\" \",IF(OR(G97<1,G97>350),\" \",LOOKUP(G97,waarden!$G$4:$G$353,waarden!$H$4:$H$353)))","v":" "},null,{"$f":"IF(I97=0,\" \",IF(OR(I97<1,I97>350),\" \",LOOKUP(I97,waarden!$G$4:$G$353,waarden!$H$4:$H$353)))","v":" "},null,{"$f":"IF(K97=0,\" \",IF(OR(K97<1,K97>350),\" \",LOOKUP(K97,waarden!$G$4:$G$353,waarden!$H$4:$H$353)))","v":" "},null,{"$f":"IF(M97=0,\" \",IF(OR(M97<1,M97>350),\" \",LOOKUP(M97,waarden!$G$4:$G$353,waarden!$H$4:$H$353)))","v":" "},null,{"$f":"IF(O97=0,\" \",IF(OR(O97<1,O97>350),\" \",LOOKUP(O97,waarden!$G$4:$G$353,waarden!$H$4:$H$353)))","v":" "},null,{"$f":"IF(Q97=0,\" \",IF(OR(Q97<1,Q97>350),\" \",LOOKUP(Q97,waarden!$G$4:$G$353,waarden!$H$4:$H$353)))","v":" "},null,{"$f":"IF(S97=0,\" \",IF(OR(S97<1,S97>350),\" \",LOOKUP(S97,waarden!$G$4:$G$353,waarden!$H$4:$H$353)))","v":" "},null,{"$f":"IF(U97=0,\" \",IF(OR(U97<1,U97>350),\" \",LOOKUP(U97,waarden!$G$4:$G$353,waarden!$H$4:$H$353)))","v":" "},null,{"$f":"IF(W97=0,\" \",IF(OR(W97<1,W97>350),\" \",LOOKUP(W97,waarden!$G$4:$G$353,waarden!$H$4:$H$353)))","v":" "},null,{"$f":"IF(Y97=0,\" \",IF(OR(Y97<1,Y97>350),\" \",LOOKUP(Y97,waarden!$G$4:$G$353,waarden!$H$4:$H$353)))","v":" "},null,{"$f":"IF(AA97=0,\" \",IF(OR(AA97<1,AA97>350),\" \",LOOKUP(AA97,waarden!$G$4:$G$353,waarden!$H$4:$H$353)))","v":" "},null,{"$f":"IF(AC97=0,\" \",IF(OR(AC97<1,AC97>350),\" \",LOOKUP(AC97,waarden!$G$4:$G$353,waarden!$H$4:$H$353)))","v":" "},null,{"$f":"IF(AE97=0,\" \",IF(OR(AE97<1,AE97>350),\" \",LOOKUP(AE97,waarden!$G$4:$G$353,waarden!$H$4:$H$353)))","v":" "},null,{"$f":"IF(AG97=0,\" \",IF(OR(AG97<1,AG97>350),\" \",LOOKUP(AG97,waarden!$G$4:$G$353,waarden!$H$4:$H$353)))","v":" "},null,{"$f":"IF(AI97=0,\" \",IF(OR(AI97<1,AI97>350),\" \",LOOKUP(AI97,waarden!$G$4:$G$353,waarden!$H$4:$H$353)))","v":" "},null,{"$f":"IF(AK97=0,\" \",IF(OR(AK97<1,AK97>350),\" \",LOOKUP(AK97,waarden!$G$4:$G$353,waarden!$H$4:$H$353)))","v":" "},null,{"$f":"IF(AM97=0,\" \",IF(OR(AM97<1,AM97>350),\" \",LOOKUP(AM97,waarden!$G$4:$G$353,waarden!$H$4:$H$353)))","v":" "},null,{"$f":"IF(AO97=0,\" \",IF(OR(AO97<1,AO97>350),\" \",LOOKUP(AO97,waarden!$G$4:$G$353,waarden!$H$4:$H$353)))","v":" "},null,{"$f":"IF(AQ97=0,\" \",IF(OR(AQ97<1,AQ97>350),\" \",LOOKUP(AQ97,waarden!$G$4:$G$353,waarden!$H$4:$H$353)))","v":" "},null,{"$f":"IF(AS97=0,\" \",IF(OR(AS97<1,AS97>350),\" \",LOOKUP(AS97,waarden!$G$4:$G$353,waarden!$H$4:$H$353)))","v":" "},null,{"$f":"IF(AU97=0,\" \",IF(OR(AU97<1,AU97>350),\" \",LOOKUP(AU97,waarden!$G$4:$G$353,waarden!$H$4:$H$353)))","v":" "},null,{"$f":"IF(AW97=0,\" \",IF(OR(AW97<1,AW97>350),\" \",LOOKUP(AW97,waarden!$G$4:$G$353,waarden!$H$4:$H$353)))","v":" "},null,{"$f":"IF(AY97=0,\" \",IF(OR(AY97<1,AY97>350),\" \",LOOKUP(AY97,waarden!$G$4:$G$353,waarden!$H$4:$H$353)))","v":" "},null,{"$f":"IF(BA97=0,\" \",IF(OR(BA97<1,BA97>350),\" \",LOOKUP(BA97,waarden!$G$4:$G$353,waarden!$H$4:$H$353)))","v":" "},null,{"$f":"IF(BC97=0,\" \",IF(OR(BC97<1,BC97>350),\" \",LOOKUP(BC97,waarden!$G$4:$G$353,waarden!$H$4:$H$353)))","v":" "},null,{"$f":"IF(BE97=0,\" \",IF(OR(BE97<1,BE97>350),\" \",LOOKUP(BE97,waarden!$G$4:$G$353,waarden!$H$4:$H$353)))","v":" "},null,{"$f":"IF(BG97=0,\" \",IF(OR(BG97<1,BG97>350),\" \",LOOKUP(BG97,waarden!$G$4:$G$353,waarden!$H$4:$H$353)))","v":" "},null,{"$f":"IF(BI97=0,\" \",IF(OR(BI97<1,BI97>350),\" \",LOOKUP(BI97,waarden!$G$4:$G$353,waarden!$H$4:$H$353)))","v":" "},null,{"$f":"IF(BK97=0,\" \",IF(OR(BK97<1,BK97>350),\" \",LOOKUP(BK97,waarden!$G$4:$G$353,waarden!$H$4:$H$353)))","v":" "},null,{"$f":"IF(BM97=0,\" \",IF(OR(BM97<1,BM97>350),\" \",LOOKUP(BM97,waarden!$G$4:$G$353,waarden!$H$4:$H$353)))","v":" "},0,{"$f":"SUM(F97,H97,J97,L97,N97,P97,R97,T97,V97,X97,Z97,AB97,AD97,AF97,AH97,AJ97,AL97,AN97,AP97,AR97,AT97,AV97,AX97,AZ97,BB97,BD97,BF97,BH97,BJ97,BL97,BN97)","v":0}]
[null,null,null,"Chauffeur alleen",null,{"$f":"IF(E98=0,\" \",IF(OR(E98<1,E98>350),\" \",LOOKUP(E98,waarden!$D$4:$D$353,waarden!$E$4:$E$353)))","v":" "},null,{"$f":"IF(G98=0,\" \",IF(OR(G98<1,G98>350),\" \",LOOKUP(G98,waarden!$D$4:$D$353,waarden!$E$4:$E$353)))","v":" "},null,{"$f":"IF(I98=0,\" \",IF(OR(I98<1,I98>350),\" \",LOOKUP(I98,waarden!$D$4:$D$353,waarden!$E$4:$E$353)))","v":" "},null,{"$f":"IF(K98=0,\" \",IF(OR(K98<1,K98>350),\" \",LOOKUP(K98,waarden!$D$4:$D$353,waarden!$E$4:$E$353)))","v":" "},null,{"$f":"IF(M98=0,\" \",IF(OR(M98<1,M98>350),\" \",LOOKUP(M98,waarden!$D$4:$D$353,waarden!$E$4:$E$353)))","v":" "},null,{"$f":"IF(O98=0,\" \",IF(OR(O98<1,O98>350),\" \",LOOKUP(O98,waarden!$D$4:$D$353,waarden!$E$4:$E$353)))","v":" "},null,{"$f":"IF(Q98=0,\" \",IF(OR(Q98<1,Q98>350),\" \",LOOKUP(Q98,waarden!$D$4:$D$353,waarden!$E$4:$E$353)))","v":" "},null,{"$f":"IF(S98=0,\" \",IF(OR(S98<1,S98>350),\" \",LOOKUP(S98,waarden!$D$4:$D$353,waarden!$E$4:$E$353)))","v":" "},null,{"$f":"IF(U98=0,\" \",IF(OR(U98<1,U98>350),\" \",LOOKUP(U98,waarden!$D$4:$D$353,waarden!$E$4:$E$353)))","v":" "},null,{"$f":"IF(W98=0,\" \",IF(OR(W98<1,W98>350),\" \",LOOKUP(W98,waarden!$D$4:$D$353,waarden!$E$4:$E$353)))","v":" "},null,{"$f":"IF(Y98=0,\" \",IF(OR(Y98<1,Y98>350),\" \",LOOKUP(Y98,waarden!$D$4:$D$353,waarden!$E$4:$E$353)))","v":" "},null,{"$f":"IF(AA98=0,\" \",IF(OR(AA98<1,AA98>350),\" \",LOOKUP(AA98,waarden!$D$4:$D$353,waarden!$E$4:$E$353)))","v":" "},null,{"$f":"IF(AC98=0,\" \",IF(OR(AC98<1,AC98>350),\" \",LOOKUP(AC98,waarden!$D$4:$D$353,waarden!$E$4:$E$353)))","v":" "},null,{"$f":"IF(AE98=0,\" \",IF(OR(AE98<1,AE98>350),\" \",LOOKUP(AE98,waarden!$D$4:$D$353,waarden!$E$4:$E$353)))","v":" "},null,{"$f":"IF(AG98=0,\" \",IF(OR(AG98<1,AG98>350),\" \",LOOKUP(AG98,waarden!$D$4:$D$353,waarden!$E$4:$E$353)))","v":" "},null,{"$f":"IF(AI98=0,\" \",IF(OR(AI98<1,AI98>350),\" \",LOOKUP(AI98,waarden!$D$4:$D$353,waarden!$E$4:$E$353)))","v":" "},null,{"$f":"IF(AK98=0,\" \",IF(OR(AK98<1,AK98>350),\" \",LOOKUP(AK98,waarden!$D$4:$D$353,waarden!$E$4:$E$353)))","v":" "},null,{"$f":"IF(AM98=0,\" \",IF(OR(AM98<1,AM98>350),\" \",LOOKUP(AM98,waarden!$D$4:$D$353,waarden!$E$4:$E$353)))","v":" "},null,{"$f":"IF(AO98=0,\" \",IF(OR(AO98<1,AO98>350),\" \",LOOKUP(AO98,waarden!$D$4:$D$353,waarden!$E$4:$E$353)))","v":" "},null,{"$f":"IF(AQ98=0,\" \",IF(OR(AQ98<1,AQ98>350),\" \",LOOKUP(AQ98,waarden!$D$4:$D$353,waarden!$E$4:$E$353)))","v":" "},null,{"$f":"IF(AS98=0,\" \",IF(OR(AS98<1,AS98>350),\" \",LOOKUP(AS98,waarden!$D$4:$D$353,waarden!$E$4:$E$353)))","v":" "},null,{"$f":"IF(AU98=0,\" \",IF(OR(AU98<1,AU98>350),\" \",LOOKUP(AU98,waarden!$D$4:$D$353,waarden!$E$4:$E$353)))","v":" "},null,{"$f":"IF(AW98=0,\" \",IF(OR(AW98<1,AW98>350),\" \",LOOKUP(AW98,waarden!$D$4:$D$353,waarden!$E$4:$E$353)))","v":" "},null,{"$f":"IF(AY98=0,\" \",IF(OR(AY98<1,AY98>350),\" \",LOOKUP(AY98,waarden!$D$4:$D$353,waarden!$E$4:$E$353)))","v":" "},null,{"$f":"IF(BA98=0,\" \",IF(OR(BA98<1,BA98>350),\" \",LOOKUP(BA98,waarden!$D$4:$D$353,waarden!$E$4:$E$353)))","v":" "},null,{"$f":"IF(BC98=0,\" \",IF(OR(BC98<1,BC98>350),\" \",LOOKUP(BC98,waarden!$D$4:$D$353,waarden!$E$4:$E$353)))","v":" "},null,{"$f":"IF(BE98=0,\" \",IF(OR(BE98<1,BE98>350),\" \",LOOKUP(BE98,waarden!$D$4:$D$353,waarden!$E$4:$E$353)))","v":" "},null,{"$f":"IF(BG98=0,\" \",IF(OR(BG98<1,BG98>350),\" \",LOOKUP(BG98,waarden!$D$4:$D$353,waarden!$E$4:$E$353)))","v":" "},null,{"$f":"IF(BI98=0,\" \",IF(OR(BI98<1,BI98>350),\" \",LOOKUP(BI98,waarden!$D$4:$D$353,waarden!$E$4:$E$353)))","v":" "},null,{"$f":"IF(BK98=0,\" \",IF(OR(BK98<1,BK98>350),\" \",LOOKUP(BK98,waarden!$D$4:$D$353,waarden!$E$4:$E$353)))","v":" "},null,{"$f":"IF(BM98=0,\" \",IF(OR(BM98<1,BM98>350),\" \",LOOKUP(BM98,waarden!$D$4:$D$353,waarden!$E$4:$E$353)))","v":" "},0,0]
[null,null,null,"Passagier",null,{"$f":"IF(E99=0,\" \",IF(OR(E99<1,E99>350),\" \",LOOKUP(E99,waarden!$A$4:$A$353,waarden!$B$4:$B$353)))","v":" "},null,{"$f":"IF(G99=0,\" \",IF(OR(G99<1,G99>350),\" \",LOOKUP(G99,waarden!$A$4:$A$353,waarden!$B$4:$B$353)))","v":" "},null,{"$f":"IF(I99=0,\" \",IF(OR(I99<1,I99>350),\" \",LOOKUP(I99,waarden!$A$4:$A$353,waarden!$B$4:$B$353)))","v":" "},null,{"$f":"IF(K99=0,\" \",IF(OR(K99<1,K99>350),\" \",LOOKUP(K99,waarden!$A$4:$A$353,waarden!$B$4:$B$353)))","v":" "},null,{"$f":"IF(M99=0,\" \",IF(OR(M99<1,M99>350),\" \",LOOKUP(M99,waarden!$A$4:$A$353,waarden!$B$4:$B$353)))","v":" "},null,{"$f":"IF(O99=0,\" \",IF(OR(O99<1,O99>350),\" \",LOOKUP(O99,waarden!$A$4:$A$353,waarden!$B$4:$B$353)))","v":" "},null,{"$f":"IF(Q99=0,\" \",IF(OR(Q99<1,Q99>350),\" \",LOOKUP(Q99,waarden!$A$4:$A$353,waarden!$B$4:$B$353)))","v":" "},null,{"$f":"IF(S99=0,\" \",IF(OR(S99<1,S99>350),\" \",LOOKUP(S99,waarden!$A$4:$A$353,waarden!$B$4:$B$353)))","v":" "},null,{"$f":"IF(U99=0,\" \",IF(OR(U99<1,U99>350),\" \",LOOKUP(U99,waarden!$A$4:$A$353,waarden!$B$4:$B$353)))","v":" "},null,{"$f":"IF(W99=0,\" \",IF(OR(W99<1,W99>350),\" \",LOOKUP(W99,waarden!$A$4:$A$353,waarden!$B$4:$B$353)))","v":" "},null,{"$f":"IF(Y99=0,\" \",IF(OR(Y99<1,Y99>350),\" \",LOOKUP(Y99,waarden!$A$4:$A$353,waarden!$B$4:$B$353)))","v":" "},null,{"$f":"IF(AA99=0,\" \",IF(OR(AA99<1,AA99>350),\" \",LOOKUP(AA99,waarden!$A$4:$A$353,waarden!$B$4:$B$353)))","v":" "},null,{"$f":"IF(AC99=0,\" \",IF(OR(AC99<1,AC99>350),\" \",LOOKUP(AC99,waarden!$A$4:$A$353,waarden!$B$4:$B$353)))","v":" "},null,{"$f":"IF(AE99=0,\" \",IF(OR(AE99<1,AE99>350),\" \",LOOKUP(AE99,waarden!$A$4:$A$353,waarden!$B$4:$B$353)))","v":" "},null,{"$f":"IF(AG99=0,\" \",IF(OR(AG99<1,AG99>350),\" \",LOOKUP(AG99,waarden!$A$4:$A$353,waarden!$B$4:$B$353)))","v":" "},null,{"$f":"IF(AI99=0,\" \",IF(OR(AI99<1,AI99>350),\" \",LOOKUP(AI99,waarden!$A$4:$A$353,waarden!$B$4:$B$353)))","v":" "},null,{"$f":"IF(AK99=0,\" \",IF(OR(AK99<1,AK99>350),\" \",LOOKUP(AK99,waarden!$A$4:$A$353,waarden!$B$4:$B$353)))","v":" "},null,{"$f":"IF(AM99=0,\" \",IF(OR(AM99<1,AM99>350),\" \",LOOKUP(AM99,waarden!$A$4:$A$353,waarden!$B$4:$B$353)))","v":" "},null,{"$f":"IF(AO99=0,\" \",IF(OR(AO99<1,AO99>350),\" \",LOOKUP(AO99,waarden!$A$4:$A$353,waarden!$B$4:$B$353)))","v":" "},null,{"$f":"IF(AQ99=0,\" \",IF(OR(AQ99<1,AQ99>350),\" \",LOOKUP(AQ99,waarden!$A$4:$A$353,waarden!$B$4:$B$353)))","v":" "},null,{"$f":"IF(AS99=0,\" \",IF(OR(AS99<1,AS99>350),\" \",LOOKUP(AS99,waarden!$A$4:$A$353,waarden!$B$4:$B$353)))","v":" "},null,{"$f":"IF(AU99=0,\" \",IF(OR(AU99<1,AU99>350),\" \",LOOKUP(AU99,waarden!$A$4:$A$353,waarden!$B$4:$B$353)))","v":" "},null,{"$f":"IF(AW99=0,\" \",IF(OR(AW99<1,AW99>350),\" \",LOOKUP(AW99,waarden!$A$4:$A$353,waarden!$B$4:$B$353)))","v":" "},null,{"$f":"IF(AY99=0,\" \",IF(OR(AY99<1,AY99>350),\" \",LOOKUP(AY99,waarden!$A$4:$A$353,waarden!$B$4:$B$353)))","v":" "},null,{"$f":"IF(BA99=0,\" \",IF(OR(BA99<1,BA99>350),\" \",LOOKUP(BA99,waarden!$A$4:$A$353,waarden!$B$4:$B$353)))","v":" "},null,{"$f":"IF(BC99=0,\" \",IF(OR(BC99<1,BC99>350),\" \",LOOKUP(BC99,waarden!$A$4:$A$353,waarden!$B$4:$B$353)))","v":" "},null,{"$f":"IF(BE99=0,\" \",IF(OR(BE99<1,BE99>350),\" \",LOOKUP(BE99,waarden!$A$4:$A$353,waarden!$B$4:$B$353)))","v":" "},null,{"$f":"IF(BG99=0,\" \",IF(OR(BG99<1,BG99>350),\" \",LOOKUP(BG99,waarden!$A$4:$A$353,waarden!$B$4:$B$353)))","v":" "},null,{"$f":"IF(BI99=0,\" \",IF(OR(BI99<1,BI99>350),\" \",LOOKUP(BI99,waarden!$A$4:$A$353,waarden!$B$4:$B$353)))","v":" "},null,{"$f":"IF(BK99=0,\" \",IF(OR(BK99<1,BK99>350),\" \",LOOKUP(BK99,waarden!$A$4:$A$353,waarden!$B$4:$B$353)))","v":" "},null,{"$f":"IF(BM99=0,\" \",IF(OR(BM99<1,BM99>350),\" \",LOOKUP(BM99,waarden!$A$4:$A$353,waarden!$B$4:$B$353)))","v":" "},0,0]
[null,null,null,"Chauffeur personeel",null,{"$f":"IF(E100=0,\" \",IF(OR(E100<1,E100>350),\" \",LOOKUP(E100,waarden!$G$4:$G$353,waarden!$H$4:$H$353)))","v":" "},null,{"$f":"IF(G100=0,\" \",IF(OR(G100<1,G100>350),\" \",LOOKUP(G100,waarden!$G$4:$G$353,waarden!$H$4:$H$353)))","v":" "},null,{"$f":"IF(I100=0,\" \",IF(OR(I100<1,I100>350),\" \",LOOKUP(I100,waarden!$G$4:$G$353,waarden!$H$4:$H$353)))","v":" "},null,{"$f":"IF(K100=0,\" \",IF(OR(K100<1,K100>350),\" \",LOOKUP(K100,waarden!$G$4:$G$353,waarden!$H$4:$H$353)))","v":" "},null,{"$f":"IF(M100=0,\" \",IF(OR(M100<1,M100>350),\" \",LOOKUP(M100,waarden!$G$4:$G$353,waarden!$H$4:$H$353)))","v":" "},null,{"$f":"IF(O100=0,\" \",IF(OR(O100<1,O100>350),\" \",LOOKUP(O100,waarden!$G$4:$G$353,waarden!$H$4:$H$353)))","v":" "},null,{"$f":"IF(Q100=0,\" \",IF(OR(Q100<1,Q100>350),\" \",LOOKUP(Q100,waarden!$G$4:$G$353,waarden!$H$4:$H$353)))","v":" "},null,{"$f":"IF(S100=0,\" \",IF(OR(S100<1,S100>350),\" \",LOOKUP(S100,waarden!$G$4:$G$353,waarden!$H$4:$H$353)))","v":" "},null,{"$f":"IF(U100=0,\" \",IF(OR(U100<1,U100>350),\" \",LOOKUP(U100,waarden!$G$4:$G$353,waarden!$H$4:$H$353)))","v":" "},null,{"$f":"IF(W100=0,\" \",IF(OR(W100<1,W100>350),\" \",LOOKUP(W100,waarden!$G$4:$G$353,waarden!$H$4:$H$353)))","v":" "},null,{"$f":"IF(Y100=0,\" \",IF(OR(Y100<1,Y100>350),\" \",LOOKUP(Y100,waarden!$G$4:$G$353,waarden!$H$4:$H$353)))","v":" "},null,{"$f":"IF(AA100=0,\" \",IF(OR(AA100<1,AA100>350),\" \",LOOKUP(AA100,waarden!$G$4:$G$353,waarden!$H$4:$H$353)))","v":" "},null,{"$f":"IF(AC100=0,\" \",IF(OR(AC100<1,AC100>350),\" \",LOOKUP(AC100,waarden!$G$4:$G$353,waarden!$H$4:$H$353)))","v":" "},null,{"$f":"IF(AE100=0,\" \",IF(OR(AE100<1,AE100>350),\" \",LOOKUP(AE100,waarden!$G$4:$G$353,waarden!$H$4:$H$353)))","v":" "},null,{"$f":"IF(AG100=0,\" \",IF(OR(AG100<1,AG100>350),\" \",LOOKUP(AG100,waarden!$G$4:$G$353,waarden!$H$4:$H$353)))","v":" "},null,{"$f":"IF(AI100=0,\" \",IF(OR(AI100<1,AI100>350),\" \",LOOKUP(AI100,waarden!$G$4:$G$353,waarden!$H$4:$H$353)))","v":" "},null,{"$f":"IF(AK100=0,\" \",IF(OR(AK100<1,AK100>350),\" \",LOOKUP(AK100,waarden!$G$4:$G$353,waarden!$H$4:$H$353)))","v":" "},null,{"$f":"IF(AM100=0,\" \",IF(OR(AM100<1,AM100>350),\" \",LOOKUP(AM100,waarden!$G$4:$G$353,waarden!$H$4:$H$353)))","v":" "},null,{"$f":"IF(AO100=0,\" \",IF(OR(AO100<1,AO100>350),\" \",LOOKUP(AO100,waarden!$G$4:$G$353,waarden!$H$4:$H$353)))","v":" "},null,{"$f":"IF(AQ100=0,\" \",IF(OR(AQ100<1,AQ100>350),\" \",LOOKUP(AQ100,waarden!$G$4:$G$353,waarden!$H$4:$H$353)))","v":" "},null,{"$f":"IF(AS100=0,\" \",IF(OR(AS100<1,AS100>350),\" \",LOOKUP(AS100,waarden!$G$4:$G$353,waarden!$H$4:$H$353)))","v":" "},null,{"$f":"IF(AU100=0,\" \",IF(OR(AU100<1,AU100>350),\" \",LOOKUP(AU100,waarden!$G$4:$G$353,waarden!$H$4:$H$353)))","v":" "},null,{"$f":"IF(AW100=0,\" \",IF(OR(AW100<1,AW100>350),\" \",LOOKUP(AW100,waarden!$G$4:$G$353,waarden!$H$4:$H$353)))","v":" "},null,{"$f":"IF(AY100=0,\" \",IF(OR(AY100<1,AY100>350),\" \",LOOKUP(AY100,waarden!$G$4:$G$353,waarden!$H$4:$H$353)))","v":" "},null,{"$f":"IF(BA100=0,\" \",IF(OR(BA100<1,BA100>350),\" \",LOOKUP(BA100,waarden!$G$4:$G$353,waarden!$H$4:$H$353)))","v":" "},null,{"$f":"IF(BC100=0,\" \",IF(OR(BC100<1,BC100>350),\" \",LOOKUP(BC100,waarden!$G$4:$G$353,waarden!$H$4:$H$353)))","v":" "},null,{"$f":"IF(BE100=0,\" \",IF(OR(BE100<1,BE100>350),\" \",LOOKUP(BE100,waarden!$G$4:$G$353,waarden!$H$4:$H$353)))","v":" "},null,{"$f":"IF(BG100=0,\" \",IF(OR(BG100<1,BG100>350),\" \",LOOKUP(BG100,waarden!$G$4:$G$353,waarden!$H$4:$H$353)))","v":" "},null,{"$f":"IF(BI100=0,\" \",IF(OR(BI100<1,BI100>350),\" \",LOOKUP(BI100,waarden!$G$4:$G$353,waarden!$H$4:$H$353)))","v":" "},null,{"$f":"IF(BK100=0,\" \",IF(OR(BK100<1,BK100>350),\" \",LOOKUP(BK100,waarden!$G$4:$G$353,waarden!$H$4:$H$353)))","v":" "},null,{"$f":"IF(BM100=0,\" \",IF(OR(BM100<1,BM100>350),\" \",LOOKUP(BM100,waarden!$G$4:$G$353,waarden!$H$4:$H$353)))","v":" "},0,{"$f":"SUM(F100,H100,J100,L100,N100,P100,R100,T100,V100,X100,Z100,AB100,AD100,AF100,AH100,AJ100,AL100,AN100,AP100,AR100,AT100,AV100,AX100,AZ100,BB100,BD100,BF100,BH100,BJ100,BL100,BN100)","v":0}]
[null,null,null,"Chauffeur alleen",null,{"$f":"IF(E101=0,\" \",IF(OR(E101<1,E101>350),\" \",LOOKUP(E101,waarden!$D$4:$D$353,waarden!$E$4:$E$353)))","v":" "},null,{"$f":"IF(G101=0,\" \",IF(OR(G101<1,G101>350),\" \",LOOKUP(G101,waarden!$D$4:$D$353,waarden!$E$4:$E$353)))","v":" "},null,{"$f":"IF(I101=0,\" \",IF(OR(I101<1,I101>350),\" \",LOOKUP(I101,waarden!$D$4:$D$353,waarden!$E$4:$E$353)))","v":" "},null,{"$f":"IF(K101=0,\" \",IF(OR(K101<1,K101>350),\" \",LOOKUP(K101,waarden!$D$4:$D$353,waarden!$E$4:$E$353)))","v":" "},null,{"$f":"IF(M101=0,\" \",IF(OR(M101<1,M101>350),\" \",LOOKUP(M101,waarden!$D$4:$D$353,waarden!$E$4:$E$353)))","v":" "},null,{"$f":"IF(O101=0,\" \",IF(OR(O101<1,O101>350),\" \",LOOKUP(O101,waarden!$D$4:$D$353,waarden!$E$4:$E$353)))","v":" "},null,{"$f":"IF(Q101=0,\" \",IF(OR(Q101<1,Q101>350),\" \",LOOKUP(Q101,waarden!$D$4:$D$353,waarden!$E$4:$E$353)))","v":" "},null,{"$f":"IF(S101=0,\" \",IF(OR(S101<1,S101>350),\" \",LOOKUP(S101,waarden!$D$4:$D$353,waarden!$E$4:$E$353)))","v":" "},null,{"$f":"IF(U101=0,\" \",IF(OR(U101<1,U101>350),\" \",LOOKUP(U101,waarden!$D$4:$D$353,waarden!$E$4:$E$353)))","v":" "},null,{"$f":"IF(W101=0,\" \",IF(OR(W101<1,W101>350),\" \",LOOKUP(W101,waarden!$D$4:$D$353,waarden!$E$4:$E$353)))","v":" "},null,{"$f":"IF(Y101=0,\" \",IF(OR(Y101<1,Y101>350),\" \",LOOKUP(Y101,waarden!$D$4:$D$353,waarden!$E$4:$E$353)))","v":" "},null,{"$f":"IF(AA101=0,\" \",IF(OR(AA101<1,AA101>350),\" \",LOOKUP(AA101,waarden!$D$4:$D$353,waarden!$E$4:$E$353)))","v":" "},null,{"$f":"IF(AC101=0,\" \",IF(OR(AC101<1,AC101>350),\" \",LOOKUP(AC101,waarden!$D$4:$D$353,waarden!$E$4:$E$353)))","v":" "},null,{"$f":"IF(AE101=0,\" \",IF(OR(AE101<1,AE101>350),\" \",LOOKUP(AE101,waarden!$D$4:$D$353,waarden!$E$4:$E$353)))","v":" "},null,{"$f":"IF(AG101=0,\" \",IF(OR(AG101<1,AG101>350),\" \",LOOKUP(AG101,waarden!$D$4:$D$353,waarden!$E$4:$E$353)))","v":" "},null,{"$f":"IF(AI101=0,\" \",IF(OR(AI101<1,AI101>350),\" \",LOOKUP(AI101,waarden!$D$4:$D$353,waarden!$E$4:$E$353)))","v":" "},null,{"$f":"IF(AK101=0,\" \",IF(OR(AK101<1,AK101>350),\" \",LOOKUP(AK101,waarden!$D$4:$D$353,waarden!$E$4:$E$353)))","v":" "},null,{"$f":"IF(AM101=0,\" \",IF(OR(AM101<1,AM101>350),\" \",LOOKUP(AM101,waarden!$D$4:$D$353,waarden!$E$4:$E$353)))","v":" "},null,{"$f":"IF(AO101=0,\" \",IF(OR(AO101<1,AO101>350),\" \",LOOKUP(AO101,waarden!$D$4:$D$353,waarden!$E$4:$E$353)))","v":" "},null,{"$f":"IF(AQ101=0,\" \",IF(OR(AQ101<1,AQ101>350),\" \",LOOKUP(AQ101,waarden!$D$4:$D$353,waarden!$E$4:$E$353)))","v":" "},null,{"$f":"IF(AS101=0,\" \",IF(OR(AS101<1,AS101>350),\" \",LOOKUP(AS101,waarden!$D$4:$D$353,waarden!$E$4:$E$353)))","v":" "},null,{"$f":"IF(AU101=0,\" \",IF(OR(AU101<1,AU101>350),\" \",LOOKUP(AU101,waarden!$D$4:$D$353,waarden!$E$4:$E$353)))","v":" "},null,{"$f":"IF(AW101=0,\" \",IF(OR(AW101<1,AW101>350),\" \",LOOKUP(AW101,waarden!$D$4:$D$353,waarden!$E$4:$E$353)))","v":" "},null,{"$f":"IF(AY101=0,\" \",IF(OR(AY101<1,AY101>350),\" \",LOOKUP(AY101,waarden!$D$4:$D$353,waarden!$E$4:$E$353)))","v":" "},null,{"$f":"IF(BA101=0,\" \",IF(OR(BA101<1,BA101>350),\" \",LOOKUP(BA101,waarden!$D$4:$D$353,waarden!$E$4:$E$353)))","v":" "},null,{"$f":"IF(BC101=0,\" \",IF(OR(BC101<1,BC101>350),\" \",LOOKUP(BC101,waarden!$D$4:$D$353,waarden!$E$4:$E$353)))","v":" "},null,{"$f":"IF(BE101=0,\" \",IF(OR(BE101<1,BE101>350),\" \",LOOKUP(BE101,waarden!$D$4:$D$353,waarden!$E$4:$E$353)))","v":" "},null,{"$f":"IF(BG101=0,\" \",IF(OR(BG101<1,BG101>350),\" \",LOOKUP(BG101,waarden!$D$4:$D$353,waarden!$E$4:$E$353)))","v":" "},null,{"$f":"IF(BI101=0,\" \",IF(OR(BI101<1,BI101>350),\" \",LOOKUP(BI101,waarden!$D$4:$D$353,waarden!$E$4:$E$353)))","v":" "},null,{"$f":"IF(BK101=0,\" \",IF(OR(BK101<1,BK101>350),\" \",LOOKUP(BK101,waarden!$D$4:$D$353,waarden!$E$4:$E$353)))","v":" "},null,{"$f":"IF(BM101=0,\" \",IF(OR(BM101<1,BM101>350),\" \",LOOKUP(BM101,waarden!$D$4:$D$353,waarden!$E$4:$E$353)))","v":" "},0,0]
[null,null,null,"Passagier",null,{"$f":"IF(E102=0,\" \",IF(OR(E102<1,E102>350),\" \",LOOKUP(E102,waarden!$A$4:$A$353,waarden!$B$4:$B$353)))","v":" "},null,{"$f":"IF(G102=0,\" \",IF(OR(G102<1,G102>350),\" \",LOOKUP(G102,waarden!$A$4:$A$353,waarden!$B$4:$B$353)))","v":" "},null,{"$f":"IF(I102=0,\" \",IF(OR(I102<1,I102>350),\" \",LOOKUP(I102,waarden!$A$4:$A$353,waarden!$B$4:$B$353)))","v":" "},null,{"$f":"IF(K102=0,\" \",IF(OR(K102<1,K102>350),\" \",LOOKUP(K102,waarden!$A$4:$A$353,waarden!$B$4:$B$353)))","v":" "},null,{"$f":"IF(M102=0,\" \",IF(OR(M102<1,M102>350),\" \",LOOKUP(M102,waarden!$A$4:$A$353,waarden!$B$4:$B$353)))","v":" "},null,{"$f":"IF(O102=0,\" \",IF(OR(O102<1,O102>350),\" \",LOOKUP(O102,waarden!$A$4:$A$353,waarden!$B$4:$B$353)))","v":" "},null,{"$f":"IF(Q102=0,\" \",IF(OR(Q102<1,Q102>350),\" \",LOOKUP(Q102,waarden!$A$4:$A$353,waarden!$B$4:$B$353)))","v":" "},null,{"$f":"IF(S102=0,\" \",IF(OR(S102<1,S102>350),\" \",LOOKUP(S102,waarden!$A$4:$A$353,waarden!$B$4:$B$353)))","v":" "},null,{"$f":"IF(U102=0,\" \",IF(OR(U102<1,U102>350),\" \",LOOKUP(U102,waarden!$A$4:$A$353,waarden!$B$4:$B$353)))","v":" "},null,{"$f":"IF(W102=0,\" \",IF(OR(W102<1,W102>350),\" \",LOOKUP(W102,waarden!$A$4:$A$353,waarden!$B$4:$B$353)))","v":" "},null,{"$f":"IF(Y102=0,\" \",IF(OR(Y102<1,Y102>350),\" \",LOOKUP(Y102,waarden!$A$4:$A$353,waarden!$B$4:$B$353)))","v":" "},null,{"$f":"IF(AA102=0,\" \",IF(OR(AA102<1,AA102>350),\" \",LOOKUP(AA102,waarden!$A$4:$A$353,waarden!$B$4:$B$353)))","v":" "},null,{"$f":"IF(AC102=0,\" \",IF(OR(AC102<1,AC102>350),\" \",LOOKUP(AC102,waarden!$A$4:$A$353,waarden!$B$4:$B$353)))","v":" "},null,{"$f":"IF(AE102=0,\" \",IF(OR(AE102<1,AE102>350),\" \",LOOKUP(AE102,waarden!$A$4:$A$353,waarden!$B$4:$B$353)))","v":" "},null,{"$f":"IF(AG102=0,\" \",IF(OR(AG102<1,AG102>350),\" \",LOOKUP(AG102,waarden!$A$4:$A$353,waarden!$B$4:$B$353)))","v":" "},null,{"$f":"IF(AI102=0,\" \",IF(OR(AI102<1,AI102>350),\" \",LOOKUP(AI102,waarden!$A$4:$A$353,waarden!$B$4:$B$353)))","v":" "},null,{"$f":"IF(AK102=0,\" \",IF(OR(AK102<1,AK102>350),\" \",LOOKUP(AK102,waarden!$A$4:$A$353,waarden!$B$4:$B$353)))","v":" "},null,{"$f":"IF(AM102=0,\" \",IF(OR(AM102<1,AM102>350),\" \",LOOKUP(AM102,waarden!$A$4:$A$353,waarden!$B$4:$B$353)))","v":" "},null,{"$f":"IF(AO102=0,\" \",IF(OR(AO102<1,AO102>350),\" \",LOOKUP(AO102,waarden!$A$4:$A$353,waarden!$B$4:$B$353)))","v":" "},null,{"$f":"IF(AQ102=0,\" \",IF(OR(AQ102<1,AQ102>350),\" \",LOOKUP(AQ102,waarden!$A$4:$A$353,waarden!$B$4:$B$353)))","v":" "},null,{"$f":"IF(AS102=0,\" \",IF(OR(AS102<1,AS102>350),\" \",LOOKUP(AS102,waarden!$A$4:$A$353,waarden!$B$4:$B$353)))","v":" "},null,{"$f":"IF(AU102=0,\" \",IF(OR(AU102<1,AU102>350),\" \",LOOKUP(AU102,waarden!$A$4:$A$353,waarden!$B$4:$B$353)))","v":" "},null,{"$f":"IF(AW102=0,\" \",IF(OR(AW102<1,AW102>350),\" \",LOOKUP(AW102,waarden!$A$4:$A$353,waarden!$B$4:$B$353)))","v":" "},null,{"$f":"IF(AY102=0,\" \",IF(OR(AY102<1,AY102>350),\" \",LOOKUP(AY102,waarden!$A$4:$A$353,waarden!$B$4:$B$353)))","v":" "},null,{"$f":"IF(BA102=0,\" \",IF(OR(BA102<1,BA102>350),\" \",LOOKUP(BA102,waarden!$A$4:$A$353,waarden!$B$4:$B$353)))","v":" "},null,{"$f":"IF(BC102=0,\" \",IF(OR(BC102<1,BC102>350),\" \",LOOKUP(BC102,waarden!$A$4:$A$353,waarden!$B$4:$B$353)))","v":" "},null,{"$f":"IF(BE102=0,\" \",IF(OR(BE102<1,BE102>350),\" \",LOOKUP(BE102,waarden!$A$4:$A$353,waarden!$B$4:$B$353)))","v":" "},null,{"$f":"IF(BG102=0,\" \",IF(OR(BG102<1,BG102>350),\" \",LOOKUP(BG102,waarden!$A$4:$A$353,waarden!$B$4:$B$353)))","v":" "},null,{"$f":"IF(BI102=0,\" \",IF(OR(BI102<1,BI102>350),\" \",LOOKUP(BI102,waarden!$A$4:$A$353,waarden!$B$4:$B$353)))","v":" "},null,{"$f":"IF(BK102=0,\" \",IF(OR(BK102<1,BK102>350),\" \",LOOKUP(BK102,waarden!$A$4:$A$353,waarden!$B$4:$B$353)))","v":" "},null,{"$f":"IF(BM102=0,\" \",IF(OR(BM102<1,BM102>350),\" \",LOOKUP(BM102,waarden!$A$4:$A$353,waarden!$B$4:$B$353)))","v":" "},0,0]
[null,null,null,"Chauffeur personeel",null,{"$f":"IF(E103=0,\" \",IF(OR(E103<1,E103>350),\" \",LOOKUP(E103,waarden!$G$4:$G$353,waarden!$H$4:$H$353)))","v":" "},null,{"$f":"IF(G103=0,\" \",IF(OR(G103<1,G103>350),\" \",LOOKUP(G103,waarden!$G$4:$G$353,waarden!$H$4:$H$353)))","v":" "},null,{"$f":"IF(I103=0,\" \",IF(OR(I103<1,I103>350),\" \",LOOKUP(I103,waarden!$G$4:$G$353,waarden!$H$4:$H$353)))","v":" "},null,{"$f":"IF(K103=0,\" \",IF(OR(K103<1,K103>350),\" \",LOOKUP(K103,waarden!$G$4:$G$353,waarden!$H$4:$H$353)))","v":" "},null,{"$f":"IF(M103=0,\" \",IF(OR(M103<1,M103>350),\" \",LOOKUP(M103,waarden!$G$4:$G$353,waarden!$H$4:$H$353)))","v":" "},null,{"$f":"IF(O103=0,\" \",IF(OR(O103<1,O103>350),\" \",LOOKUP(O103,waarden!$G$4:$G$353,waarden!$H$4:$H$353)))","v":" "},null,{"$f":"IF(Q103=0,\" \",IF(OR(Q103<1,Q103>350),\" \",LOOKUP(Q103,waarden!$G$4:$G$353,waarden!$H$4:$H$353)))","v":" "},null,{"$f":"IF(S103=0,\" \",IF(OR(S103<1,S103>350),\" \",LOOKUP(S103,waarden!$G$4:$G$353,waarden!$H$4:$H$353)))","v":" "},null,{"$f":"IF(U103=0,\" \",IF(OR(U103<1,U103>350),\" \",LOOKUP(U103,waarden!$G$4:$G$353,waarden!$H$4:$H$353)))","v":" "},null,{"$f":"IF(W103=0,\" \",IF(OR(W103<1,W103>350),\" \",LOOKUP(W103,waarden!$G$4:$G$353,waarden!$H$4:$H$353)))","v":" "},null,{"$f":"IF(Y103=0,\" \",IF(OR(Y103<1,Y103>350),\" \",LOOKUP(Y103,waarden!$G$4:$G$353,waarden!$H$4:$H$353)))","v":" "},null,{"$f":"IF(AA103=0,\" \",IF(OR(AA103<1,AA103>350),\" \",LOOKUP(AA103,waarden!$G$4:$G$353,waarden!$H$4:$H$353)))","v":" "},null,{"$f":"IF(AC103=0,\" \",IF(OR(AC103<1,AC103>350),\" \",LOOKUP(AC103,waarden!$G$4:$G$353,waarden!$H$4:$H$353)))","v":" "},null,{"$f":"IF(AE103=0,\" \",IF(OR(AE103<1,AE103>350),\" \",LOOKUP(AE103,waarden!$G$4:$G$353,waarden!$H$4:$H$353)))","v":" "},null,{"$f":"IF(AG103=0,\" \",IF(OR(AG103<1,AG103>350),\" \",LOOKUP(AG103,waarden!$G$4:$G$353,waarden!$H$4:$H$353)))","v":" "},null,{"$f":"IF(AI103=0,\" \",IF(OR(AI103<1,AI103>350),\" \",LOOKUP(AI103,waarden!$G$4:$G$353,waarden!$H$4:$H$353)))","v":" "},null,{"$f":"IF(AK103=0,\" \",IF(OR(AK103<1,AK103>350),\" \",LOOKUP(AK103,waarden!$G$4:$G$353,waarden!$H$4:$H$353)))","v":" "},null,{"$f":"IF(AM103=0,\" \",IF(OR(AM103<1,AM103>350),\" \",LOOKUP(AM103,waarden!$G$4:$G$353,waarden!$H$4:$H$353)))","v":" "},null,{"$f":"IF(AO103=0,\" \",IF(OR(AO103<1,AO103>350),\" \",LOOKUP(AO103,waarden!$G$4:$G$353,waarden!$H$4:$H$353)))","v":" "},null,{"$f":"IF(AQ103=0,\" \",IF(OR(AQ103<1,AQ103>350),\" \",LOOKUP(AQ103,waarden!$G$4:$G$353,waarden!$H$4:$H$353)))","v":" "},null,{"$f":"IF(AS103=0,\" \",IF(OR(AS103<1,AS103>350),\" \",LOOKUP(AS103,waarden!$G$4:$G$353,waarden!$H$4:$H$353)))","v":" "},null,{"$f":"IF(AU103=0,\" \",IF(OR(AU103<1,AU103>350),\" \",LOOKUP(AU103,waarden!$G$4:$G$353,waarden!$H$4:$H$353)))","v":" "},null,{"$f":"IF(AW103=0,\" \",IF(OR(AW103<1,AW103>350),\" \",LOOKUP(AW103,waarden!$G$4:$G$353,waarden!$H$4:$H$353)))","v":" "},null,{"$f":"IF(AY103=0,\" \",IF(OR(AY103<1,AY103>350),\" \",LOOKUP(AY103,waarden!$G$4:$G$353,waarden!$H$4:$H$353)))","v":" "},null,{"$f":"IF(BA103=0,\" \",IF(OR(BA103<1,BA103>350),\" \",LOOKUP(BA103,waarden!$G$4:$G$353,waarden!$H$4:$H$353)))","v":" "},null,{"$f":"IF(BC103=0,\" \",IF(OR(BC103<1,BC103>350),\" \",LOOKUP(BC103,waarden!$G$4:$G$353,waarden!$H$4:$H$353)))","v":" "},null,{"$f":"IF(BE103=0,\" \",IF(OR(BE103<1,BE103>350),\" \",LOOKUP(BE103,waarden!$G$4:$G$353,waarden!$H$4:$H$353)))","v":" "},null,{"$f":"IF(BG103=0,\" \",IF(OR(BG103<1,BG103>350),\" \",LOOKUP(BG103,waarden!$G$4:$G$353,waarden!$H$4:$H$353)))","v":" "},null,{"$f":"IF(BI103=0,\" \",IF(OR(BI103<1,BI103>350),\" \",LOOKUP(BI103,waarden!$G$4:$G$353,waarden!$H$4:$H$353)))","v":" "},null,{"$f":"IF(BK103=0,\" \",IF(OR(BK103<1,BK103>350),\" \",LOOKUP(BK103,waarden!$G$4:$G$353,waarden!$H$4:$H$353)))","v":" "},null,{"$f":"IF(BM103=0,\" \",IF(OR(BM103<1,BM103>350),\" \",LOOKUP(BM103,waarden!$G$4:$G$353,waarden!$H$4:$H$353)))","v":" "},0,{"$f":"SUM(F103,H103,J103,L103,N103,P103,R103,T103,V103,X103,Z103,AB103,AD103,AF103,AH103,AJ103,AL103,AN103,AP103,AR103,AT103,AV103,AX103,AZ103,BB103,BD103,BF103,BH103,BJ103,BL103,BN103)","v":0}]
[null,null,null,"Chauffeur alleen",null,{"$f":"IF(E104=0,\" \",IF(OR(E104<1,E104>350),\" \",LOOKUP(E104,waarden!$D$4:$D$353,waarden!$E$4:$E$353)))","v":" "},null,{"$f":"IF(G104=0,\" \",IF(OR(G104<1,G104>350),\" \",LOOKUP(G104,waarden!$D$4:$D$353,waarden!$E$4:$E$353)))","v":" "},null,{"$f":"IF(I104=0,\" \",IF(OR(I104<1,I104>350),\" \",LOOKUP(I104,waarden!$D$4:$D$353,waarden!$E$4:$E$353)))","v":" "},null,{"$f":"IF(K104=0,\" \",IF(OR(K104<1,K104>350),\" \",LOOKUP(K104,waarden!$D$4:$D$353,waarden!$E$4:$E$353)))","v":" "},null,{"$f":"IF(M104=0,\" \",IF(OR(M104<1,M104>350),\" \",LOOKUP(M104,waarden!$D$4:$D$353,waarden!$E$4:$E$353)))","v":" "},null,{"$f":"IF(O104=0,\" \",IF(OR(O104<1,O104>350),\" \",LOOKUP(O104,waarden!$D$4:$D$353,waarden!$E$4:$E$353)))","v":" "},null,{"$f":"IF(Q104=0,\" \",IF(OR(Q104<1,Q104>350),\" \",LOOKUP(Q104,waarden!$D$4:$D$353,waarden!$E$4:$E$353)))","v":" "},null,{"$f":"IF(S104=0,\" \",IF(OR(S104<1,S104>350),\" \",LOOKUP(S104,waarden!$D$4:$D$353,waarden!$E$4:$E$353)))","v":" "},null,{"$f":"IF(U104=0,\" \",IF(OR(U104<1,U104>350),\" \",LOOKUP(U104,waarden!$D$4:$D$353,waarden!$E$4:$E$353)))","v":" "},null,{"$f":"IF(W104=0,\" \",IF(OR(W104<1,W104>350),\" \",LOOKUP(W104,waarden!$D$4:$D$353,waarden!$E$4:$E$353)))","v":" "},null,{"$f":"IF(Y104=0,\" \",IF(OR(Y104<1,Y104>350),\" \",LOOKUP(Y104,waarden!$D$4:$D$353,waarden!$E$4:$E$353)))","v":" "},null,{"$f":"IF(AA104=0,\" \",IF(OR(AA104<1,AA104>350),\" \",LOOKUP(AA104,waarden!$D$4:$D$353,waarden!$E$4:$E$353)))","v":" "},null,{"$f":"IF(AC104=0,\" \",IF(OR(AC104<1,AC104>350),\" \",LOOKUP(AC104,waarden!$D$4:$D$353,waarden!$E$4:$E$353)))","v":" "},null,{"$f":"IF(AE104=0,\" \",IF(OR(AE104<1,AE104>350),\" \",LOOKUP(AE104,waarden!$D$4:$D$353,waarden!$E$4:$E$353)))","v":" "},null,{"$f":"IF(AG104=0,\" \",IF(OR(AG104<1,AG104>350),\" \",LOOKUP(AG104,waarden!$D$4:$D$353,waarden!$E$4:$E$353)))","v":" "},null,{"$f":"IF(AI104=0,\" \",IF(OR(AI104<1,AI104>350),\" \",LOOKUP(AI104,waarden!$D$4:$D$353,waarden!$E$4:$E$353)))","v":" "},null,{"$f":"IF(AK104=0,\" \",IF(OR(AK104<1,AK104>350),\" \",LOOKUP(AK104,waarden!$D$4:$D$353,waarden!$E$4:$E$353)))","v":" "},null,{"$f":"IF(AM104=0,\" \",IF(OR(AM104<1,AM104>350),\" \",LOOKUP(AM104,waarden!$D$4:$D$353,waarden!$E$4:$E$353)))","v":" "},null,{"$f":"IF(AO104=0,\" \",IF(OR(AO104<1,AO104>350),\" \",LOOKUP(AO104,waarden!$D$4:$D$353,waarden!$E$4:$E$353)))","v":" "},null,{"$f":"IF(AQ104=0,\" \",IF(OR(AQ104<1,AQ104>350),\" \",LOOKUP(AQ104,waarden!$D$4:$D$353,waarden!$E$4:$E$353)))","v":" "},null,{"$f":"IF(AS104=0,\" \",IF(OR(AS104<1,AS104>350),\" \",LOOKUP(AS104,waarden!$D$4:$D$353,waarden!$E$4:$E$353)))","v":" "},null,{"$f":"IF(AU104=0,\" \",IF(OR(AU104<1,AU104>350),\" \",LOOKUP(AU104,waarden!$D$4:$D$353,waarden!$E$4:$E$353)))","v":" "},null,{"$f":"IF(AW104=0,\" \",IF(OR(AW104<1,AW104>350),\" \",LOOKUP(AW104,waarden!$D$4:$D$353,waarden!$E$4:$E$353)))","v":" "},null,{"$f":"IF(AY104=0,\" \",IF(OR(AY104<1,AY104>350),\" \",LOOKUP(AY104,waarden!$D$4:$D$353,waarden!$E$4:$E$353)))","v":" "},null,{"$f":"IF(BA104=0,\" \",IF(OR(BA104<1,BA104>350),\" \",LOOKUP(BA104,waarden!$D$4:$D$353,waarden!$E$4:$E$353)))","v":" "},null,{"$f":"IF(BC104=0,\" \",IF(OR(BC104<1,BC104>350),\" \",LOOKUP(BC104,waarden!$D$4:$D$353,waarden!$E$4:$E$353)))","v":" "},null,{"$f":"IF(BE104=0,\" \",IF(OR(BE104<1,BE104>350),\" \",LOOKUP(BE104,waarden!$D$4:$D$353,waarden!$E$4:$E$353)))","v":" "},null,{"$f":"IF(BG104=0,\" \",IF(OR(BG104<1,BG104>350),\" \",LOOKUP(BG104,waarden!$D$4:$D$353,waarden!$E$4:$E$353)))","v":" "},null,{"$f":"IF(BI104=0,\" \",IF(OR(BI104<1,BI104>350),\" \",LOOKUP(BI104,waarden!$D$4:$D$353,waarden!$E$4:$E$353)))","v":" "},null,{"$f":"IF(BK104=0,\" \",IF(OR(BK104<1,BK104>350),\" \",LOOKUP(BK104,waarden!$D$4:$D$353,waarden!$E$4:$E$353)))","v":" "},null,{"$f":"IF(BM104=0,\" \",IF(OR(BM104<1,BM104>350),\" \",LOOKUP(BM104,waarden!$D$4:$D$353,waarden!$E$4:$E$353)))","v":" "},{"$f":"SUM(E104,G104,I104,K104,M104,O104,Q104,S104,U104,W104,Y104,AA104,AC104,AE104,AG104,AI104,AK104,AM104,AO104,AQ104,AS104,AU104,AW104,AY104,BA104,BC104,BE104,BG104,BI104,BK104,BM104)","v":0},0]
[null,null,null,"Passagier",null,{"$f":"IF(E105=0,\" \",IF(OR(E105<1,E105>350),\" \",LOOKUP(E105,waarden!$A$4:$A$353,waarden!$B$4:$B$353)))","v":" "},null,{"$f":"IF(G105=0,\" \",IF(OR(G105<1,G105>350),\" \",LOOKUP(G105,waarden!$A$4:$A$353,waarden!$B$4:$B$353)))","v":" "},null,{"$f":"IF(I105=0,\" \",IF(OR(I105<1,I105>350),\" \",LOOKUP(I105,waarden!$A$4:$A$353,waarden!$B$4:$B$353)))","v":" "},null,{"$f":"IF(K105=0,\" \",IF(OR(K105<1,K105>350),\" \",LOOKUP(K105,waarden!$A$4:$A$353,waarden!$B$4:$B$353)))","v":" "},null,{"$f":"IF(M105=0,\" \",IF(OR(M105<1,M105>350),\" \",LOOKUP(M105,waarden!$A$4:$A$353,waarden!$B$4:$B$353)))","v":" "},null,{"$f":"IF(O105=0,\" \",IF(OR(O105<1,O105>350),\" \",LOOKUP(O105,waarden!$A$4:$A$353,waarden!$B$4:$B$353)))","v":" "},null,{"$f":"IF(Q105=0,\" \",IF(OR(Q105<1,Q105>350),\" \",LOOKUP(Q105,waarden!$A$4:$A$353,waarden!$B$4:$B$353)))","v":" "},null,{"$f":"IF(S105=0,\" \",IF(OR(S105<1,S105>350),\" \",LOOKUP(S105,waarden!$A$4:$A$353,waarden!$B$4:$B$353)))","v":" "},null,{"$f":"IF(U105=0,\" \",IF(OR(U105<1,U105>350),\" \",LOOKUP(U105,waarden!$A$4:$A$353,waarden!$B$4:$B$353)))","v":" "},null,{"$f":"IF(W105=0,\" \",IF(OR(W105<1,W105>350),\" \",LOOKUP(W105,waarden!$A$4:$A$353,waarden!$B$4:$B$353)))","v":" "},null,{"$f":"IF(Y105=0,\" \",IF(OR(Y105<1,Y105>350),\" \",LOOKUP(Y105,waarden!$A$4:$A$353,waarden!$B$4:$B$353)))","v":" "},null,{"$f":"IF(AA105=0,\" \",IF(OR(AA105<1,AA105>350),\" \",LOOKUP(AA105,waarden!$A$4:$A$353,waarden!$B$4:$B$353)))","v":" "},null,{"$f":"IF(AC105=0,\" \",IF(OR(AC105<1,AC105>350),\" \",LOOKUP(AC105,waarden!$A$4:$A$353,waarden!$B$4:$B$353)))","v":" "},null,{"$f":"IF(AE105=0,\" \",IF(OR(AE105<1,AE105>350),\" \",LOOKUP(AE105,waarden!$A$4:$A$353,waarden!$B$4:$B$353)))","v":" "},null,{"$f":"IF(AG105=0,\" \",IF(OR(AG105<1,AG105>350),\" \",LOOKUP(AG105,waarden!$A$4:$A$353,waarden!$B$4:$B$353)))","v":" "},null,{"$f":"IF(AI105=0,\" \",IF(OR(AI105<1,AI105>350),\" \",LOOKUP(AI105,waarden!$A$4:$A$353,waarden!$B$4:$B$353)))","v":" "},null,{"$f":"IF(AK105=0,\" \",IF(OR(AK105<1,AK105>350),\" \",LOOKUP(AK105,waarden!$A$4:$A$353,waarden!$B$4:$B$353)))","v":" "},null,{"$f":"IF(AM105=0,\" \",IF(OR(AM105<1,AM105>350),\" \",LOOKUP(AM105,waarden!$A$4:$A$353,waarden!$B$4:$B$353)))","v":" "},null,{"$f":"IF(AO105=0,\" \",IF(OR(AO105<1,AO105>350),\" \",LOOKUP(AO105,waarden!$A$4:$A$353,waarden!$B$4:$B$353)))","v":" "},null,{"$f":"IF(AQ105=0,\" \",IF(OR(AQ105<1,AQ105>350),\" \",LOOKUP(AQ105,waarden!$A$4:$A$353,waarden!$B$4:$B$353)))","v":" "},null,{"$f":"IF(AS105=0,\" \",IF(OR(AS105<1,AS105>350),\" \",LOOKUP(AS105,waarden!$A$4:$A$353,waarden!$B$4:$B$353)))","v":" "},null,{"$f":"IF(AU105=0,\" \",IF(OR(AU105<1,AU105>350),\" \",LOOKUP(AU105,waarden!$A$4:$A$353,waarden!$B$4:$B$353)))","v":" "},null,{"$f":"IF(AW105=0,\" \",IF(OR(AW105<1,AW105>350),\" \",LOOKUP(AW105,waarden!$A$4:$A$353,waarden!$B$4:$B$353)))","v":" "},null,{"$f":"IF(AY105=0,\" \",IF(OR(AY105<1,AY105>350),\" \",LOOKUP(AY105,waarden!$A$4:$A$353,waarden!$B$4:$B$353)))","v":" "},null,{"$f":"IF(BA105=0,\" \",IF(OR(BA105<1,BA105>350),\" \",LOOKUP(BA105,waarden!$A$4:$A$353,waarden!$B$4:$B$353)))","v":" "},null,{"$f":"IF(BC105=0,\" \",IF(OR(BC105<1,BC105>350),\" \",LOOKUP(BC105,waarden!$A$4:$A$353,waarden!$B$4:$B$353)))","v":" "},null,{"$f":"IF(BE105=0,\" \",IF(OR(BE105<1,BE105>350),\" \",LOOKUP(BE105,waarden!$A$4:$A$353,waarden!$B$4:$B$353)))","v":" "},null,{"$f":"IF(BG105=0,\" \",IF(OR(BG105<1,BG105>350),\" \",LOOKUP(BG105,waarden!$A$4:$A$353,waarden!$B$4:$B$353)))","v":" "},null,{"$f":"IF(BI105=0,\" \",IF(OR(BI105<1,BI105>350),\" \",LOOKUP(BI105,waarden!$A$4:$A$353,waarden!$B$4:$B$353)))","v":" "},null,{"$f":"IF(BK105=0,\" \",IF(OR(BK105<1,BK105>350),\" \",LOOKUP(BK105,waarden!$A$4:$A$353,waarden!$B$4:$B$353)))","v":" "},null,{"$f":"IF(BM105=0,\" \",IF(OR(BM105<1,BM105>350),\" \",LOOKUP(BM105,waarden!$A$4:$A$353,waarden!$B$4:$B$353)))","v":" "},0,{"$f":"SUM(F105,H105,J105,L105,N105,P105,R105,T105,V105,X105,Z105,AB105,AD105,AF105,AH105,AJ105,AL105,AN105,AP105,AR105,AT105,AV105,AX105,AZ105,BB105,BD105,BF105,BH105,BJ105,BL105,BN105)","v":0}]
[null,null,null,"Chauffeur personeel",null,{"$f":"IF(E106=0,\" \",IF(OR(E106<1,E106>350),\" \",LOOKUP(E106,waarden!$G$4:$G$353,waarden!$H$4:$H$353)))","v":" "},null,{"$f":"IF(G106=0,\" \",IF(OR(G106<1,G106>350),\" \",LOOKUP(G106,waarden!$G$4:$G$353,waarden!$H$4:$H$353)))","v":" "},null,{"$f":"IF(I106=0,\" \",IF(OR(I106<1,I106>350),\" \",LOOKUP(I106,waarden!$G$4:$G$353,waarden!$H$4:$H$353)))","v":" "},null,{"$f":"IF(K106=0,\" \",IF(OR(K106<1,K106>350),\" \",LOOKUP(K106,waarden!$G$4:$G$353,waarden!$H$4:$H$353)))","v":" "},null,{"$f":"IF(M106=0,\" \",IF(OR(M106<1,M106>350),\" \",LOOKUP(M106,waarden!$G$4:$G$353,waarden!$H$4:$H$353)))","v":" "},null,{"$f":"IF(O106=0,\" \",IF(OR(O106<1,O106>350),\" \",LOOKUP(O106,waarden!$G$4:$G$353,waarden!$H$4:$H$353)))","v":" "},null,{"$f":"IF(Q106=0,\" \",IF(OR(Q106<1,Q106>350),\" \",LOOKUP(Q106,waarden!$G$4:$G$353,waarden!$H$4:$H$353)))","v":" "},null,{"$f":"IF(S106=0,\" \",IF(OR(S106<1,S106>350),\" \",LOOKUP(S106,waarden!$G$4:$G$353,waarden!$H$4:$H$353)))","v":" "},null,{"$f":"IF(U106=0,\" \",IF(OR(U106<1,U106>350),\" \",LOOKUP(U106,waarden!$G$4:$G$353,waarden!$H$4:$H$353)))","v":" "},null,{"$f":"IF(W106=0,\" \",IF(OR(W106<1,W106>350),\" \",LOOKUP(W106,waarden!$G$4:$G$353,waarden!$H$4:$H$353)))","v":" "},null,{"$f":"IF(Y106=0,\" \",IF(OR(Y106<1,Y106>350),\" \",LOOKUP(Y106,waarden!$G$4:$G$353,waarden!$H$4:$H$353)))","v":" "},null,{"$f":"IF(AA106=0,\" \",IF(OR(AA106<1,AA106>350),\" \",LOOKUP(AA106,waarden!$G$4:$G$353,waarden!$H$4:$H$353)))","v":" "},null,{"$f":"IF(AC106=0,\" \",IF(OR(AC106<1,AC106>350),\" \",LOOKUP(AC106,waarden!$G$4:$G$353,waarden!$H$4:$H$353)))","v":" "},null,{"$f":"IF(AE106=0,\" \",IF(OR(AE106<1,AE106>350),\" \",LOOKUP(AE106,waarden!$G$4:$G$353,waarden!$H$4:$H$353)))","v":" "},null,{"$f":"IF(AG106=0,\" \",IF(OR(AG106<1,AG106>350),\" \",LOOKUP(AG106,waarden!$G$4:$G$353,waarden!$H$4:$H$353)))","v":" "},null,{"$f":"IF(AI106=0,\" \",IF(OR(AI106<1,AI106>350),\" \",LOOKUP(AI106,waarden!$G$4:$G$353,waarden!$H$4:$H$353)))","v":" "},null,{"$f":"IF(AK106=0,\" \",IF(OR(AK106<1,AK106>350),\" \",LOOKUP(AK106,waarden!$G$4:$G$353,waarden!$H$4:$H$353)))","v":" "},null,{"$f":"IF(AM106=0,\" \",IF(OR(AM106<1,AM106>350),\" \",LOOKUP(AM106,waarden!$G$4:$G$353,waarden!$H$4:$H$353)))","v":" "},null,{"$f":"IF(AO106=0,\" \",IF(OR(AO106<1,AO106>350),\" \",LOOKUP(AO106,waarden!$G$4:$G$353,waarden!$H$4:$H$353)))","v":" "},null,{"$f":"IF(AQ106=0,\" \",IF(OR(AQ106<1,AQ106>350),\" \",LOOKUP(AQ106,waarden!$G$4:$G$353,waarden!$H$4:$H$353)))","v":" "},null,{"$f":"IF(AS106=0,\" \",IF(OR(AS106<1,AS106>350),\" \",LOOKUP(AS106,waarden!$G$4:$G$353,waarden!$H$4:$H$353)))","v":" "},null,{"$f":"IF(AU106=0,\" \",IF(OR(AU106<1,AU106>350),\" \",LOOKUP(AU106,waarden!$G$4:$G$353,waarden!$H$4:$H$353)))","v":" "},null,{"$f":"IF(AW106=0,\" \",IF(OR(AW106<1,AW106>350),\" \",LOOKUP(AW106,waarden!$G$4:$G$353,waarden!$H$4:$H$353)))","v":" "},null,{"$f":"IF(AY106=0,\" \",IF(OR(AY106<1,AY106>350),\" \",LOOKUP(AY106,waarden!$G$4:$G$353,waarden!$H$4:$H$353)))","v":" "},null,{"$f":"IF(BA106=0,\" \",IF(OR(BA106<1,BA106>350),\" \",LOOKUP(BA106,waarden!$G$4:$G$353,waarden!$H$4:$H$353)))","v":" "},null,{"$f":"IF(BC106=0,\" \",IF(OR(BC106<1,BC106>350),\" \",LOOKUP(BC106,waarden!$G$4:$G$353,waarden!$H$4:$H$353)))","v":" "},null,{"$f":"IF(BE106=0,\" \",IF(OR(BE106<1,BE106>350),\" \",LOOKUP(BE106,waarden!$G$4:$G$353,waarden!$H$4:$H$353)))","v":" "},null,{"$f":"IF(BG106=0,\" \",IF(OR(BG106<1,BG106>350),\" \",LOOKUP(BG106,waarden!$G$4:$G$353,waarden!$H$4:$H$353)))","v":" "},null,{"$f":"IF(BI106=0,\" \",IF(OR(BI106<1,BI106>350),\" \",LOOKUP(BI106,waarden!$G$4:$G$353,waarden!$H$4:$H$353)))","v":" "},null,{"$f":"IF(BK106=0,\" \",IF(OR(BK106<1,BK106>350),\" \",LOOKUP(BK106,waarden!$G$4:$G$353,waarden!$H$4:$H$353)))","v":" "},null,{"$f":"IF(BM106=0,\" \",IF(OR(BM106<1,BM106>350),\" \",LOOKUP(BM106,waarden!$G$4:$G$353,waarden!$H$4:$H$353)))","v":" "},0,{"$f":"SUM(F106,H106,J106,L106,N106,P106,R106,T106,V106,X106,Z106,AB106,AD106,AF106,AH106,AJ106,AL106,AN106,AP106,AR106,AT106,AV106,AX106,AZ106,BB106,BD106,BF106,BH106,BJ106,BL106,BN106)","v":0}]
[null,null,null,"Chauffeur alleen",null,{"$f":"IF(E107=0,\" \",IF(OR(E107<1,E107>350),\" \",LOOKUP(E107,waarden!$D$4:$D$353,waarden!$E$4:$E$353)))","v":" "},null,{"$f":"IF(G107=0,\" \",IF(OR(G107<1,G107>350),\" \",LOOKUP(G107,waarden!$D$4:$D$353,waarden!$E$4:$E$353)))","v":" "},null,{"$f":"IF(I107=0,\" \",IF(OR(I107<1,I107>350),\" \",LOOKUP(I107,waarden!$D$4:$D$353,waarden!$E$4:$E$353)))","v":" "},null,{"$f":"IF(K107=0,\" \",IF(OR(K107<1,K107>350),\" \",LOOKUP(K107,waarden!$D$4:$D$353,waarden!$E$4:$E$353)))","v":" "},null,{"$f":"IF(M107=0,\" \",IF(OR(M107<1,M107>350),\" \",LOOKUP(M107,waarden!$D$4:$D$353,waarden!$E$4:$E$353)))","v":" "},null,{"$f":"IF(O107=0,\" \",IF(OR(O107<1,O107>350),\" \",LOOKUP(O107,waarden!$D$4:$D$353,waarden!$E$4:$E$353)))","v":" "},null,{"$f":"IF(Q107=0,\" \",IF(OR(Q107<1,Q107>350),\" \",LOOKUP(Q107,waarden!$D$4:$D$353,waarden!$E$4:$E$353)))","v":" "},null,{"$f":"IF(S107=0,\" \",IF(OR(S107<1,S107>350),\" \",LOOKUP(S107,waarden!$D$4:$D$353,waarden!$E$4:$E$353)))","v":" "},null,{"$f":"IF(U107=0,\" \",IF(OR(U107<1,U107>350),\" \",LOOKUP(U107,waarden!$D$4:$D$353,waarden!$E$4:$E$353)))","v":" "},null,{"$f":"IF(W107=0,\" \",IF(OR(W107<1,W107>350),\" \",LOOKUP(W107,waarden!$D$4:$D$353,waarden!$E$4:$E$353)))","v":" "},null,{"$f":"IF(Y107=0,\" \",IF(OR(Y107<1,Y107>350),\" \",LOOKUP(Y107,waarden!$D$4:$D$353,waarden!$E$4:$E$353)))","v":" "},null,{"$f":"IF(AA107=0,\" \",IF(OR(AA107<1,AA107>350),\" \",LOOKUP(AA107,waarden!$D$4:$D$353,waarden!$E$4:$E$353)))","v":" "},null,{"$f":"IF(AC107=0,\" \",IF(OR(AC107<1,AC107>350),\" \",LOOKUP(AC107,waarden!$D$4:$D$353,waarden!$E$4:$E$353)))","v":" "},null,{"$f":"IF(AE107=0,\" \",IF(OR(AE107<1,AE107>350),\" \",LOOKUP(AE107,waarden!$D$4:$D$353,waarden!$E$4:$E$353)))","v":" "},null,{"$f":"IF(AG107=0,\" \",IF(OR(AG107<1,AG107>350),\" \",LOOKUP(AG107,waarden!$D$4:$D$353,waarden!$E$4:$E$353)))","v":" "},null,{"$f":"IF(AI107=0,\" \",IF(OR(AI107<1,AI107>350),\" \",LOOKUP(AI107,waarden!$D$4:$D$353,waarden!$E$4:$E$353)))","v":" "},null,{"$f":"IF(AK107=0,\" \",IF(OR(AK107<1,AK107>350),\" \",LOOKUP(AK107,waarden!$D$4:$D$353,waarden!$E$4:$E$353)))","v":" "},null,{"$f":"IF(AM107=0,\" \",IF(OR(AM107<1,AM107>350),\" \",LOOKUP(AM107,waarden!$D$4:$D$353,waarden!$E$4:$E$353)))","v":" "},null,{"$f":"IF(AO107=0,\" \",IF(OR(AO107<1,AO107>350),\" \",LOOKUP(AO107,waarden!$D$4:$D$353,waarden!$E$4:$E$353)))","v":" "},null,{"$f":"IF(AQ107=0,\" \",IF(OR(AQ107<1,AQ107>350),\" \",LOOKUP(AQ107,waarden!$D$4:$D$353,waarden!$E$4:$E$353)))","v":" "},null,{"$f":"IF(AS107=0,\" \",IF(OR(AS107<1,AS107>350),\" \",LOOKUP(AS107,waarden!$D$4:$D$353,waarden!$E$4:$E$353)))","v":" "},null,{"$f":"IF(AU107=0,\" \",IF(OR(AU107<1,AU107>350),\" \",LOOKUP(AU107,waarden!$D$4:$D$353,waarden!$E$4:$E$353)))","v":" "},null,{"$f":"IF(AW107=0,\" \",IF(OR(AW107<1,AW107>350),\" \",LOOKUP(AW107,waarden!$D$4:$D$353,waarden!$E$4:$E$353)))","v":" "},null,{"$f":"IF(AY107=0,\" \",IF(OR(AY107<1,AY107>350),\" \",LOOKUP(AY107,waarden!$D$4:$D$353,waarden!$E$4:$E$353)))","v":" "},null,{"$f":"IF(BA107=0,\" \",IF(OR(BA107<1,BA107>350),\" \",LOOKUP(BA107,waarden!$D$4:$D$353,waarden!$E$4:$E$353)))","v":" "},null,{"$f":"IF(BC107=0,\" \",IF(OR(BC107<1,BC107>350),\" \",LOOKUP(BC107,waarden!$D$4:$D$353,waarden!$E$4:$E$353)))","v":" "},null,{"$f":"IF(BE107=0,\" \",IF(OR(BE107<1,BE107>350),\" \",LOOKUP(BE107,waarden!$D$4:$D$353,waarden!$E$4:$E$353)))","v":" "},null,{"$f":"IF(BG107=0,\" \",IF(OR(BG107<1,BG107>350),\" \",LOOKUP(BG107,waarden!$D$4:$D$353,waarden!$E$4:$E$353)))","v":" "},null,{"$f":"IF(BI107=0,\" \",IF(OR(BI107<1,BI107>350),\" \",LOOKUP(BI107,waarden!$D$4:$D$353,waarden!$E$4:$E$353)))","v":" "},null,{"$f":"IF(BK107=0,\" \",IF(OR(BK107<1,BK107>350),\" \",LOOKUP(BK107,waarden!$D$4:$D$353,waarden!$E$4:$E$353)))","v":" "},null,{"$f":"IF(BM107=0,\" \",IF(OR(BM107<1,BM107>350),\" \",LOOKUP(BM107,waarden!$D$4:$D$353,waarden!$E$4:$E$353)))","v":" "},0,0]
[null,null,null,"Passagier",null,{"$f":"IF(E108=0,\" \",IF(OR(E108<1,E108>350),\" \",LOOKUP(E108,waarden!$A$4:$A$353,waarden!$B$4:$B$353)))","v":" "},null,{"$f":"IF(G108=0,\" \",IF(OR(G108<1,G108>350),\" \",LOOKUP(G108,waarden!$A$4:$A$353,waarden!$B$4:$B$353)))","v":" "},null,{"$f":"IF(I108=0,\" \",IF(OR(I108<1,I108>350),\" \",LOOKUP(I108,waarden!$A$4:$A$353,waarden!$B$4:$B$353)))","v":" "},null,{"$f":"IF(K108=0,\" \",IF(OR(K108<1,K108>350),\" \",LOOKUP(K108,waarden!$A$4:$A$353,waarden!$B$4:$B$353)))","v":" "},null,{"$f":"IF(M108=0,\" \",IF(OR(M108<1,M108>350),\" \",LOOKUP(M108,waarden!$A$4:$A$353,waarden!$B$4:$B$353)))","v":" "},null,{"$f":"IF(O108=0,\" \",IF(OR(O108<1,O108>350),\" \",LOOKUP(O108,waarden!$A$4:$A$353,waarden!$B$4:$B$353)))","v":" "},null,{"$f":"IF(Q108=0,\" \",IF(OR(Q108<1,Q108>350),\" \",LOOKUP(Q108,waarden!$A$4:$A$353,waarden!$B$4:$B$353)))","v":" "},null,{"$f":"IF(S108=0,\" \",IF(OR(S108<1,S108>350),\" \",LOOKUP(S108,waarden!$A$4:$A$353,waarden!$B$4:$B$353)))","v":" "},null,{"$f":"IF(U108=0,\" \",IF(OR(U108<1,U108>350),\" \",LOOKUP(U108,waarden!$A$4:$A$353,waarden!$B$4:$B$353)))","v":" "},null,{"$f":"IF(W108=0,\" \",IF(OR(W108<1,W108>350),\" \",LOOKUP(W108,waarden!$A$4:$A$353,waarden!$B$4:$B$353)))","v":" "},null,{"$f":"IF(Y108=0,\" \",IF(OR(Y108<1,Y108>350),\" \",LOOKUP(Y108,waarden!$A$4:$A$353,waarden!$B$4:$B$353)))","v":" "},null,{"$f":"IF(AA108=0,\" \",IF(OR(AA108<1,AA108>350),\" \",LOOKUP(AA108,waarden!$A$4:$A$353,waarden!$B$4:$B$353)))","v":" "},null,{"$f":"IF(AC108=0,\" \",IF(OR(AC108<1,AC108>350),\" \",LOOKUP(AC108,waarden!$A$4:$A$353,waarden!$B$4:$B$353)))","v":" "},null,{"$f":"IF(AE108=0,\" \",IF(OR(AE108<1,AE108>350),\" \",LOOKUP(AE108,waarden!$A$4:$A$353,waarden!$B$4:$B$353)))","v":" "},null,{"$f":"IF(AG108=0,\" \",IF(OR(AG108<1,AG108>350),\" \",LOOKUP(AG108,waarden!$A$4:$A$353,waarden!$B$4:$B$353)))","v":" "},null,{"$f":"IF(AI108=0,\" \",IF(OR(AI108<1,AI108>350),\" \",LOOKUP(AI108,waarden!$A$4:$A$353,waarden!$B$4:$B$353)))","v":" "},null,{"$f":"IF(AK108=0,\" \",IF(OR(AK108<1,AK108>350),\" \",LOOKUP(AK108,waarden!$A$4:$A$353,waarden!$B$4:$B$353)))","v":" "},null,{"$f":"IF(AM108=0,\" \",IF(OR(AM108<1,AM108>350),\" \",LOOKUP(AM108,waarden!$A$4:$A$353,waarden!$B$4:$B$353)))","v":" "},null,{"$f":"IF(AO108=0,\" \",IF(OR(AO108<1,AO108>350),\" \",LOOKUP(AO108,waarden!$A$4:$A$353,waarden!$B$4:$B$353)))","v":" "},null,{"$f":"IF(AQ108=0,\" \",IF(OR(AQ108<1,AQ108>350),\" \",LOOKUP(AQ108,waarden!$A$4:$A$353,waarden!$B$4:$B$353)))","v":" "},null,{"$f":"IF(AS108=0,\" \",IF(OR(AS108<1,AS108>350),\" \",LOOKUP(AS108,waarden!$A$4:$A$353,waarden!$B$4:$B$353)))","v":" "},null,{"$f":"IF(AU108=0,\" \",IF(OR(AU108<1,AU108>350),\" \",LOOKUP(AU108,waarden!$A$4:$A$353,waarden!$B$4:$B$353)))","v":" "},null,{"$f":"IF(AW108=0,\" \",IF(OR(AW108<1,AW108>350),\" \",LOOKUP(AW108,waarden!$A$4:$A$353,waarden!$B$4:$B$353)))","v":" "},null,{"$f":"IF(AY108=0,\" \",IF(OR(AY108<1,AY108>350),\" \",LOOKUP(AY108,waarden!$A$4:$A$353,waarden!$B$4:$B$353)))","v":" "},null,{"$f":"IF(BA108=0,\" \",IF(OR(BA108<1,BA108>350),\" \",LOOKUP(BA108,waarden!$A$4:$A$353,waarden!$B$4:$B$353)))","v":" "},null,{"$f":"IF(BC108=0,\" \",IF(OR(BC108<1,BC108>350),\" \",LOOKUP(BC108,waarden!$A$4:$A$353,waarden!$B$4:$B$353)))","v":" "},null,{"$f":"IF(BE108=0,\" \",IF(OR(BE108<1,BE108>350),\" \",LOOKUP(BE108,waarden!$A$4:$A$353,waarden!$B$4:$B$353)))","v":" "},null,{"$f":"IF(BG108=0,\" \",IF(OR(BG108<1,BG108>350),\" \",LOOKUP(BG108,waarden!$A$4:$A$353,waarden!$B$4:$B$353)))","v":" "},null,{"$f":"IF(BI108=0,\" \",IF(OR(BI108<1,BI108>350),\" \",LOOKUP(BI108,waarden!$A$4:$A$353,waarden!$B$4:$B$353)))","v":" "},null,{"$f":"IF(BK108=0,\" \",IF(OR(BK108<1,BK108>350),\" \",LOOKUP(BK108,waarden!$A$4:$A$353,waarden!$B$4:$B$353)))","v":" "},null,{"$f":"IF(BM108=0,\" \",IF(OR(BM108<1,BM108>350),\" \",LOOKUP(BM108,waarden!$A$4:$A$353,waarden!$B$4:$B$353)))","v":" "},0,0]
[null,null,null,"Chauffeur personeel",null,{"$f":"IF(E109=0,\" \",IF(OR(E109<1,E109>350),\" \",LOOKUP(E109,waarden!$G$4:$G$353,waarden!$H$4:$H$353)))","v":" "},null,{"$f":"IF(G109=0,\" \",IF(OR(G109<1,G109>350),\" \",LOOKUP(G109,waarden!$G$4:$G$353,waarden!$H$4:$H$353)))","v":" "},null,{"$f":"IF(I109=0,\" \",IF(OR(I109<1,I109>350),\" \",LOOKUP(I109,waarden!$G$4:$G$353,waarden!$H$4:$H$353)))","v":" "},null,{"$f":"IF(K109=0,\" \",IF(OR(K109<1,K109>350),\" \",LOOKUP(K109,waarden!$G$4:$G$353,waarden!$H$4:$H$353)))","v":" "},null,{"$f":"IF(M109=0,\" \",IF(OR(M109<1,M109>350),\" \",LOOKUP(M109,waarden!$G$4:$G$353,waarden!$H$4:$H$353)))","v":" "},null,{"$f":"IF(O109=0,\" \",IF(OR(O109<1,O109>350),\" \",LOOKUP(O109,waarden!$G$4:$G$353,waarden!$H$4:$H$353)))","v":" "},null,{"$f":"IF(Q109=0,\" \",IF(OR(Q109<1,Q109>350),\" \",LOOKUP(Q109,waarden!$G$4:$G$353,waarden!$H$4:$H$353)))","v":" "},null,{"$f":"IF(S109=0,\" \",IF(OR(S109<1,S109>350),\" \",LOOKUP(S109,waarden!$G$4:$G$353,waarden!$H$4:$H$353)))","v":" "},null,{"$f":"IF(U109=0,\" \",IF(OR(U109<1,U109>350),\" \",LOOKUP(U109,waarden!$G$4:$G$353,waarden!$H$4:$H$353)))","v":" "},null,{"$f":"IF(W109=0,\" \",IF(OR(W109<1,W109>350),\" \",LOOKUP(W109,waarden!$G$4:$G$353,waarden!$H$4:$H$353)))","v":" "},null,{"$f":"IF(Y109=0,\" \",IF(OR(Y109<1,Y109>350),\" \",LOOKUP(Y109,waarden!$G$4:$G$353,waarden!$H$4:$H$353)))","v":" "},null,{"$f":"IF(AA109=0,\" \",IF(OR(AA109<1,AA109>350),\" \",LOOKUP(AA109,waarden!$G$4:$G$353,waarden!$H$4:$H$353)))","v":" "},null,{"$f":"IF(AC109=0,\" \",IF(OR(AC109<1,AC109>350),\" \",LOOKUP(AC109,waarden!$G$4:$G$353,waarden!$H$4:$H$353)))","v":" "},null,{"$f":"IF(AE109=0,\" \",IF(OR(AE109<1,AE109>350),\" \",LOOKUP(AE109,waarden!$G$4:$G$353,waarden!$H$4:$H$353)))","v":" "},null,{"$f":"IF(AG109=0,\" \",IF(OR(AG109<1,AG109>350),\" \",LOOKUP(AG109,waarden!$G$4:$G$353,waarden!$H$4:$H$353)))","v":" "},null,{"$f":"IF(AI109=0,\" \",IF(OR(AI109<1,AI109>350),\" \",LOOKUP(AI109,waarden!$G$4:$G$353,waarden!$H$4:$H$353)))","v":" "},null,{"$f":"IF(AK109=0,\" \",IF(OR(AK109<1,AK109>350),\" \",LOOKUP(AK109,waarden!$G$4:$G$353,waarden!$H$4:$H$353)))","v":" "},null,{"$f":"IF(AM109=0,\" \",IF(OR(AM109<1,AM109>350),\" \",LOOKUP(AM109,waarden!$G$4:$G$353,waarden!$H$4:$H$353)))","v":" "},null,{"$f":"IF(AO109=0,\" \",IF(OR(AO109<1,AO109>350),\" \",LOOKUP(AO109,waarden!$G$4:$G$353,waarden!$H$4:$H$353)))","v":" "},null,{"$f":"IF(AQ109=0,\" \",IF(OR(AQ109<1,AQ109>350),\" \",LOOKUP(AQ109,waarden!$G$4:$G$353,waarden!$H$4:$H$353)))","v":" "},null,{"$f":"IF(AS109=0,\" \",IF(OR(AS109<1,AS109>350),\" \",LOOKUP(AS109,waarden!$G$4:$G$353,waarden!$H$4:$H$353)))","v":" "},null,{"$f":"IF(AU109=0,\" \",IF(OR(AU109<1,AU109>350),\" \",LOOKUP(AU109,waarden!$G$4:$G$353,waarden!$H$4:$H$353)))","v":" "},null,{"$f":"IF(AW109=0,\" \",IF(OR(AW109<1,AW109>350),\" \",LOOKUP(AW109,waarden!$G$4:$G$353,waarden!$H$4:$H$353)))","v":" "},null,{"$f":"IF(AY109=0,\" \",IF(OR(AY109<1,AY109>350),\" \",LOOKUP(AY109,waarden!$G$4:$G$353,waarden!$H$4:$H$353)))","v":" "},null,{"$f":"IF(BA109=0,\" \",IF(OR(BA109<1,BA109>350),\" \",LOOKUP(BA109,waarden!$G$4:$G$353,waarden!$H$4:$H$353)))","v":" "},null,{"$f":"IF(BC109=0,\" \",IF(OR(BC109<1,BC109>350),\" \",LOOKUP(BC109,waarden!$G$4:$G$353,waarden!$H$4:$H$353)))","v":" "},null,{"$f":"IF(BE109=0,\" \",IF(OR(BE109<1,BE109>350),\" \",LOOKUP(BE109,waarden!$G$4:$G$353,waarden!$H$4:$H$353)))","v":" "},null,{"$f":"IF(BG109=0,\" \",IF(OR(BG109<1,BG109>350),\" \",LOOKUP(BG109,waarden!$G$4:$G$353,waarden!$H$4:$H$353)))","v":" "},null,{"$f":"IF(BI109=0,\" \",IF(OR(BI109<1,BI109>350),\" \",LOOKUP(BI109,waarden!$G$4:$G$353,waarden!$H$4:$H$353)))","v":" "},null,{"$f":"IF(BK109=0,\" \",IF(OR(BK109<1,BK109>350),\" \",LOOKUP(BK109,waarden!$G$4:$G$353,waarden!$H$4:$H$353)))","v":" "},null,{"$f":"IF(BM109=0,\" \",IF(OR(BM109<1,BM109>350),\" \",LOOKUP(BM109,waarden!$G$4:$G$353,waarden!$H$4:$H$353)))","v":" "},0,{"$f":"SUM(F109,H109,J109,L109,N109,P109,R109,T109,V109,X109,Z109,AB109,AD109,AF109,AH109,AJ109,AL109,AN109,AP109,AR109,AT109,AV109,AX109,AZ109,BB109,BD109,BF109,BH109,BJ109,BL109,BN109)","v":0}]
[null,null,null,"Chauffeur alleen",null,{"$f":"IF(E110=0,\" \",IF(OR(E110<1,E110>350),\" \",LOOKUP(E110,waarden!$D$4:$D$353,waarden!$E$4:$E$353)))","v":" "},null,{"$f":"IF(G110=0,\" \",IF(OR(G110<1,G110>350),\" \",LOOKUP(G110,waarden!$D$4:$D$353,waarden!$E$4:$E$353)))","v":" "},null,{"$f":"IF(I110=0,\" \",IF(OR(I110<1,I110>350),\" \",LOOKUP(I110,waarden!$D$4:$D$353,waarden!$E$4:$E$353)))","v":" "},null,{"$f":"IF(K110=0,\" \",IF(OR(K110<1,K110>350),\" \",LOOKUP(K110,waarden!$D$4:$D$353,waarden!$E$4:$E$353)))","v":" "},null,{"$f":"IF(M110=0,\" \",IF(OR(M110<1,M110>350),\" \",LOOKUP(M110,waarden!$D$4:$D$353,waarden!$E$4:$E$353)))","v":" "},null,{"$f":"IF(O110=0,\" \",IF(OR(O110<1,O110>350),\" \",LOOKUP(O110,waarden!$D$4:$D$353,waarden!$E$4:$E$353)))","v":" "},null,{"$f":"IF(Q110=0,\" \",IF(OR(Q110<1,Q110>350),\" \",LOOKUP(Q110,waarden!$D$4:$D$353,waarden!$E$4:$E$353)))","v":" "},null,{"$f":"IF(S110=0,\" \",IF(OR(S110<1,S110>350),\" \",LOOKUP(S110,waarden!$D$4:$D$353,waarden!$E$4:$E$353)))","v":" "},null,{"$f":"IF(U110=0,\" \",IF(OR(U110<1,U110>350),\" \",LOOKUP(U110,waarden!$D$4:$D$353,waarden!$E$4:$E$353)))","v":" "},null,{"$f":"IF(W110=0,\" \",IF(OR(W110<1,W110>350),\" \",LOOKUP(W110,waarden!$D$4:$D$353,waarden!$E$4:$E$353)))","v":" "},null,{"$f":"IF(Y110=0,\" \",IF(OR(Y110<1,Y110>350),\" \",LOOKUP(Y110,waarden!$D$4:$D$353,waarden!$E$4:$E$353)))","v":" "},null,{"$f":"IF(AA110=0,\" \",IF(OR(AA110<1,AA110>350),\" \",LOOKUP(AA110,waarden!$D$4:$D$353,waarden!$E$4:$E$353)))","v":" "},null,{"$f":"IF(AC110=0,\" \",IF(OR(AC110<1,AC110>350),\" \",LOOKUP(AC110,waarden!$D$4:$D$353,waarden!$E$4:$E$353)))","v":" "},null,{"$f":"IF(AE110=0,\" \",IF(OR(AE110<1,AE110>350),\" \",LOOKUP(AE110,waarden!$D$4:$D$353,waarden!$E$4:$E$353)))","v":" "},null,{"$f":"IF(AG110=0,\" \",IF(OR(AG110<1,AG110>350),\" \",LOOKUP(AG110,waarden!$D$4:$D$353,waarden!$E$4:$E$353)))","v":" "},null,{"$f":"IF(AI110=0,\" \",IF(OR(AI110<1,AI110>350),\" \",LOOKUP(AI110,waarden!$D$4:$D$353,waarden!$E$4:$E$353)))","v":" "},null,{"$f":"IF(AK110=0,\" \",IF(OR(AK110<1,AK110>350),\" \",LOOKUP(AK110,waarden!$D$4:$D$353,waarden!$E$4:$E$353)))","v":" "},null,{"$f":"IF(AM110=0,\" \",IF(OR(AM110<1,AM110>350),\" \",LOOKUP(AM110,waarden!$D$4:$D$353,waarden!$E$4:$E$353)))","v":" "},null,{"$f":"IF(AO110=0,\" \",IF(OR(AO110<1,AO110>350),\" \",LOOKUP(AO110,waarden!$D$4:$D$353,waarden!$E$4:$E$353)))","v":" "},null,{"$f":"IF(AQ110=0,\" \",IF(OR(AQ110<1,AQ110>350),\" \",LOOKUP(AQ110,waarden!$D$4:$D$353,waarden!$E$4:$E$353)))","v":" "},null,{"$f":"IF(AS110=0,\" \",IF(OR(AS110<1,AS110>350),\" \",LOOKUP(AS110,waarden!$D$4:$D$353,waarden!$E$4:$E$353)))","v":" "},null,{"$f":"IF(AU110=0,\" \",IF(OR(AU110<1,AU110>350),\" \",LOOKUP(AU110,waarden!$D$4:$D$353,waarden!$E$4:$E$353)))","v":" "},null,{"$f":"IF(AW110=0,\" \",IF(OR(AW110<1,AW110>350),\" \",LOOKUP(AW110,waarden!$D$4:$D$353,waarden!$E$4:$E$353)))","v":" "},null,{"$f":"IF(AY110=0,\" \",IF(OR(AY110<1,AY110>350),\" \",LOOKUP(AY110,waarden!$D$4:$D$353,waarden!$E$4:$E$353)))","v":" "},null,{"$f":"IF(BA110=0,\" \",IF(OR(BA110<1,BA110>350),\" \",LOOKUP(BA110,waarden!$D$4:$D$353,waarden!$E$4:$E$353)))","v":" "},null,{"$f":"IF(BC110=0,\" \",IF(OR(BC110<1,BC110>350),\" \",LOOKUP(BC110,waarden!$D$4:$D$353,waarden!$E$4:$E$353)))","v":" "},null,{"$f":"IF(BE110=0,\" \",IF(OR(BE110<1,BE110>350),\" \",LOOKUP(BE110,waarden!$D$4:$D$353,waarden!$E$4:$E$353)))","v":" "},null,{"$f":"IF(BG110=0,\" \",IF(OR(BG110<1,BG110>350),\" \",LOOKUP(BG110,waarden!$D$4:$D$353,waarden!$E$4:$E$353)))","v":" "},null,{"$f":"IF(BI110=0,\" \",IF(OR(BI110<1,BI110>350),\" \",LOOKUP(BI110,waarden!$D$4:$D$353,waarden!$E$4:$E$353)))","v":" "},null,{"$f":"IF(BK110=0,\" \",IF(OR(BK110<1,BK110>350),\" \",LOOKUP(BK110,waarden!$D$4:$D$353,waarden!$E$4:$E$353)))","v":" "},null,{"$f":"IF(BM110=0,\" \",IF(OR(BM110<1,BM110>350),\" \",LOOKUP(BM110,waarden!$D$4:$D$353,waarden!$E$4:$E$353)))","v":" "},0,0]
[null,null,null,"Passagier",null,{"$f":"IF(E111=0,\" \",IF(OR(E111<1,E111>350),\" \",LOOKUP(E111,waarden!$A$4:$A$353,waarden!$B$4:$B$353)))","v":" "},null,{"$f":"IF(G111=0,\" \",IF(OR(G111<1,G111>350),\" \",LOOKUP(G111,waarden!$A$4:$A$353,waarden!$B$4:$B$353)))","v":" "},null,{"$f":"IF(I111=0,\" \",IF(OR(I111<1,I111>350),\" \",LOOKUP(I111,waarden!$A$4:$A$353,waarden!$B$4:$B$353)))","v":" "},null,{"$f":"IF(K111=0,\" \",IF(OR(K111<1,K111>350),\" \",LOOKUP(K111,waarden!$A$4:$A$353,waarden!$B$4:$B$353)))","v":" "},null,{"$f":"IF(M111=0,\" \",IF(OR(M111<1,M111>350),\" \",LOOKUP(M111,waarden!$A$4:$A$353,waarden!$B$4:$B$353)))","v":" "},null,{"$f":"IF(O111=0,\" \",IF(OR(O111<1,O111>350),\" \",LOOKUP(O111,waarden!$A$4:$A$353,waarden!$B$4:$B$353)))","v":" "},null,{"$f":"IF(Q111=0,\" \",IF(OR(Q111<1,Q111>350),\" \",LOOKUP(Q111,waarden!$A$4:$A$353,waarden!$B$4:$B$353)))","v":" "},null,{"$f":"IF(S111=0,\" \",IF(OR(S111<1,S111>350),\" \",LOOKUP(S111,waarden!$A$4:$A$353,waarden!$B$4:$B$353)))","v":" "},null,{"$f":"IF(U111=0,\" \",IF(OR(U111<1,U111>350),\" \",LOOKUP(U111,waarden!$A$4:$A$353,waarden!$B$4:$B$353)))","v":" "},null,{"$f":"IF(W111=0,\" \",IF(OR(W111<1,W111>350),\" \",LOOKUP(W111,waarden!$A$4:$A$353,waarden!$B$4:$B$353)))","v":" "},null,{"$f":"IF(Y111=0,\" \",IF(OR(Y111<1,Y111>350),\" \",LOOKUP(Y111,waarden!$A$4:$A$353,waarden!$B$4:$B$353)))","v":" "},null,{"$f":"IF(AA111=0,\" \",IF(OR(AA111<1,AA111>350),\" \",LOOKUP(AA111,waarden!$A$4:$A$353,waarden!$B$4:$B$353)))","v":" "},null,{"$f":"IF(AC111=0,\" \",IF(OR(AC111<1,AC111>350),\" \",LOOKUP(AC111,waarden!$A$4:$A$353,waarden!$B$4:$B$353)))","v":" "},null,{"$f":"IF(AE111=0,\" \",IF(OR(AE111<1,AE111>350),\" \",LOOKUP(AE111,waarden!$A$4:$A$353,waarden!$B$4:$B$353)))","v":" "},null,{"$f":"IF(AG111=0,\" \",IF(OR(AG111<1,AG111>350),\" \",LOOKUP(AG111,waarden!$A$4:$A$353,waarden!$B$4:$B$353)))","v":" "},null,{"$f":"IF(AI111=0,\" \",IF(OR(AI111<1,AI111>350),\" \",LOOKUP(AI111,waarden!$A$4:$A$353,waarden!$B$4:$B$353)))","v":" "},null,{"$f":"IF(AK111=0,\" \",IF(OR(AK111<1,AK111>350),\" \",LOOKUP(AK111,waarden!$A$4:$A$353,waarden!$B$4:$B$353)))","v":" "},null,{"$f":"IF(AM111=0,\" \",IF(OR(AM111<1,AM111>350),\" \",LOOKUP(AM111,waarden!$A$4:$A$353,waarden!$B$4:$B$353)))","v":" "},null,{"$f":"IF(AO111=0,\" \",IF(OR(AO111<1,AO111>350),\" \",LOOKUP(AO111,waarden!$A$4:$A$353,waarden!$B$4:$B$353)))","v":" "},null,{"$f":"IF(AQ111=0,\" \",IF(OR(AQ111<1,AQ111>350),\" \",LOOKUP(AQ111,waarden!$A$4:$A$353,waarden!$B$4:$B$353)))","v":" "},null,{"$f":"IF(AS111=0,\" \",IF(OR(AS111<1,AS111>350),\" \",LOOKUP(AS111,waarden!$A$4:$A$353,waarden!$B$4:$B$353)))","v":" "},null,{"$f":"IF(AU111=0,\" \",IF(OR(AU111<1,AU111>350),\" \",LOOKUP(AU111,waarden!$A$4:$A$353,waarden!$B$4:$B$353)))","v":" "},null,{"$f":"IF(AW111=0,\" \",IF(OR(AW111<1,AW111>350),\" \",LOOKUP(AW111,waarden!$A$4:$A$353,waarden!$B$4:$B$353)))","v":" "},null,{"$f":"IF(AY111=0,\" \",IF(OR(AY111<1,AY111>350),\" \",LOOKUP(AY111,waarden!$A$4:$A$353,waarden!$B$4:$B$353)))","v":" "},null,{"$f":"IF(BA111=0,\" \",IF(OR(BA111<1,BA111>350),\" \",LOOKUP(BA111,waarden!$A$4:$A$353,waarden!$B$4:$B$353)))","v":" "},null,{"$f":"IF(BC111=0,\" \",IF(OR(BC111<1,BC111>350),\" \",LOOKUP(BC111,waarden!$A$4:$A$353,waarden!$B$4:$B$353)))","v":" "},null,{"$f":"IF(BE111=0,\" \",IF(OR(BE111<1,BE111>350),\" \",LOOKUP(BE111,waarden!$A$4:$A$353,waarden!$B$4:$B$353)))","v":" "},null,{"$f":"IF(BG111=0,\" \",IF(OR(BG111<1,BG111>350),\" \",LOOKUP(BG111,waarden!$A$4:$A$353,waarden!$B$4:$B$353)))","v":" "},null,{"$f":"IF(BI111=0,\" \",IF(OR(BI111<1,BI111>350),\" \",LOOKUP(BI111,waarden!$A$4:$A$353,waarden!$B$4:$B$353)))","v":" "},null,{"$f":"IF(BK111=0,\" \",IF(OR(BK111<1,BK111>350),\" \",LOOKUP(BK111,waarden!$A$4:$A$353,waarden!$B$4:$B$353)))","v":" "},null,{"$f":"IF(BM111=0,\" \",IF(OR(BM111<1,BM111>350),\" \",LOOKUP(BM111,waarden!$A$4:$A$353,waarden!$B$4:$B$353)))","v":" "},0,0]
[null,null,null,"Chauffeur personeel",null,{"$f":"IF(E112=0,\" \",IF(OR(E112<1,E112>350),\" \",LOOKUP(E112,waarden!$G$4:$G$353,waarden!$H$4:$H$353)))","v":" "},null,{"$f":"IF(G112=0,\" \",IF(OR(G112<1,G112>350),\" \",LOOKUP(G112,waarden!$G$4:$G$353,waarden!$H$4:$H$353)))","v":" "},null,{"$f":"IF(I112=0,\" \",IF(OR(I112<1,I112>350),\" \",LOOKUP(I112,waarden!$G$4:$G$353,waarden!$H$4:$H$353)))","v":" "},null,{"$f":"IF(K112=0,\" \",IF(OR(K112<1,K112>350),\" \",LOOKUP(K112,waarden!$G$4:$G$353,waarden!$H$4:$H$353)))","v":" "},null,{"$f":"IF(M112=0,\" \",IF(OR(M112<1,M112>350),\" \",LOOKUP(M112,waarden!$G$4:$G$353,waarden!$H$4:$H$353)))","v":" "},null,{"$f":"IF(O112=0,\" \",IF(OR(O112<1,O112>350),\" \",LOOKUP(O112,waarden!$G$4:$G$353,waarden!$H$4:$H$353)))","v":" "},null,{"$f":"IF(Q112=0,\" \",IF(OR(Q112<1,Q112>350),\" \",LOOKUP(Q112,waarden!$G$4:$G$353,waarden!$H$4:$H$353)))","v":" "},null,{"$f":"IF(S112=0,\" \",IF(OR(S112<1,S112>350),\" \",LOOKUP(S112,waarden!$G$4:$G$353,waarden!$H$4:$H$353)))","v":" "},null,{"$f":"IF(U112=0,\" \",IF(OR(U112<1,U112>350),\" \",LOOKUP(U112,waarden!$G$4:$G$353,waarden!$H$4:$H$353)))","v":" "},null,{"$f":"IF(W112=0,\" \",IF(OR(W112<1,W112>350),\" \",LOOKUP(W112,waarden!$G$4:$G$353,waarden!$H$4:$H$353)))","v":" "},null,{"$f":"IF(Y112=0,\" \",IF(OR(Y112<1,Y112>350),\" \",LOOKUP(Y112,waarden!$G$4:$G$353,waarden!$H$4:$H$353)))","v":" "},null,{"$f":"IF(AA112=0,\" \",IF(OR(AA112<1,AA112>350),\" \",LOOKUP(AA112,waarden!$G$4:$G$353,waarden!$H$4:$H$353)))","v":" "},null,{"$f":"IF(AC112=0,\" \",IF(OR(AC112<1,AC112>350),\" \",LOOKUP(AC112,waarden!$G$4:$G$353,waarden!$H$4:$H$353)))","v":" "},null,{"$f":"IF(AE112=0,\" \",IF(OR(AE112<1,AE112>350),\" \",LOOKUP(AE112,waarden!$G$4:$G$353,waarden!$H$4:$H$353)))","v":" "},null,{"$f":"IF(AG112=0,\" \",IF(OR(AG112<1,AG112>350),\" \",LOOKUP(AG112,waarden!$G$4:$G$353,waarden!$H$4:$H$353)))","v":" "},null,{"$f":"IF(AI112=0,\" \",IF(OR(AI112<1,AI112>350),\" \",LOOKUP(AI112,waarden!$G$4:$G$353,waarden!$H$4:$H$353)))","v":" "},null,{"$f":"IF(AK112=0,\" \",IF(OR(AK112<1,AK112>350),\" \",LOOKUP(AK112,waarden!$G$4:$G$353,waarden!$H$4:$H$353)))","v":" "},null,{"$f":"IF(AM112=0,\" \",IF(OR(AM112<1,AM112>350),\" \",LOOKUP(AM112,waarden!$G$4:$G$353,waarden!$H$4:$H$353)))","v":" "},null,{"$f":"IF(AO112=0,\" \",IF(OR(AO112<1,AO112>350),\" \",LOOKUP(AO112,waarden!$G$4:$G$353,waarden!$H$4:$H$353)))","v":" "},null,{"$f":"IF(AQ112=0,\" \",IF(OR(AQ112<1,AQ112>350),\" \",LOOKUP(AQ112,waarden!$G$4:$G$353,waarden!$H$4:$H$353)))","v":" "},null,{"$f":"IF(AS112=0,\" \",IF(OR(AS112<1,AS112>350),\" \",LOOKUP(AS112,waarden!$G$4:$G$353,waarden!$H$4:$H$353)))","v":" "},null,{"$f":"IF(AU112=0,\" \",IF(OR(AU112<1,AU112>350),\" \",LOOKUP(AU112,waarden!$G$4:$G$353,waarden!$H$4:$H$353)))","v":" "},null,{"$f":"IF(AW112=0,\" \",IF(OR(AW112<1,AW112>350),\" \",LOOKUP(AW112,waarden!$G$4:$G$353,waarden!$H$4:$H$353)))","v":" "},null,{"$f":"IF(AY112=0,\" \",IF(OR(AY112<1,AY112>350),\" \",LOOKUP(AY112,waarden!$G$4:$G$353,waarden!$H$4:$H$353)))","v":" "},null,{"$f":"IF(BA112=0,\" \",IF(OR(BA112<1,BA112>350),\" \",LOOKUP(BA112,waarden!$G$4:$G$353,waarden!$H$4:$H$353)))","v":" "},null,{"$f":"IF(BC112=0,\" \",IF(OR(BC112<1,BC112>350),\" \",LOOKUP(BC112,waarden!$G$4:$G$353,waarden!$H$4:$H$353)))","v":" "},null,{"$f":"IF(BE112=0,\" \",IF(OR(BE112<1,BE112>350),\" \",LOOKUP(BE112,waarden!$G$4:$G$353,waarden!$H$4:$H$353)))","v":" "},null,{"$f":"IF(BG112=0,\" \",IF(OR(BG112<1,BG112>350),\" \",LOOKUP(BG112,waarden!$G$4:$G$353,waarden!$H$4:$H$353)))","v":" "},null,{"$f":"IF(BI112=0,\" \",IF(OR(BI112<1,BI112>350),\" \",LOOKUP(BI112,waarden!$G$4:$G$353,waarden!$H$4:$H$353)))","v":" "},null,{"$f":"IF(BK112=0,\" \",IF(OR(BK112<1,BK112>350),\" \",LOOKUP(BK112,waarden!$G$4:$G$353,waarden!$H$4:$H$353)))","v":" "},null,{"$f":"IF(BM112=0,\" \",IF(OR(BM112<1,BM112>350),\" \",LOOKUP(BM112,waarden!$G$4:$G$353,waarden!$H$4:$H$353)))","v":" "},0,{"$f":"SUM(F112,H112,J112,L112,N112,P112,R112,T112,V112,X112,Z112,AB112,AD112,AF112,AH112,AJ112,AL112,AN112,AP112,AR112,AT112,AV112,AX112,AZ112,BB112,BD112,BF112,BH112,BJ112,BL112,BN112)","v":0}]
[null,null,null,"Chauffeur alleen",null,{"$f":"IF(E113=0,\" \",IF(OR(E113<1,E113>350),\" \",LOOKUP(E113,waarden!$D$4:$D$353,waarden!$E$4:$E$353)))","v":" "},null,{"$f":"IF(G113=0,\" \",IF(OR(G113<1,G113>350),\" \",LOOKUP(G113,waarden!$D$4:$D$353,waarden!$E$4:$E$353)))","v":" "},null,{"$f":"IF(I113=0,\" \",IF(OR(I113<1,I113>350),\" \",LOOKUP(I113,waarden!$D$4:$D$353,waarden!$E$4:$E$353)))","v":" "},null,{"$f":"IF(K113=0,\" \",IF(OR(K113<1,K113>350),\" \",LOOKUP(K113,waarden!$D$4:$D$353,waarden!$E$4:$E$353)))","v":" "},null,{"$f":"IF(M113=0,\" \",IF(OR(M113<1,M113>350),\" \",LOOKUP(M113,waarden!$D$4:$D$353,waarden!$E$4:$E$353)))","v":" "},null,{"$f":"IF(O113=0,\" \",IF(OR(O113<1,O113>350),\" \",LOOKUP(O113,waarden!$D$4:$D$353,waarden!$E$4:$E$353)))","v":" "},null,{"$f":"IF(Q113=0,\" \",IF(OR(Q113<1,Q113>350),\" \",LOOKUP(Q113,waarden!$D$4:$D$353,waarden!$E$4:$E$353)))","v":" "},null,{"$f":"IF(S113=0,\" \",IF(OR(S113<1,S113>350),\" \",LOOKUP(S113,waarden!$D$4:$D$353,waarden!$E$4:$E$353)))","v":" "},null,{"$f":"IF(U113=0,\" \",IF(OR(U113<1,U113>350),\" \",LOOKUP(U113,waarden!$D$4:$D$353,waarden!$E$4:$E$353)))","v":" "},null,{"$f":"IF(W113=0,\" \",IF(OR(W113<1,W113>350),\" \",LOOKUP(W113,waarden!$D$4:$D$353,waarden!$E$4:$E$353)))","v":" "},null,{"$f":"IF(Y113=0,\" \",IF(OR(Y113<1,Y113>350),\" \",LOOKUP(Y113,waarden!$D$4:$D$353,waarden!$E$4:$E$353)))","v":" "},null,{"$f":"IF(AA113=0,\" \",IF(OR(AA113<1,AA113>350),\" \",LOOKUP(AA113,waarden!$D$4:$D$353,waarden!$E$4:$E$353)))","v":" "},null,{"$f":"IF(AC113=0,\" \",IF(OR(AC113<1,AC113>350),\" \",LOOKUP(AC113,waarden!$D$4:$D$353,waarden!$E$4:$E$353)))","v":" "},null,{"$f":"IF(AE113=0,\" \",IF(OR(AE113<1,AE113>350),\" \",LOOKUP(AE113,waarden!$D$4:$D$353,waarden!$E$4:$E$353)))","v":" "},null,{"$f":"IF(AG113=0,\" \",IF(OR(AG113<1,AG113>350),\" \",LOOKUP(AG113,waarden!$D$4:$D$353,waarden!$E$4:$E$353)))","v":" "},null,{"$f":"IF(AI113=0,\" \",IF(OR(AI113<1,AI113>350),\" \",LOOKUP(AI113,waarden!$D$4:$D$353,waarden!$E$4:$E$353)))","v":" "},null,{"$f":"IF(AK113=0,\" \",IF(OR(AK113<1,AK113>350),\" \",LOOKUP(AK113,waarden!$D$4:$D$353,waarden!$E$4:$E$353)))","v":" "},null,{"$f":"IF(AM113=0,\" \",IF(OR(AM113<1,AM113>350),\" \",LOOKUP(AM113,waarden!$D$4:$D$353,waarden!$E$4:$E$353)))","v":" "},null,{"$f":"IF(AO113=0,\" \",IF(OR(AO113<1,AO113>350),\" \",LOOKUP(AO113,waarden!$D$4:$D$353,waarden!$E$4:$E$353)))","v":" "},null,{"$f":"IF(AQ113=0,\" \",IF(OR(AQ113<1,AQ113>350),\" \",LOOKUP(AQ113,waarden!$D$4:$D$353,waarden!$E$4:$E$353)))","v":" "},null,{"$f":"IF(AS113=0,\" \",IF(OR(AS113<1,AS113>350),\" \",LOOKUP(AS113,waarden!$D$4:$D$353,waarden!$E$4:$E$353)))","v":" "},null,{"$f":"IF(AU113=0,\" \",IF(OR(AU113<1,AU113>350),\" \",LOOKUP(AU113,waarden!$D$4:$D$353,waarden!$E$4:$E$353)))","v":" "},null,{"$f":"IF(AW113=0,\" \",IF(OR(AW113<1,AW113>350),\" \",LOOKUP(AW113,waarden!$D$4:$D$353,waarden!$E$4:$E$353)))","v":" "},null,{"$f":"IF(AY113=0,\" \",IF(OR(AY113<1,AY113>350),\" \",LOOKUP(AY113,waarden!$D$4:$D$353,waarden!$E$4:$E$353)))","v":" "},null,{"$f":"IF(BA113=0,\" \",IF(OR(BA113<1,BA113>350),\" \",LOOKUP(BA113,waarden!$D$4:$D$353,waarden!$E$4:$E$353)))","v":" "},null,{"$f":"IF(BC113=0,\" \",IF(OR(BC113<1,BC113>350),\" \",LOOKUP(BC113,waarden!$D$4:$D$353,waarden!$E$4:$E$353)))","v":" "},null,{"$f":"IF(BE113=0,\" \",IF(OR(BE113<1,BE113>350),\" \",LOOKUP(BE113,waarden!$D$4:$D$353,waarden!$E$4:$E$353)))","v":" "},null,{"$f":"IF(BG113=0,\" \",IF(OR(BG113<1,BG113>350),\" \",LOOKUP(BG113,waarden!$D$4:$D$353,waarden!$E$4:$E$353)))","v":" "},null,{"$f":"IF(BI113=0,\" \",IF(OR(BI113<1,BI113>350),\" \",LOOKUP(BI113,waarden!$D$4:$D$353,waarden!$E$4:$E$353)))","v":" "},null,{"$f":"IF(BK113=0,\" \",IF(OR(BK113<1,BK113>350),\" \",LOOKUP(BK113,waarden!$D$4:$D$353,waarden!$E$4:$E$353)))","v":" "},null,{"$f":"IF(BM113=0,\" \",IF(OR(BM113<1,BM113>350),\" \",LOOKUP(BM113,waarden!$D$4:$D$353,waarden!$E$4:$E$353)))","v":" "},0,0]
[null,null,null,"Passagier",null,{"$f":"IF(E114=0,\" \",IF(OR(E114<1,E114>350),\" \",LOOKUP(E114,waarden!$A$4:$A$353,waarden!$B$4:$B$353)))","v":" "},null,{"$f":"IF(G114=0,\" \",IF(OR(G114<1,G114>350),\" \",LOOKUP(G114,waarden!$A$4:$A$353,waarden!$B$4:$B$353)))","v":" "},null,{"$f":"IF(I114=0,\" \",IF(OR(I114<1,I114>350),\" \",LOOKUP(I114,waarden!$A$4:$A$353,waarden!$B$4:$B$353)))","v":" "},null,{"$f":"IF(K114=0,\" \",IF(OR(K114<1,K114>350),\" \",LOOKUP(K114,waarden!$A$4:$A$353,waarden!$B$4:$B$353)))","v":" "},null,{"$f":"IF(M114=0,\" \",IF(OR(M114<1,M114>350),\" \",LOOKUP(M114,waarden!$A$4:$A$353,waarden!$B$4:$B$353)))","v":" "},null,{"$f":"IF(O114=0,\" \",IF(OR(O114<1,O114>350),\" \",LOOKUP(O114,waarden!$A$4:$A$353,waarden!$B$4:$B$353)))","v":" "},null,{"$f":"IF(Q114=0,\" \",IF(OR(Q114<1,Q114>350),\" \",LOOKUP(Q114,waarden!$A$4:$A$353,waarden!$B$4:$B$353)))","v":" "},null,{"$f":"IF(S114=0,\" \",IF(OR(S114<1,S114>350),\" \",LOOKUP(S114,waarden!$A$4:$A$353,waarden!$B$4:$B$353)))","v":" "},null,{"$f":"IF(U114=0,\" \",IF(OR(U114<1,U114>350),\" \",LOOKUP(U114,waarden!$A$4:$A$353,waarden!$B$4:$B$353)))","v":" "},null,{"$f":"IF(W114=0,\" \",IF(OR(W114<1,W114>350),\" \",LOOKUP(W114,waarden!$A$4:$A$353,waarden!$B$4:$B$353)))","v":" "},null,{"$f":"IF(Y114=0,\" \",IF(OR(Y114<1,Y114>350),\" \",LOOKUP(Y114,waarden!$A$4:$A$353,waarden!$B$4:$B$353)))","v":" "},null,{"$f":"IF(AA114=0,\" \",IF(OR(AA114<1,AA114>350),\" \",LOOKUP(AA114,waarden!$A$4:$A$353,waarden!$B$4:$B$353)))","v":" "},null,{"$f":"IF(AC114=0,\" \",IF(OR(AC114<1,AC114>350),\" \",LOOKUP(AC114,waarden!$A$4:$A$353,waarden!$B$4:$B$353)))","v":" "},null,{"$f":"IF(AE114=0,\" \",IF(OR(AE114<1,AE114>350),\" \",LOOKUP(AE114,waarden!$A$4:$A$353,waarden!$B$4:$B$353)))","v":" "},null,{"$f":"IF(AG114=0,\" \",IF(OR(AG114<1,AG114>350),\" \",LOOKUP(AG114,waarden!$A$4:$A$353,waarden!$B$4:$B$353)))","v":" "},null,{"$f":"IF(AI114=0,\" \",IF(OR(AI114<1,AI114>350),\" \",LOOKUP(AI114,waarden!$A$4:$A$353,waarden!$B$4:$B$353)))","v":" "},null,{"$f":"IF(AK114=0,\" \",IF(OR(AK114<1,AK114>350),\" \",LOOKUP(AK114,waarden!$A$4:$A$353,waarden!$B$4:$B$353)))","v":" "},null,{"$f":"IF(AM114=0,\" \",IF(OR(AM114<1,AM114>350),\" \",LOOKUP(AM114,waarden!$A$4:$A$353,waarden!$B$4:$B$353)))","v":" "},null,{"$f":"IF(AO114=0,\" \",IF(OR(AO114<1,AO114>350),\" \",LOOKUP(AO114,waarden!$A$4:$A$353,waarden!$B$4:$B$353)))","v":" "},null,{"$f":"IF(AQ114=0,\" \",IF(OR(AQ114<1,AQ114>350),\" \",LOOKUP(AQ114,waarden!$A$4:$A$353,waarden!$B$4:$B$353)))","v":" "},null,{"$f":"IF(AS114=0,\" \",IF(OR(AS114<1,AS114>350),\" \",LOOKUP(AS114,waarden!$A$4:$A$353,waarden!$B$4:$B$353)))","v":" "},null,{"$f":"IF(AU114=0,\" \",IF(OR(AU114<1,AU114>350),\" \",LOOKUP(AU114,waarden!$A$4:$A$353,waarden!$B$4:$B$353)))","v":" "},null,{"$f":"IF(AW114=0,\" \",IF(OR(AW114<1,AW114>350),\" \",LOOKUP(AW114,waarden!$A$4:$A$353,waarden!$B$4:$B$353)))","v":" "},null,{"$f":"IF(AY114=0,\" \",IF(OR(AY114<1,AY114>350),\" \",LOOKUP(AY114,waarden!$A$4:$A$353,waarden!$B$4:$B$353)))","v":" "},null,{"$f":"IF(BA114=0,\" \",IF(OR(BA114<1,BA114>350),\" \",LOOKUP(BA114,waarden!$A$4:$A$353,waarden!$B$4:$B$353)))","v":" "},null,{"$f":"IF(BC114=0,\" \",IF(OR(BC114<1,BC114>350),\" \",LOOKUP(BC114,waarden!$A$4:$A$353,waarden!$B$4:$B$353)))","v":" "},null,{"$f":"IF(BE114=0,\" \",IF(OR(BE114<1,BE114>350),\" \",LOOKUP(BE114,waarden!$A$4:$A$353,waarden!$B$4:$B$353)))","v":" "},null,{"$f":"IF(BG114=0,\" \",IF(OR(BG114<1,BG114>350),\" \",LOOKUP(BG114,waarden!$A$4:$A$353,waarden!$B$4:$B$353)))","v":" "},null,{"$f":"IF(BI114=0,\" \",IF(OR(BI114<1,BI114>350),\" \",LOOKUP(BI114,waarden!$A$4:$A$353,waarden!$B$4:$B$353)))","v":" "},null,{"$f":"IF(BK114=0,\" \",IF(OR(BK114<1,BK114>350),\" \",LOOKUP(BK114,waarden!$A$4:$A$353,waarden!$B$4:$B$353)))","v":" "},null,{"$f":"IF(BM114=0,\" \",IF(OR(BM114<1,BM114>350),\" \",LOOKUP(BM114,waarden!$A$4:$A$353,waarden!$B$4:$B$353)))","v":" "},0,0]
[null,null,null,"Chauffeur personeel",null,{"$f":"IF(E115=0,\" \",IF(OR(E115<1,E115>350),\" \",LOOKUP(E115,waarden!$G$4:$G$353,waarden!$H$4:$H$353)))","v":" "},null,{"$f":"IF(G115=0,\" \",IF(OR(G115<1,G115>350),\" \",LOOKUP(G115,waarden!$G$4:$G$353,waarden!$H$4:$H$353)))","v":" "},null,{"$f":"IF(I115=0,\" \",IF(OR(I115<1,I115>350),\" \",LOOKUP(I115,waarden!$G$4:$G$353,waarden!$H$4:$H$353)))","v":" "},null,{"$f":"IF(K115=0,\" \",IF(OR(K115<1,K115>350),\" \",LOOKUP(K115,waarden!$G$4:$G$353,waarden!$H$4:$H$353)))","v":" "},null,{"$f":"IF(M115=0,\" \",IF(OR(M115<1,M115>350),\" \",LOOKUP(M115,waarden!$G$4:$G$353,waarden!$H$4:$H$353)))","v":" "},null,{"$f":"IF(O115=0,\" \",IF(OR(O115<1,O115>350),\" \",LOOKUP(O115,waarden!$G$4:$G$353,waarden!$H$4:$H$353)))","v":" "},null,{"$f":"IF(Q115=0,\" \",IF(OR(Q115<1,Q115>350),\" \",LOOKUP(Q115,waarden!$G$4:$G$353,waarden!$H$4:$H$353)))","v":" "},null,{"$f":"IF(S115=0,\" \",IF(OR(S115<1,S115>350),\" \",LOOKUP(S115,waarden!$G$4:$G$353,waarden!$H$4:$H$353)))","v":" "},null,{"$f":"IF(U115=0,\" \",IF(OR(U115<1,U115>350),\" \",LOOKUP(U115,waarden!$G$4:$G$353,waarden!$H$4:$H$353)))","v":" "},null,{"$f":"IF(W115=0,\" \",IF(OR(W115<1,W115>350),\" \",LOOKUP(W115,waarden!$G$4:$G$353,waarden!$H$4:$H$353)))","v":" "},null,{"$f":"IF(Y115=0,\" \",IF(OR(Y115<1,Y115>350),\" \",LOOKUP(Y115,waarden!$G$4:$G$353,waarden!$H$4:$H$353)))","v":" "},null,{"$f":"IF(AA115=0,\" \",IF(OR(AA115<1,AA115>350),\" \",LOOKUP(AA115,waarden!$G$4:$G$353,waarden!$H$4:$H$353)))","v":" "},null,{"$f":"IF(AC115=0,\" \",IF(OR(AC115<1,AC115>350),\" \",LOOKUP(AC115,waarden!$G$4:$G$353,waarden!$H$4:$H$353)))","v":" "},null,{"$f":"IF(AE115=0,\" \",IF(OR(AE115<1,AE115>350),\" \",LOOKUP(AE115,waarden!$G$4:$G$353,waarden!$H$4:$H$353)))","v":" "},null,{"$f":"IF(AG115=0,\" \",IF(OR(AG115<1,AG115>350),\" \",LOOKUP(AG115,waarden!$G$4:$G$353,waarden!$H$4:$H$353)))","v":" "},null,{"$f":"IF(AI115=0,\" \",IF(OR(AI115<1,AI115>350),\" \",LOOKUP(AI115,waarden!$G$4:$G$353,waarden!$H$4:$H$353)))","v":" "},null,{"$f":"IF(AK115=0,\" \",IF(OR(AK115<1,AK115>350),\" \",LOOKUP(AK115,waarden!$G$4:$G$353,waarden!$H$4:$H$353)))","v":" "},null,{"$f":"IF(AM115=0,\" \",IF(OR(AM115<1,AM115>350),\" \",LOOKUP(AM115,waarden!$G$4:$G$353,waarden!$H$4:$H$353)))","v":" "},null,{"$f":"IF(AO115=0,\" \",IF(OR(AO115<1,AO115>350),\" \",LOOKUP(AO115,waarden!$G$4:$G$353,waarden!$H$4:$H$353)))","v":" "},null,{"$f":"IF(AQ115=0,\" \",IF(OR(AQ115<1,AQ115>350),\" \",LOOKUP(AQ115,waarden!$G$4:$G$353,waarden!$H$4:$H$353)))","v":" "},null,{"$f":"IF(AS115=0,\" \",IF(OR(AS115<1,AS115>350),\" \",LOOKUP(AS115,waarden!$G$4:$G$353,waarden!$H$4:$H$353)))","v":" "},null,{"$f":"IF(AU115=0,\" \",IF(OR(AU115<1,AU115>350),\" \",LOOKUP(AU115,waarden!$G$4:$G$353,waarden!$H$4:$H$353)))","v":" "},null,{"$f":"IF(AW115=0,\" \",IF(OR(AW115<1,AW115>350),\" \",LOOKUP(AW115,waarden!$G$4:$G$353,waarden!$H$4:$H$353)))","v":" "},null,{"$f":"IF(AY115=0,\" \",IF(OR(AY115<1,AY115>350),\" \",LOOKUP(AY115,waarden!$G$4:$G$353,waarden!$H$4:$H$353)))","v":" "},null,{"$f":"IF(BA115=0,\" \",IF(OR(BA115<1,BA115>350),\" \",LOOKUP(BA115,waarden!$G$4:$G$353,waarden!$H$4:$H$353)))","v":" "},null,{"$f":"IF(BC115=0,\" \",IF(OR(BC115<1,BC115>350),\" \",LOOKUP(BC115,waarden!$G$4:$G$353,waarden!$H$4:$H$353)))","v":" "},null,{"$f":"IF(BE115=0,\" \",IF(OR(BE115<1,BE115>350),\" \",LOOKUP(BE115,waarden!$G$4:$G$353,waarden!$H$4:$H$353)))","v":" "},null,{"$f":"IF(BG115=0,\" \",IF(OR(BG115<1,BG115>350),\" \",LOOKUP(BG115,waarden!$G$4:$G$353,waarden!$H$4:$H$353)))","v":" "},null,{"$f":"IF(BI115=0,\" \",IF(OR(BI115<1,BI115>350),\" \",LOOKUP(BI115,waarden!$G$4:$G$353,waarden!$H$4:$H$353)))","v":" "},null,{"$f":"IF(BK115=0,\" \",IF(OR(BK115<1,BK115>350),\" \",LOOKUP(BK115,waarden!$G$4:$G$353,waarden!$H$4:$H$353)))","v":" "},null,{"$f":"IF(BM115=0,\" \",IF(OR(BM115<1,BM115>350),\" \",LOOKUP(BM115,waarden!$G$4:$G$353,waarden!$H$4:$H$353)))","v":" "},0,{"$f":"SUM(F115,H115,J115,L115,N115,P115,R115,T115,V115,X115,Z115,AB115,AD115,AF115,AH115,AJ115,AL115,AN115,AP115,AR115,AT115,AV115,AX115,AZ115,BB115,BD115,BF115,BH115,BJ115,BL115,BN115)","v":0}]
[null,null,null,"Chauffeur alleen",null,{"$f":"IF(E116=0,\" \",IF(OR(E116<1,E116>350),\" \",LOOKUP(E116,waarden!$D$4:$D$353,waarden!$E$4:$E$353)))","v":" "},null,{"$f":"IF(G116=0,\" \",IF(OR(G116<1,G116>350),\" \",LOOKUP(G116,waarden!$D$4:$D$353,waarden!$E$4:$E$353)))","v":" "},null,{"$f":"IF(I116=0,\" \",IF(OR(I116<1,I116>350),\" \",LOOKUP(I116,waarden!$D$4:$D$353,waarden!$E$4:$E$353)))","v":" "},null,{"$f":"IF(K116=0,\" \",IF(OR(K116<1,K116>350),\" \",LOOKUP(K116,waarden!$D$4:$D$353,waarden!$E$4:$E$353)))","v":" "},null,{"$f":"IF(M116=0,\" \",IF(OR(M116<1,M116>350),\" \",LOOKUP(M116,waarden!$D$4:$D$353,waarden!$E$4:$E$353)))","v":" "},null,{"$f":"IF(O116=0,\" \",IF(OR(O116<1,O116>350),\" \",LOOKUP(O116,waarden!$D$4:$D$353,waarden!$E$4:$E$353)))","v":" "},null,{"$f":"IF(Q116=0,\" \",IF(OR(Q116<1,Q116>350),\" \",LOOKUP(Q116,waarden!$D$4:$D$353,waarden!$E$4:$E$353)))","v":" "},null,{"$f":"IF(S116=0,\" \",IF(OR(S116<1,S116>350),\" \",LOOKUP(S116,waarden!$D$4:$D$353,waarden!$E$4:$E$353)))","v":" "},null,{"$f":"IF(U116=0,\" \",IF(OR(U116<1,U116>350),\" \",LOOKUP(U116,waarden!$D$4:$D$353,waarden!$E$4:$E$353)))","v":" "},null,{"$f":"IF(W116=0,\" \",IF(OR(W116<1,W116>350),\" \",LOOKUP(W116,waarden!$D$4:$D$353,waarden!$E$4:$E$353)))","v":" "},null,{"$f":"IF(Y116=0,\" \",IF(OR(Y116<1,Y116>350),\" \",LOOKUP(Y116,waarden!$D$4:$D$353,waarden!$E$4:$E$353)))","v":" "},null,{"$f":"IF(AA116=0,\" \",IF(OR(AA116<1,AA116>350),\" \",LOOKUP(AA116,waarden!$D$4:$D$353,waarden!$E$4:$E$353)))","v":" "},null,{"$f":"IF(AC116=0,\" \",IF(OR(AC116<1,AC116>350),\" \",LOOKUP(AC116,waarden!$D$4:$D$353,waarden!$E$4:$E$353)))","v":" "},null,{"$f":"IF(AE116=0,\" \",IF(OR(AE116<1,AE116>350),\" \",LOOKUP(AE116,waarden!$D$4:$D$353,waarden!$E$4:$E$353)))","v":" "},null,{"$f":"IF(AG116=0,\" \",IF(OR(AG116<1,AG116>350),\" \",LOOKUP(AG116,waarden!$D$4:$D$353,waarden!$E$4:$E$353)))","v":" "},null,{"$f":"IF(AI116=0,\" \",IF(OR(AI116<1,AI116>350),\" \",LOOKUP(AI116,waarden!$D$4:$D$353,waarden!$E$4:$E$353)))","v":" "},null,{"$f":"IF(AK116=0,\" \",IF(OR(AK116<1,AK116>350),\" \",LOOKUP(AK116,waarden!$D$4:$D$353,waarden!$E$4:$E$353)))","v":" "},null,{"$f":"IF(AM116=0,\" \",IF(OR(AM116<1,AM116>350),\" \",LOOKUP(AM116,waarden!$D$4:$D$353,waarden!$E$4:$E$353)))","v":" "},null,{"$f":"IF(AO116=0,\" \",IF(OR(AO116<1,AO116>350),\" \",LOOKUP(AO116,waarden!$D$4:$D$353,waarden!$E$4:$E$353)))","v":" "},null,{"$f":"IF(AQ116=0,\" \",IF(OR(AQ116<1,AQ116>350),\" \",LOOKUP(AQ116,waarden!$D$4:$D$353,waarden!$E$4:$E$353)))","v":" "},null,{"$f":"IF(AS116=0,\" \",IF(OR(AS116<1,AS116>350),\" \",LOOKUP(AS116,waarden!$D$4:$D$353,waarden!$E$4:$E$353)))","v":" "},null,{"$f":"IF(AU116=0,\" \",IF(OR(AU116<1,AU116>350),\" \",LOOKUP(AU116,waarden!$D$4:$D$353,waarden!$E$4:$E$353)))","v":" "},null,{"$f":"IF(AW116=0,\" \",IF(OR(AW116<1,AW116>350),\" \",LOOKUP(AW116,waarden!$D$4:$D$353,waarden!$E$4:$E$353)))","v":" "},null,{"$f":"IF(AY116=0,\" \",IF(OR(AY116<1,AY116>350),\" \",LOOKUP(AY116,waarden!$D$4:$D$353,waarden!$E$4:$E$353)))","v":" "},null,{"$f":"IF(BA116=0,\" \",IF(OR(BA116<1,BA116>350),\" \",LOOKUP(BA116,waarden!$D$4:$D$353,waarden!$E$4:$E$353)))","v":" "},null,{"$f":"IF(BC116=0,\" \",IF(OR(BC116<1,BC116>350),\" \",LOOKUP(BC116,waarden!$D$4:$D$353,waarden!$E$4:$E$353)))","v":" "},null,{"$f":"IF(BE116=0,\" \",IF(OR(BE116<1,BE116>350),\" \",LOOKUP(BE116,waarden!$D$4:$D$353,waarden!$E$4:$E$353)))","v":" "},null,{"$f":"IF(BG116=0,\" \",IF(OR(BG116<1,BG116>350),\" \",LOOKUP(BG116,waarden!$D$4:$D$353,waarden!$E$4:$E$353)))","v":" "},null,{"$f":"IF(BI116=0,\" \",IF(OR(BI116<1,BI116>350),\" \",LOOKUP(BI116,waarden!$D$4:$D$353,waarden!$E$4:$E$353)))","v":" "},null,{"$f":"IF(BK116=0,\" \",IF(OR(BK116<1,BK116>350),\" \",LOOKUP(BK116,waarden!$D$4:$D$353,waarden!$E$4:$E$353)))","v":" "},null,{"$f":"IF(BM116=0,\" \",IF(OR(BM116<1,BM116>350),\" \",LOOKUP(BM116,waarden!$D$4:$D$353,waarden!$E$4:$E$353)))","v":" "},0,0]
[null,null,null,"Passagier",null,{"$f":"IF(E117=0,\" \",IF(OR(E117<1,E117>350),\" \",LOOKUP(E117,waarden!$A$4:$A$353,waarden!$B$4:$B$353)))","v":" "},null,{"$f":"IF(G117=0,\" \",IF(OR(G117<1,G117>350),\" \",LOOKUP(G117,waarden!$A$4:$A$353,waarden!$B$4:$B$353)))","v":" "},null,{"$f":"IF(I117=0,\" \",IF(OR(I117<1,I117>350),\" \",LOOKUP(I117,waarden!$A$4:$A$353,waarden!$B$4:$B$353)))","v":" "},null,{"$f":"IF(K117=0,\" \",IF(OR(K117<1,K117>350),\" \",LOOKUP(K117,waarden!$A$4:$A$353,waarden!$B$4:$B$353)))","v":" "},null,{"$f":"IF(M117=0,\" \",IF(OR(M117<1,M117>350),\" \",LOOKUP(M117,waarden!$A$4:$A$353,waarden!$B$4:$B$353)))","v":" "},null,{"$f":"IF(O117=0,\" \",IF(OR(O117<1,O117>350),\" \",LOOKUP(O117,waarden!$A$4:$A$353,waarden!$B$4:$B$353)))","v":" "},null,{"$f":"IF(Q117=0,\" \",IF(OR(Q117<1,Q117>350),\" \",LOOKUP(Q117,waarden!$A$4:$A$353,waarden!$B$4:$B$353)))","v":" "},null,{"$f":"IF(S117=0,\" \",IF(OR(S117<1,S117>350),\" \",LOOKUP(S117,waarden!$A$4:$A$353,waarden!$B$4:$B$353)))","v":" "},null,{"$f":"IF(U117=0,\" \",IF(OR(U117<1,U117>350),\" \",LOOKUP(U117,waarden!$A$4:$A$353,waarden!$B$4:$B$353)))","v":" "},null,{"$f":"IF(W117=0,\" \",IF(OR(W117<1,W117>350),\" \",LOOKUP(W117,waarden!$A$4:$A$353,waarden!$B$4:$B$353)))","v":" "},null,{"$f":"IF(Y117=0,\" \",IF(OR(Y117<1,Y117>350),\" \",LOOKUP(Y117,waarden!$A$4:$A$353,waarden!$B$4:$B$353)))","v":" "},null,{"$f":"IF(AA117=0,\" \",IF(OR(AA117<1,AA117>350),\" \",LOOKUP(AA117,waarden!$A$4:$A$353,waarden!$B$4:$B$353)))","v":" "},null,{"$f":"IF(AC117=0,\" \",IF(OR(AC117<1,AC117>350),\" \",LOOKUP(AC117,waarden!$A$4:$A$353,waarden!$B$4:$B$353)))","v":" "},null,{"$f":"IF(AE117=0,\" \",IF(OR(AE117<1,AE117>350),\" \",LOOKUP(AE117,waarden!$A$4:$A$353,waarden!$B$4:$B$353)))","v":" "},null,{"$f":"IF(AG117=0,\" \",IF(OR(AG117<1,AG117>350),\" \",LOOKUP(AG117,waarden!$A$4:$A$353,waarden!$B$4:$B$353)))","v":" "},null,{"$f":"IF(AI117=0,\" \",IF(OR(AI117<1,AI117>350),\" \",LOOKUP(AI117,waarden!$A$4:$A$353,waarden!$B$4:$B$353)))","v":" "},null,{"$f":"IF(AK117=0,\" \",IF(OR(AK117<1,AK117>350),\" \",LOOKUP(AK117,waarden!$A$4:$A$353,waarden!$B$4:$B$353)))","v":" "},null,{"$f":"IF(AM117=0,\" \",IF(OR(AM117<1,AM117>350),\" \",LOOKUP(AM117,waarden!$A$4:$A$353,waarden!$B$4:$B$353)))","v":" "},null,{"$f":"IF(AO117=0,\" \",IF(OR(AO117<1,AO117>350),\" \",LOOKUP(AO117,waarden!$A$4:$A$353,waarden!$B$4:$B$353)))","v":" "},null,{"$f":"IF(AQ117=0,\" \",IF(OR(AQ117<1,AQ117>350),\" \",LOOKUP(AQ117,waarden!$A$4:$A$353,waarden!$B$4:$B$353)))","v":" "},null,{"$f":"IF(AS117=0,\" \",IF(OR(AS117<1,AS117>350),\" \",LOOKUP(AS117,waarden!$A$4:$A$353,waarden!$B$4:$B$353)))","v":" "},null,{"$f":"IF(AU117=0,\" \",IF(OR(AU117<1,AU117>350),\" \",LOOKUP(AU117,waarden!$A$4:$A$353,waarden!$B$4:$B$353)))","v":" "},null,{"$f":"IF(AW117=0,\" \",IF(OR(AW117<1,AW117>350),\" \",LOOKUP(AW117,waarden!$A$4:$A$353,waarden!$B$4:$B$353)))","v":" "},null,{"$f":"IF(AY117=0,\" \",IF(OR(AY117<1,AY117>350),\" \",LOOKUP(AY117,waarden!$A$4:$A$353,waarden!$B$4:$B$353)))","v":" "},null,{"$f":"IF(BA117=0,\" \",IF(OR(BA117<1,BA117>350),\" \",LOOKUP(BA117,waarden!$A$4:$A$353,waarden!$B$4:$B$353)))","v":" "},null,{"$f":"IF(BC117=0,\" \",IF(OR(BC117<1,BC117>350),\" \",LOOKUP(BC117,waarden!$A$4:$A$353,waarden!$B$4:$B$353)))","v":" "},null,{"$f":"IF(BE117=0,\" \",IF(OR(BE117<1,BE117>350),\" \",LOOKUP(BE117,waarden!$A$4:$A$353,waarden!$B$4:$B$353)))","v":" "},null,{"$f":"IF(BG117=0,\" \",IF(OR(BG117<1,BG117>350),\" \",LOOKUP(BG117,waarden!$A$4:$A$353,waarden!$B$4:$B$353)))","v":" "},null,{"$f":"IF(BI117=0,\" \",IF(OR(BI117<1,BI117>350),\" \",LOOKUP(BI117,waarden!$A$4:$A$353,waarden!$B$4:$B$353)))","v":" "},null,{"$f":"IF(BK117=0,\" \",IF(OR(BK117<1,BK117>350),\" \",LOOKUP(BK117,waarden!$A$4:$A$353,waarden!$B$4:$B$353)))","v":" "},null,{"$f":"IF(BM117=0,\" \",IF(OR(BM117<1,BM117>350),\" \",LOOKUP(BM117,waarden!$A$4:$A$353,waarden!$B$4:$B$353)))","v":" "},0,0]
[null,null,null,"Chauffeur personeel",null,{"$f":"IF(E118=0,\" \",IF(OR(E118<1,E118>350),\" \",LOOKUP(E118,waarden!$G$4:$G$353,waarden!$H$4:$H$353)))","v":" "},null,{"$f":"IF(G118=0,\" \",IF(OR(G118<1,G118>350),\" \",LOOKUP(G118,waarden!$G$4:$G$353,waarden!$H$4:$H$353)))","v":" "},null,{"$f":"IF(I118=0,\" \",IF(OR(I118<1,I118>350),\" \",LOOKUP(I118,waarden!$G$4:$G$353,waarden!$H$4:$H$353)))","v":" "},null,{"$f":"IF(K118=0,\" \",IF(OR(K118<1,K118>350),\" \",LOOKUP(K118,waarden!$G$4:$G$353,waarden!$H$4:$H$353)))","v":" "},null,{"$f":"IF(M118=0,\" \",IF(OR(M118<1,M118>350),\" \",LOOKUP(M118,waarden!$G$4:$G$353,waarden!$H$4:$H$353)))","v":" "},null,{"$f":"IF(O118=0,\" \",IF(OR(O118<1,O118>350),\" \",LOOKUP(O118,waarden!$G$4:$G$353,waarden!$H$4:$H$353)))","v":" "},null,{"$f":"IF(Q118=0,\" \",IF(OR(Q118<1,Q118>350),\" \",LOOKUP(Q118,waarden!$G$4:$G$353,waarden!$H$4:$H$353)))","v":" "},null,{"$f":"IF(S118=0,\" \",IF(OR(S118<1,S118>350),\" \",LOOKUP(S118,waarden!$G$4:$G$353,waarden!$H$4:$H$353)))","v":" "},null,{"$f":"IF(U118=0,\" \",IF(OR(U118<1,U118>350),\" \",LOOKUP(U118,waarden!$G$4:$G$353,waarden!$H$4:$H$353)))","v":" "},null,{"$f":"IF(W118=0,\" \",IF(OR(W118<1,W118>350),\" \",LOOKUP(W118,waarden!$G$4:$G$353,waarden!$H$4:$H$353)))","v":" "},null,{"$f":"IF(Y118=0,\" \",IF(OR(Y118<1,Y118>350),\" \",LOOKUP(Y118,waarden!$G$4:$G$353,waarden!$H$4:$H$353)))","v":" "},null,{"$f":"IF(AA118=0,\" \",IF(OR(AA118<1,AA118>350),\" \",LOOKUP(AA118,waarden!$G$4:$G$353,waarden!$H$4:$H$353)))","v":" "},null,{"$f":"IF(AC118=0,\" \",IF(OR(AC118<1,AC118>350),\" \",LOOKUP(AC118,waarden!$G$4:$G$353,waarden!$H$4:$H$353)))","v":" "},null,{"$f":"IF(AE118=0,\" \",IF(OR(AE118<1,AE118>350),\" \",LOOKUP(AE118,waarden!$G$4:$G$353,waarden!$H$4:$H$353)))","v":" "},null,{"$f":"IF(AG118=0,\" \",IF(OR(AG118<1,AG118>350),\" \",LOOKUP(AG118,waarden!$G$4:$G$353,waarden!$H$4:$H$353)))","v":" "},null,{"$f":"IF(AI118=0,\" \",IF(OR(AI118<1,AI118>350),\" \",LOOKUP(AI118,waarden!$G$4:$G$353,waarden!$H$4:$H$353)))","v":" "},null,{"$f":"IF(AK118=0,\" \",IF(OR(AK118<1,AK118>350),\" \",LOOKUP(AK118,waarden!$G$4:$G$353,waarden!$H$4:$H$353)))","v":" "},null,{"$f":"IF(AM118=0,\" \",IF(OR(AM118<1,AM118>350),\" \",LOOKUP(AM118,waarden!$G$4:$G$353,waarden!$H$4:$H$353)))","v":" "},null,{"$f":"IF(AO118=0,\" \",IF(OR(AO118<1,AO118>350),\" \",LOOKUP(AO118,waarden!$G$4:$G$353,waarden!$H$4:$H$353)))","v":" "},null,{"$f":"IF(AQ118=0,\" \",IF(OR(AQ118<1,AQ118>350),\" \",LOOKUP(AQ118,waarden!$G$4:$G$353,waarden!$H$4:$H$353)))","v":" "},null,{"$f":"IF(AS118=0,\" \",IF(OR(AS118<1,AS118>350),\" \",LOOKUP(AS118,waarden!$G$4:$G$353,waarden!$H$4:$H$353)))","v":" "},null,{"$f":"IF(AU118=0,\" \",IF(OR(AU118<1,AU118>350),\" \",LOOKUP(AU118,waarden!$G$4:$G$353,waarden!$H$4:$H$353)))","v":" "},null,{"$f":"IF(AW118=0,\" \",IF(OR(AW118<1,AW118>350),\" \",LOOKUP(AW118,waarden!$G$4:$G$353,waarden!$H$4:$H$353)))","v":" "},null,{"$f":"IF(AY118=0,\" \",IF(OR(AY118<1,AY118>350),\" \",LOOKUP(AY118,waarden!$G$4:$G$353,waarden!$H$4:$H$353)))","v":" "},null,{"$f":"IF(BA118=0,\" \",IF(OR(BA118<1,BA118>350),\" \",LOOKUP(BA118,waarden!$G$4:$G$353,waarden!$H$4:$H$353)))","v":" "},null,{"$f":"IF(BC118=0,\" \",IF(OR(BC118<1,BC118>350),\" \",LOOKUP(BC118,waarden!$G$4:$G$353,waarden!$H$4:$H$353)))","v":" "},null,{"$f":"IF(BE118=0,\" \",IF(OR(BE118<1,BE118>350),\" \",LOOKUP(BE118,waarden!$G$4:$G$353,waarden!$H$4:$H$353)))","v":" "},null,{"$f":"IF(BG118=0,\" \",IF(OR(BG118<1,BG118>350),\" \",LOOKUP(BG118,waarden!$G$4:$G$353,waarden!$H$4:$H$353)))","v":" "},null,{"$f":"IF(BI118=0,\" \",IF(OR(BI118<1,BI118>350),\" \",LOOKUP(BI118,waarden!$G$4:$G$353,waarden!$H$4:$H$353)))","v":" "},null,{"$f":"IF(BK118=0,\" \",IF(OR(BK118<1,BK118>350),\" \",LOOKUP(BK118,waarden!$G$4:$G$353,waarden!$H$4:$H$353)))","v":" "},null,{"$f":"IF(BM118=0,\" \",IF(OR(BM118<1,BM118>350),\" \",LOOKUP(BM118,waarden!$G$4:$G$353,waarden!$H$4:$H$353)))","v":" "},0,{"$f":"SUM(F118,H118,J118,L118,N118,P118,R118,T118,V118,X118,Z118,AB118,AD118,AF118,AH118,AJ118,AL118,AN118,AP118,AR118,AT118,AV118,AX118,AZ118,BB118,BD118,BF118,BH118,BJ118,BL118,BN118)","v":0}]
[null,null,null,"Chauffeur alleen",null,{"$f":"IF(E119=0,\" \",IF(OR(E119<1,E119>350),\" \",LOOKUP(E119,waarden!$D$4:$D$353,waarden!$E$4:$E$353)))","v":" "},null,{"$f":"IF(G119=0,\" \",IF(OR(G119<1,G119>350),\" \",LOOKUP(G119,waarden!$D$4:$D$353,waarden!$E$4:$E$353)))","v":" "},null,{"$f":"IF(I119=0,\" \",IF(OR(I119<1,I119>350),\" \",LOOKUP(I119,waarden!$D$4:$D$353,waarden!$E$4:$E$353)))","v":" "},null,{"$f":"IF(K119=0,\" \",IF(OR(K119<1,K119>350),\" \",LOOKUP(K119,waarden!$D$4:$D$353,waarden!$E$4:$E$353)))","v":" "},null,{"$f":"IF(M119=0,\" \",IF(OR(M119<1,M119>350),\" \",LOOKUP(M119,waarden!$D$4:$D$353,waarden!$E$4:$E$353)))","v":" "},null,{"$f":"IF(O119=0,\" \",IF(OR(O119<1,O119>350),\" \",LOOKUP(O119,waarden!$D$4:$D$353,waarden!$E$4:$E$353)))","v":" "},null,{"$f":"IF(Q119=0,\" \",IF(OR(Q119<1,Q119>350),\" \",LOOKUP(Q119,waarden!$D$4:$D$353,waarden!$E$4:$E$353)))","v":" "},null,{"$f":"IF(S119=0,\" \",IF(OR(S119<1,S119>350),\" \",LOOKUP(S119,waarden!$D$4:$D$353,waarden!$E$4:$E$353)))","v":" "},null,{"$f":"IF(U119=0,\" \",IF(OR(U119<1,U119>350),\" \",LOOKUP(U119,waarden!$D$4:$D$353,waarden!$E$4:$E$353)))","v":" "},null,{"$f":"IF(W119=0,\" \",IF(OR(W119<1,W119>350),\" \",LOOKUP(W119,waarden!$D$4:$D$353,waarden!$E$4:$E$353)))","v":" "},null,{"$f":"IF(Y119=0,\" \",IF(OR(Y119<1,Y119>350),\" \",LOOKUP(Y119,waarden!$D$4:$D$353,waarden!$E$4:$E$353)))","v":" "},null,{"$f":"IF(AA119=0,\" \",IF(OR(AA119<1,AA119>350),\" \",LOOKUP(AA119,waarden!$D$4:$D$353,waarden!$E$4:$E$353)))","v":" "},null,{"$f":"IF(AC119=0,\" \",IF(OR(AC119<1,AC119>350),\" \",LOOKUP(AC119,waarden!$D$4:$D$353,waarden!$E$4:$E$353)))","v":" "},null,{"$f":"IF(AE119=0,\" \",IF(OR(AE119<1,AE119>350),\" \",LOOKUP(AE119,waarden!$D$4:$D$353,waarden!$E$4:$E$353)))","v":" "},null,{"$f":"IF(AG119=0,\" \",IF(OR(AG119<1,AG119>350),\" \",LOOKUP(AG119,waarden!$D$4:$D$353,waarden!$E$4:$E$353)))","v":" "},null,{"$f":"IF(AI119=0,\" \",IF(OR(AI119<1,AI119>350),\" \",LOOKUP(AI119,waarden!$D$4:$D$353,waarden!$E$4:$E$353)))","v":" "},null,{"$f":"IF(AK119=0,\" \",IF(OR(AK119<1,AK119>350),\" \",LOOKUP(AK119,waarden!$D$4:$D$353,waarden!$E$4:$E$353)))","v":" "},null,{"$f":"IF(AM119=0,\" \",IF(OR(AM119<1,AM119>350),\" \",LOOKUP(AM119,waarden!$D$4:$D$353,waarden!$E$4:$E$353)))","v":" "},null,{"$f":"IF(AO119=0,\" \",IF(OR(AO119<1,AO119>350),\" \",LOOKUP(AO119,waarden!$D$4:$D$353,waarden!$E$4:$E$353)))","v":" "},null,{"$f":"IF(AQ119=0,\" \",IF(OR(AQ119<1,AQ119>350),\" \",LOOKUP(AQ119,waarden!$D$4:$D$353,waarden!$E$4:$E$353)))","v":" "},null,{"$f":"IF(AS119=0,\" \",IF(OR(AS119<1,AS119>350),\" \",LOOKUP(AS119,waarden!$D$4:$D$353,waarden!$E$4:$E$353)))","v":" "},null,{"$f":"IF(AU119=0,\" \",IF(OR(AU119<1,AU119>350),\" \",LOOKUP(AU119,waarden!$D$4:$D$353,waarden!$E$4:$E$353)))","v":" "},null,{"$f":"IF(AW119=0,\" \",IF(OR(AW119<1,AW119>350),\" \",LOOKUP(AW119,waarden!$D$4:$D$353,waarden!$E$4:$E$353)))","v":" "},null,{"$f":"IF(AY119=0,\" \",IF(OR(AY119<1,AY119>350),\" \",LOOKUP(AY119,waarden!$D$4:$D$353,waarden!$E$4:$E$353)))","v":" "},null,{"$f":"IF(BA119=0,\" \",IF(OR(BA119<1,BA119>350),\" \",LOOKUP(BA119,waarden!$D$4:$D$353,waarden!$E$4:$E$353)))","v":" "},null,{"$f":"IF(BC119=0,\" \",IF(OR(BC119<1,BC119>350),\" \",LOOKUP(BC119,waarden!$D$4:$D$353,waarden!$E$4:$E$353)))","v":" "},null,{"$f":"IF(BE119=0,\" \",IF(OR(BE119<1,BE119>350),\" \",LOOKUP(BE119,waarden!$D$4:$D$353,waarden!$E$4:$E$353)))","v":" "},null,{"$f":"IF(BG119=0,\" \",IF(OR(BG119<1,BG119>350),\" \",LOOKUP(BG119,waarden!$D$4:$D$353,waarden!$E$4:$E$353)))","v":" "},null,{"$f":"IF(BI119=0,\" \",IF(OR(BI119<1,BI119>350),\" \",LOOKUP(BI119,waarden!$D$4:$D$353,waarden!$E$4:$E$353)))","v":" "},null,{"$f":"IF(BK119=0,\" \",IF(OR(BK119<1,BK119>350),\" \",LOOKUP(BK119,waarden!$D$4:$D$353,waarden!$E$4:$E$353)))","v":" "},null,{"$f":"IF(BM119=0,\" \",IF(OR(BM119<1,BM119>350),\" \",LOOKUP(BM119,waarden!$D$4:$D$353,waarden!$E$4:$E$353)))","v":" "},0,0]
[null,null,null,"Passagier",null,{"$f":"IF(E120=0,\" \",IF(OR(E120<1,E120>350),\" \",LOOKUP(E120,waarden!$A$4:$A$353,waarden!$B$4:$B$353)))","v":" "},null,{"$f":"IF(G120=0,\" \",IF(OR(G120<1,G120>350),\" \",LOOKUP(G120,waarden!$A$4:$A$353,waarden!$B$4:$B$353)))","v":" "},null,{"$f":"IF(I120=0,\" \",IF(OR(I120<1,I120>350),\" \",LOOKUP(I120,waarden!$A$4:$A$353,waarden!$B$4:$B$353)))","v":" "},null,{"$f":"IF(K120=0,\" \",IF(OR(K120<1,K120>350),\" \",LOOKUP(K120,waarden!$A$4:$A$353,waarden!$B$4:$B$353)))","v":" "},null,{"$f":"IF(M120=0,\" \",IF(OR(M120<1,M120>350),\" \",LOOKUP(M120,waarden!$A$4:$A$353,waarden!$B$4:$B$353)))","v":" "},null,{"$f":"IF(O120=0,\" \",IF(OR(O120<1,O120>350),\" \",LOOKUP(O120,waarden!$A$4:$A$353,waarden!$B$4:$B$353)))","v":" "},null,{"$f":"IF(Q120=0,\" \",IF(OR(Q120<1,Q120>350),\" \",LOOKUP(Q120,waarden!$A$4:$A$353,waarden!$B$4:$B$353)))","v":" "},null,{"$f":"IF(S120=0,\" \",IF(OR(S120<1,S120>350),\" \",LOOKUP(S120,waarden!$A$4:$A$353,waarden!$B$4:$B$353)))","v":" "},null,{"$f":"IF(U120=0,\" \",IF(OR(U120<1,U120>350),\" \",LOOKUP(U120,waarden!$A$4:$A$353,waarden!$B$4:$B$353)))","v":" "},null,{"$f":"IF(W120=0,\" \",IF(OR(W120<1,W120>350),\" \",LOOKUP(W120,waarden!$A$4:$A$353,waarden!$B$4:$B$353)))","v":" "},null,{"$f":"IF(Y120=0,\" \",IF(OR(Y120<1,Y120>350),\" \",LOOKUP(Y120,waarden!$A$4:$A$353,waarden!$B$4:$B$353)))","v":" "},null,{"$f":"IF(AA120=0,\" \",IF(OR(AA120<1,AA120>350),\" \",LOOKUP(AA120,waarden!$A$4:$A$353,waarden!$B$4:$B$353)))","v":" "},null,{"$f":"IF(AC120=0,\" \",IF(OR(AC120<1,AC120>350),\" \",LOOKUP(AC120,waarden!$A$4:$A$353,waarden!$B$4:$B$353)))","v":" "},null,{"$f":"IF(AE120=0,\" \",IF(OR(AE120<1,AE120>350),\" \",LOOKUP(AE120,waarden!$A$4:$A$353,waarden!$B$4:$B$353)))","v":" "},null,{"$f":"IF(AG120=0,\" \",IF(OR(AG120<1,AG120>350),\" \",LOOKUP(AG120,waarden!$A$4:$A$353,waarden!$B$4:$B$353)))","v":" "},null,{"$f":"IF(AI120=0,\" \",IF(OR(AI120<1,AI120>350),\" \",LOOKUP(AI120,waarden!$A$4:$A$353,waarden!$B$4:$B$353)))","v":" "},null,{"$f":"IF(AK120=0,\" \",IF(OR(AK120<1,AK120>350),\" \",LOOKUP(AK120,waarden!$A$4:$A$353,waarden!$B$4:$B$353)))","v":" "},null,{"$f":"IF(AM120=0,\" \",IF(OR(AM120<1,AM120>350),\" \",LOOKUP(AM120,waarden!$A$4:$A$353,waarden!$B$4:$B$353)))","v":" "},null,{"$f":"IF(AO120=0,\" \",IF(OR(AO120<1,AO120>350),\" \",LOOKUP(AO120,waarden!$A$4:$A$353,waarden!$B$4:$B$353)))","v":" "},null,{"$f":"IF(AQ120=0,\" \",IF(OR(AQ120<1,AQ120>350),\" \",LOOKUP(AQ120,waarden!$A$4:$A$353,waarden!$B$4:$B$353)))","v":" "},null,{"$f":"IF(AS120=0,\" \",IF(OR(AS120<1,AS120>350),\" \",LOOKUP(AS120,waarden!$A$4:$A$353,waarden!$B$4:$B$353)))","v":" "},null,{"$f":"IF(AU120=0,\" \",IF(OR(AU120<1,AU120>350),\" \",LOOKUP(AU120,waarden!$A$4:$A$353,waarden!$B$4:$B$353)))","v":" "},null,{"$f":"IF(AW120=0,\" \",IF(OR(AW120<1,AW120>350),\" \",LOOKUP(AW120,waarden!$A$4:$A$353,waarden!$B$4:$B$353)))","v":" "},null,{"$f":"IF(AY120=0,\" \",IF(OR(AY120<1,AY120>350),\" \",LOOKUP(AY120,waarden!$A$4:$A$353,waarden!$B$4:$B$353)))","v":" "},null,{"$f":"IF(BA120=0,\" \",IF(OR(BA120<1,BA120>350),\" \",LOOKUP(BA120,waarden!$A$4:$A$353,waarden!$B$4:$B$353)))","v":" "},null,{"$f":"IF(BC120=0,\" \",IF(OR(BC120<1,BC120>350),\" \",LOOKUP(BC120,waarden!$A$4:$A$353,waarden!$B$4:$B$353)))","v":" "},null,{"$f":"IF(BE120=0,\" \",IF(OR(BE120<1,BE120>350),\" \",LOOKUP(BE120,waarden!$A$4:$A$353,waarden!$B$4:$B$353)))","v":" "},null,{"$f":"IF(BG120=0,\" \",IF(OR(BG120<1,BG120>350),\" \",LOOKUP(BG120,waarden!$A$4:$A$353,waarden!$B$4:$B$353)))","v":" "},null,{"$f":"IF(BI120=0,\" \",IF(OR(BI120<1,BI120>350),\" \",LOOKUP(BI120,waarden!$A$4:$A$353,waarden!$B$4:$B$353)))","v":" "},null,{"$f":"IF(BK120=0,\" \",IF(OR(BK120<1,BK120>350),\" \",LOOKUP(BK120,waarden!$A$4:$A$353,waarden!$B$4:$B$353)))","v":" "},null,{"$f":"IF(BM120=0,\" \",IF(OR(BM120<1,BM120>350),\" \",LOOKUP(BM120,waarden!$A$4:$A$353,waarden!$B$4:$B$353)))","v":" "},0,0]
[null,null,null,"Chauffeur personeel",null,{"$f":"IF(E121=0,\" \",IF(OR(E121<1,E121>350),\" \",LOOKUP(E121,waarden!$G$4:$G$353,waarden!$H$4:$H$353)))","v":" "},null,{"$f":"IF(G121=0,\" \",IF(OR(G121<1,G121>350),\" \",LOOKUP(G121,waarden!$G$4:$G$353,waarden!$H$4:$H$353)))","v":" "},null,{"$f":"IF(I121=0,\" \",IF(OR(I121<1,I121>350),\" \",LOOKUP(I121,waarden!$G$4:$G$353,waarden!$H$4:$H$353)))","v":" "},null,{"$f":"IF(K121=0,\" \",IF(OR(K121<1,K121>350),\" \",LOOKUP(K121,waarden!$G$4:$G$353,waarden!$H$4:$H$353)))","v":" "},null,{"$f":"IF(M121=0,\" \",IF(OR(M121<1,M121>350),\" \",LOOKUP(M121,waarden!$G$4:$G$353,waarden!$H$4:$H$353)))","v":" "},null,{"$f":"IF(O121=0,\" \",IF(OR(O121<1,O121>350),\" \",LOOKUP(O121,waarden!$G$4:$G$353,waarden!$H$4:$H$353)))","v":" "},null,{"$f":"IF(Q121=0,\" \",IF(OR(Q121<1,Q121>350),\" \",LOOKUP(Q121,waarden!$G$4:$G$353,waarden!$H$4:$H$353)))","v":" "},null,{"$f":"IF(S121=0,\" \",IF(OR(S121<1,S121>350),\" \",LOOKUP(S121,waarden!$G$4:$G$353,waarden!$H$4:$H$353)))","v":" "},null,{"$f":"IF(U121=0,\" \",IF(OR(U121<1,U121>350),\" \",LOOKUP(U121,waarden!$G$4:$G$353,waarden!$H$4:$H$353)))","v":" "},null,{"$f":"IF(W121=0,\" \",IF(OR(W121<1,W121>350),\" \",LOOKUP(W121,waarden!$G$4:$G$353,waarden!$H$4:$H$353)))","v":" "},null,{"$f":"IF(Y121=0,\" \",IF(OR(Y121<1,Y121>350),\" \",LOOKUP(Y121,waarden!$G$4:$G$353,waarden!$H$4:$H$353)))","v":" "},null,{"$f":"IF(AA121=0,\" \",IF(OR(AA121<1,AA121>350),\" \",LOOKUP(AA121,waarden!$G$4:$G$353,waarden!$H$4:$H$353)))","v":" "},null,{"$f":"IF(AC121=0,\" \",IF(OR(AC121<1,AC121>350),\" \",LOOKUP(AC121,waarden!$G$4:$G$353,waarden!$H$4:$H$353)))","v":" "},null,{"$f":"IF(AE121=0,\" \",IF(OR(AE121<1,AE121>350),\" \",LOOKUP(AE121,waarden!$G$4:$G$353,waarden!$H$4:$H$353)))","v":" "},null,{"$f":"IF(AG121=0,\" \",IF(OR(AG121<1,AG121>350),\" \",LOOKUP(AG121,waarden!$G$4:$G$353,waarden!$H$4:$H$353)))","v":" "},null,{"$f":"IF(AI121=0,\" \",IF(OR(AI121<1,AI121>350),\" \",LOOKUP(AI121,waarden!$G$4:$G$353,waarden!$H$4:$H$353)))","v":" "},null,{"$f":"IF(AK121=0,\" \",IF(OR(AK121<1,AK121>350),\" \",LOOKUP(AK121,waarden!$G$4:$G$353,waarden!$H$4:$H$353)))","v":" "},null,{"$f":"IF(AM121=0,\" \",IF(OR(AM121<1,AM121>350),\" \",LOOKUP(AM121,waarden!$G$4:$G$353,waarden!$H$4:$H$353)))","v":" "},null,{"$f":"IF(AO121=0,\" \",IF(OR(AO121<1,AO121>350),\" \",LOOKUP(AO121,waarden!$G$4:$G$353,waarden!$H$4:$H$353)))","v":" "},null,{"$f":"IF(AQ121=0,\" \",IF(OR(AQ121<1,AQ121>350),\" \",LOOKUP(AQ121,waarden!$G$4:$G$353,waarden!$H$4:$H$353)))","v":" "},null,{"$f":"IF(AS121=0,\" \",IF(OR(AS121<1,AS121>350),\" \",LOOKUP(AS121,waarden!$G$4:$G$353,waarden!$H$4:$H$353)))","v":" "},null,{"$f":"IF(AU121=0,\" \",IF(OR(AU121<1,AU121>350),\" \",LOOKUP(AU121,waarden!$G$4:$G$353,waarden!$H$4:$H$353)))","v":" "},null,{"$f":"IF(AW121=0,\" \",IF(OR(AW121<1,AW121>350),\" \",LOOKUP(AW121,waarden!$G$4:$G$353,waarden!$H$4:$H$353)))","v":" "},null,{"$f":"IF(AY121=0,\" \",IF(OR(AY121<1,AY121>350),\" \",LOOKUP(AY121,waarden!$G$4:$G$353,waarden!$H$4:$H$353)))","v":" "},null,{"$f":"IF(BA121=0,\" \",IF(OR(BA121<1,BA121>350),\" \",LOOKUP(BA121,waarden!$G$4:$G$353,waarden!$H$4:$H$353)))","v":" "},null,{"$f":"IF(BC121=0,\" \",IF(OR(BC121<1,BC121>350),\" \",LOOKUP(BC121,waarden!$G$4:$G$353,waarden!$H$4:$H$353)))","v":" "},null,{"$f":"IF(BE121=0,\" \",IF(OR(BE121<1,BE121>350),\" \",LOOKUP(BE121,waarden!$G$4:$G$353,waarden!$H$4:$H$353)))","v":" "},null,{"$f":"IF(BG121=0,\" \",IF(OR(BG121<1,BG121>350),\" \",LOOKUP(BG121,waarden!$G$4:$G$353,waarden!$H$4:$H$353)))","v":" "},null,{"$f":"IF(BI121=0,\" \",IF(OR(BI121<1,BI121>350),\" \",LOOKUP(BI121,waarden!$G$4:$G$353,waarden!$H$4:$H$353)))","v":" "},null,{"$f":"IF(BK121=0,\" \",IF(OR(BK121<1,BK121>350),\" \",LOOKUP(BK121,waarden!$G$4:$G$353,waarden!$H$4:$H$353)))","v":" "},null,{"$f":"IF(BM121=0,\" \",IF(OR(BM121<1,BM121>350),\" \",LOOKUP(BM121,waarden!$G$4:$G$353,waarden!$H$4:$H$353)))","v":" "},0,{"$f":"SUM(F121,H121,J121,L121,N121,P121,R121,T121,V121,X121,Z121,AB121,AD121,AF121,AH121,AJ121,AL121,AN121,AP121,AR121,AT121,AV121,AX121,AZ121,BB121,BD121,BF121,BH121,BJ121,BL121,BN121)","v":0}]
[null,null,null,"Chauffeur alleen",null,{"$f":"IF(E122=0,\" \",IF(OR(E122<1,E122>350),\" \",LOOKUP(E122,waarden!$D$4:$D$353,waarden!$E$4:$E$353)))","v":" "},null,{"$f":"IF(G122=0,\" \",IF(OR(G122<1,G122>350),\" \",LOOKUP(G122,waarden!$D$4:$D$353,waarden!$E$4:$E$353)))","v":" "},null,{"$f":"IF(I122=0,\" \",IF(OR(I122<1,I122>350),\" \",LOOKUP(I122,waarden!$D$4:$D$353,waarden!$E$4:$E$353)))","v":" "},null,{"$f":"IF(K122=0,\" \",IF(OR(K122<1,K122>350),\" \",LOOKUP(K122,waarden!$D$4:$D$353,waarden!$E$4:$E$353)))","v":" "},null,{"$f":"IF(M122=0,\" \",IF(OR(M122<1,M122>350),\" \",LOOKUP(M122,waarden!$D$4:$D$353,waarden!$E$4:$E$353)))","v":" "},null,{"$f":"IF(O122=0,\" \",IF(OR(O122<1,O122>350),\" \",LOOKUP(O122,waarden!$D$4:$D$353,waarden!$E$4:$E$353)))","v":" "},null,{"$f":"IF(Q122=0,\" \",IF(OR(Q122<1,Q122>350),\" \",LOOKUP(Q122,waarden!$D$4:$D$353,waarden!$E$4:$E$353)))","v":" "},null,{"$f":"IF(S122=0,\" \",IF(OR(S122<1,S122>350),\" \",LOOKUP(S122,waarden!$D$4:$D$353,waarden!$E$4:$E$353)))","v":" "},null,{"$f":"IF(U122=0,\" \",IF(OR(U122<1,U122>350),\" \",LOOKUP(U122,waarden!$D$4:$D$353,waarden!$E$4:$E$353)))","v":" "},null,{"$f":"IF(W122=0,\" \",IF(OR(W122<1,W122>350),\" \",LOOKUP(W122,waarden!$D$4:$D$353,waarden!$E$4:$E$353)))","v":" "},null,{"$f":"IF(Y122=0,\" \",IF(OR(Y122<1,Y122>350),\" \",LOOKUP(Y122,waarden!$D$4:$D$353,waarden!$E$4:$E$353)))","v":" "},null,{"$f":"IF(AA122=0,\" \",IF(OR(AA122<1,AA122>350),\" \",LOOKUP(AA122,waarden!$D$4:$D$353,waarden!$E$4:$E$353)))","v":" "},null,{"$f":"IF(AC122=0,\" \",IF(OR(AC122<1,AC122>350),\" \",LOOKUP(AC122,waarden!$D$4:$D$353,waarden!$E$4:$E$353)))","v":" "},null,{"$f":"IF(AE122=0,\" \",IF(OR(AE122<1,AE122>350),\" \",LOOKUP(AE122,waarden!$D$4:$D$353,waarden!$E$4:$E$353)))","v":" "},null,{"$f":"IF(AG122=0,\" \",IF(OR(AG122<1,AG122>350),\" \",LOOKUP(AG122,waarden!$D$4:$D$353,waarden!$E$4:$E$353)))","v":" "},null,{"$f":"IF(AI122=0,\" \",IF(OR(AI122<1,AI122>350),\" \",LOOKUP(AI122,waarden!$D$4:$D$353,waarden!$E$4:$E$353)))","v":" "},null,{"$f":"IF(AK122=0,\" \",IF(OR(AK122<1,AK122>350),\" \",LOOKUP(AK122,waarden!$D$4:$D$353,waarden!$E$4:$E$353)))","v":" "},null,{"$f":"IF(AM122=0,\" \",IF(OR(AM122<1,AM122>350),\" \",LOOKUP(AM122,waarden!$D$4:$D$353,waarden!$E$4:$E$353)))","v":" "},null,{"$f":"IF(AO122=0,\" \",IF(OR(AO122<1,AO122>350),\" \",LOOKUP(AO122,waarden!$D$4:$D$353,waarden!$E$4:$E$353)))","v":" "},null,{"$f":"IF(AQ122=0,\" \",IF(OR(AQ122<1,AQ122>350),\" \",LOOKUP(AQ122,waarden!$D$4:$D$353,waarden!$E$4:$E$353)))","v":" "},null,{"$f":"IF(AS122=0,\" \",IF(OR(AS122<1,AS122>350),\" \",LOOKUP(AS122,waarden!$D$4:$D$353,waarden!$E$4:$E$353)))","v":" "},null,{"$f":"IF(AU122=0,\" \",IF(OR(AU122<1,AU122>350),\" \",LOOKUP(AU122,waarden!$D$4:$D$353,waarden!$E$4:$E$353)))","v":" "},null,{"$f":"IF(AW122=0,\" \",IF(OR(AW122<1,AW122>350),\" \",LOOKUP(AW122,waarden!$D$4:$D$353,waarden!$E$4:$E$353)))","v":" "},null,{"$f":"IF(AY122=0,\" \",IF(OR(AY122<1,AY122>350),\" \",LOOKUP(AY122,waarden!$D$4:$D$353,waarden!$E$4:$E$353)))","v":" "},null,{"$f":"IF(BA122=0,\" \",IF(OR(BA122<1,BA122>350),\" \",LOOKUP(BA122,waarden!$D$4:$D$353,waarden!$E$4:$E$353)))","v":" "},null,{"$f":"IF(BC122=0,\" \",IF(OR(BC122<1,BC122>350),\" \",LOOKUP(BC122,waarden!$D$4:$D$353,waarden!$E$4:$E$353)))","v":" "},null,{"$f":"IF(BE122=0,\" \",IF(OR(BE122<1,BE122>350),\" \",LOOKUP(BE122,waarden!$D$4:$D$353,waarden!$E$4:$E$353)))","v":" "},null,{"$f":"IF(BG122=0,\" \",IF(OR(BG122<1,BG122>350),\" \",LOOKUP(BG122,waarden!$D$4:$D$353,waarden!$E$4:$E$353)))","v":" "},null,{"$f":"IF(BI122=0,\" \",IF(OR(BI122<1,BI122>350),\" \",LOOKUP(BI122,waarden!$D$4:$D$353,waarden!$E$4:$E$353)))","v":" "},null,{"$f":"IF(BK122=0,\" \",IF(OR(BK122<1,BK122>350),\" \",LOOKUP(BK122,waarden!$D$4:$D$353,waarden!$E$4:$E$353)))","v":" "},null,{"$f":"IF(BM122=0,\" \",IF(OR(BM122<1,BM122>350),\" \",LOOKUP(BM122,waarden!$D$4:$D$353,waarden!$E$4:$E$353)))","v":" "},0,0]
[null,null,null,"Passagier",null,{"$f":"IF(E123=0,\" \",IF(OR(E123<1,E123>350),\" \",LOOKUP(E123,waarden!$A$4:$A$353,waarden!$B$4:$B$353)))","v":" "},null,{"$f":"IF(G123=0,\" \",IF(OR(G123<1,G123>350),\" \",LOOKUP(G123,waarden!$A$4:$A$353,waarden!$B$4:$B$353)))","v":" "},null,{"$f":"IF(I123=0,\" \",IF(OR(I123<1,I123>350),\" \",LOOKUP(I123,waarden!$A$4:$A$353,waarden!$B$4:$B$353)))","v":" "},null,{"$f":"IF(K123=0,\" \",IF(OR(K123<1,K123>350),\" \",LOOKUP(K123,waarden!$A$4:$A$353,waarden!$B$4:$B$353)))","v":" "},null,{"$f":"IF(M123=0,\" \",IF(OR(M123<1,M123>350),\" \",LOOKUP(M123,waarden!$A$4:$A$353,waarden!$B$4:$B$353)))","v":" "},null,{"$f":"IF(O123=0,\" \",IF(OR(O123<1,O123>350),\" \",LOOKUP(O123,waarden!$A$4:$A$353,waarden!$B$4:$B$353)))","v":" "},null,{"$f":"IF(Q123=0,\" \",IF(OR(Q123<1,Q123>350),\" \",LOOKUP(Q123,waarden!$A$4:$A$353,waarden!$B$4:$B$353)))","v":" "},null,{"$f":"IF(S123=0,\" \",IF(OR(S123<1,S123>350),\" \",LOOKUP(S123,waarden!$A$4:$A$353,waarden!$B$4:$B$353)))","v":" "},null,{"$f":"IF(U123=0,\" \",IF(OR(U123<1,U123>350),\" \",LOOKUP(U123,waarden!$A$4:$A$353,waarden!$B$4:$B$353)))","v":" "},null,{"$f":"IF(W123=0,\" \",IF(OR(W123<1,W123>350),\" \",LOOKUP(W123,waarden!$A$4:$A$353,waarden!$B$4:$B$353)))","v":" "},null,{"$f":"IF(Y123=0,\" \",IF(OR(Y123<1,Y123>350),\" \",LOOKUP(Y123,waarden!$A$4:$A$353,waarden!$B$4:$B$353)))","v":" "},null,{"$f":"IF(AA123=0,\" \",IF(OR(AA123<1,AA123>350),\" \",LOOKUP(AA123,waarden!$A$4:$A$353,waarden!$B$4:$B$353)))","v":" "},null,{"$f":"IF(AC123=0,\" \",IF(OR(AC123<1,AC123>350),\" \",LOOKUP(AC123,waarden!$A$4:$A$353,waarden!$B$4:$B$353)))","v":" "},null,{"$f":"IF(AE123=0,\" \",IF(OR(AE123<1,AE123>350),\" \",LOOKUP(AE123,waarden!$A$4:$A$353,waarden!$B$4:$B$353)))","v":" "},null,{"$f":"IF(AG123=0,\" \",IF(OR(AG123<1,AG123>350),\" \",LOOKUP(AG123,waarden!$A$4:$A$353,waarden!$B$4:$B$353)))","v":" "},null,{"$f":"IF(AI123=0,\" \",IF(OR(AI123<1,AI123>350),\" \",LOOKUP(AI123,waarden!$A$4:$A$353,waarden!$B$4:$B$353)))","v":" "},null,{"$f":"IF(AK123=0,\" \",IF(OR(AK123<1,AK123>350),\" \",LOOKUP(AK123,waarden!$A$4:$A$353,waarden!$B$4:$B$353)))","v":" "},null,{"$f":"IF(AM123=0,\" \",IF(OR(AM123<1,AM123>350),\" \",LOOKUP(AM123,waarden!$A$4:$A$353,waarden!$B$4:$B$353)))","v":" "},null,{"$f":"IF(AO123=0,\" \",IF(OR(AO123<1,AO123>350),\" \",LOOKUP(AO123,waarden!$A$4:$A$353,waarden!$B$4:$B$353)))","v":" "},null,{"$f":"IF(AQ123=0,\" \",IF(OR(AQ123<1,AQ123>350),\" \",LOOKUP(AQ123,waarden!$A$4:$A$353,waarden!$B$4:$B$353)))","v":" "},null,{"$f":"IF(AS123=0,\" \",IF(OR(AS123<1,AS123>350),\" \",LOOKUP(AS123,waarden!$A$4:$A$353,waarden!$B$4:$B$353)))","v":" "},null,{"$f":"IF(AU123=0,\" \",IF(OR(AU123<1,AU123>350),\" \",LOOKUP(AU123,waarden!$A$4:$A$353,waarden!$B$4:$B$353)))","v":" "},null,{"$f":"IF(AW123=0,\" \",IF(OR(AW123<1,AW123>350),\" \",LOOKUP(AW123,waarden!$A$4:$A$353,waarden!$B$4:$B$353)))","v":" "},null,{"$f":"IF(AY123=0,\" \",IF(OR(AY123<1,AY123>350),\" \",LOOKUP(AY123,waarden!$A$4:$A$353,waarden!$B$4:$B$353)))","v":" "},null,{"$f":"IF(BA123=0,\" \",IF(OR(BA123<1,BA123>350),\" \",LOOKUP(BA123,waarden!$A$4:$A$353,waarden!$B$4:$B$353)))","v":" "},null,{"$f":"IF(BC123=0,\" \",IF(OR(BC123<1,BC123>350),\" \",LOOKUP(BC123,waarden!$A$4:$A$353,waarden!$B$4:$B$353)))","v":" "},null,{"$f":"IF(BE123=0,\" \",IF(OR(BE123<1,BE123>350),\" \",LOOKUP(BE123,waarden!$A$4:$A$353,waarden!$B$4:$B$353)))","v":" "},null,{"$f":"IF(BG123=0,\" \",IF(OR(BG123<1,BG123>350),\" \",LOOKUP(BG123,waarden!$A$4:$A$353,waarden!$B$4:$B$353)))","v":" "},null,{"$f":"IF(BI123=0,\" \",IF(OR(BI123<1,BI123>350),\" \",LOOKUP(BI123,waarden!$A$4:$A$353,waarden!$B$4:$B$353)))","v":" "},null,{"$f":"IF(BK123=0,\" \",IF(OR(BK123<1,BK123>350),\" \",LOOKUP(BK123,waarden!$A$4:$A$353,waarden!$B$4:$B$353)))","v":" "},null,{"$f":"IF(BM123=0,\" \",IF(OR(BM123<1,BM123>350),\" \",LOOKUP(BM123,waarden!$A$4:$A$353,waarden!$B$4:$B$353)))","v":" "},0,0]
[null,null,null,"Chauffeur personeel",null,{"$f":"IF(E124=0,\" \",IF(OR(E124<1,E124>350),\" \",LOOKUP(E124,waarden!$G$4:$G$353,waarden!$H$4:$H$353)))","v":" "},null,{"$f":"IF(G124=0,\" \",IF(OR(G124<1,G124>350),\" \",LOOKUP(G124,waarden!$G$4:$G$353,waarden!$H$4:$H$353)))","v":" "},null,{"$f":"IF(I124=0,\" \",IF(OR(I124<1,I124>350),\" \",LOOKUP(I124,waarden!$G$4:$G$353,waarden!$H$4:$H$353)))","v":" "},null,{"$f":"IF(K124=0,\" \",IF(OR(K124<1,K124>350),\" \",LOOKUP(K124,waarden!$G$4:$G$353,waarden!$H$4:$H$353)))","v":" "},null,{"$f":"IF(M124=0,\" \",IF(OR(M124<1,M124>350),\" \",LOOKUP(M124,waarden!$G$4:$G$353,waarden!$H$4:$H$353)))","v":" "},null,{"$f":"IF(O124=0,\" \",IF(OR(O124<1,O124>350),\" \",LOOKUP(O124,waarden!$G$4:$G$353,waarden!$H$4:$H$353)))","v":" "},null,{"$f":"IF(Q124=0,\" \",IF(OR(Q124<1,Q124>350),\" \",LOOKUP(Q124,waarden!$G$4:$G$353,waarden!$H$4:$H$353)))","v":" "},null,{"$f":"IF(S124=0,\" \",IF(OR(S124<1,S124>350),\" \",LOOKUP(S124,waarden!$G$4:$G$353,waarden!$H$4:$H$353)))","v":" "},null,{"$f":"IF(U124=0,\" \",IF(OR(U124<1,U124>350),\" \",LOOKUP(U124,waarden!$G$4:$G$353,waarden!$H$4:$H$353)))","v":" "},null,{"$f":"IF(W124=0,\" \",IF(OR(W124<1,W124>350),\" \",LOOKUP(W124,waarden!$G$4:$G$353,waarden!$H$4:$H$353)))","v":" "},null,{"$f":"IF(Y124=0,\" \",IF(OR(Y124<1,Y124>350),\" \",LOOKUP(Y124,waarden!$G$4:$G$353,waarden!$H$4:$H$353)))","v":" "},null,{"$f":"IF(AA124=0,\" \",IF(OR(AA124<1,AA124>350),\" \",LOOKUP(AA124,waarden!$G$4:$G$353,waarden!$H$4:$H$353)))","v":" "},null,{"$f":"IF(AC124=0,\" \",IF(OR(AC124<1,AC124>350),\" \",LOOKUP(AC124,waarden!$G$4:$G$353,waarden!$H$4:$H$353)))","v":" "},null,{"$f":"IF(AE124=0,\" \",IF(OR(AE124<1,AE124>350),\" \",LOOKUP(AE124,waarden!$G$4:$G$353,waarden!$H$4:$H$353)))","v":" "},null,{"$f":"IF(AG124=0,\" \",IF(OR(AG124<1,AG124>350),\" \",LOOKUP(AG124,waarden!$G$4:$G$353,waarden!$H$4:$H$353)))","v":" "},null,{"$f":"IF(AI124=0,\" \",IF(OR(AI124<1,AI124>350),\" \",LOOKUP(AI124,waarden!$G$4:$G$353,waarden!$H$4:$H$353)))","v":" "},null,{"$f":"IF(AK124=0,\" \",IF(OR(AK124<1,AK124>350),\" \",LOOKUP(AK124,waarden!$G$4:$G$353,waarden!$H$4:$H$353)))","v":" "},null,{"$f":"IF(AM124=0,\" \",IF(OR(AM124<1,AM124>350),\" \",LOOKUP(AM124,waarden!$G$4:$G$353,waarden!$H$4:$H$353)))","v":" "},null,{"$f":"IF(AO124=0,\" \",IF(OR(AO124<1,AO124>350),\" \",LOOKUP(AO124,waarden!$G$4:$G$353,waarden!$H$4:$H$353)))","v":" "},null,{"$f":"IF(AQ124=0,\" \",IF(OR(AQ124<1,AQ124>350),\" \",LOOKUP(AQ124,waarden!$G$4:$G$353,waarden!$H$4:$H$353)))","v":" "},null,{"$f":"IF(AS124=0,\" \",IF(OR(AS124<1,AS124>350),\" \",LOOKUP(AS124,waarden!$G$4:$G$353,waarden!$H$4:$H$353)))","v":" "},null,{"$f":"IF(AU124=0,\" \",IF(OR(AU124<1,AU124>350),\" \",LOOKUP(AU124,waarden!$G$4:$G$353,waarden!$H$4:$H$353)))","v":" "},null,{"$f":"IF(AW124=0,\" \",IF(OR(AW124<1,AW124>350),\" \",LOOKUP(AW124,waarden!$G$4:$G$353,waarden!$H$4:$H$353)))","v":" "},null,{"$f":"IF(AY124=0,\" \",IF(OR(AY124<1,AY124>350),\" \",LOOKUP(AY124,waarden!$G$4:$G$353,waarden!$H$4:$H$353)))","v":" "},null,{"$f":"IF(BA124=0,\" \",IF(OR(BA124<1,BA124>350),\" \",LOOKUP(BA124,waarden!$G$4:$G$353,waarden!$H$4:$H$353)))","v":" "},null,{"$f":"IF(BC124=0,\" \",IF(OR(BC124<1,BC124>350),\" \",LOOKUP(BC124,waarden!$G$4:$G$353,waarden!$H$4:$H$353)))","v":" "},null,{"$f":"IF(BE124=0,\" \",IF(OR(BE124<1,BE124>350),\" \",LOOKUP(BE124,waarden!$G$4:$G$353,waarden!$H$4:$H$353)))","v":" "},null,{"$f":"IF(BG124=0,\" \",IF(OR(BG124<1,BG124>350),\" \",LOOKUP(BG124,waarden!$G$4:$G$353,waarden!$H$4:$H$353)))","v":" "},null,{"$f":"IF(BI124=0,\" \",IF(OR(BI124<1,BI124>350),\" \",LOOKUP(BI124,waarden!$G$4:$G$353,waarden!$H$4:$H$353)))","v":" "},null,{"$f":"IF(BK124=0,\" \",IF(OR(BK124<1,BK124>350),\" \",LOOKUP(BK124,waarden!$G$4:$G$353,waarden!$H$4:$H$353)))","v":" "},null,{"$f":"IF(BM124=0,\" \",IF(OR(BM124<1,BM124>350),\" \",LOOKUP(BM124,waarden!$G$4:$G$353,waarden!$H$4:$H$353)))","v":" "},0,{"$f":"SUM(F124,H124,J124,L124,N124,P124,R124,T124,V124,X124,Z124,AB124,AD124,AF124,AH124,AJ124,AL124,AN124,AP124,AR124,AT124,AV124,AX124,AZ124,BB124,BD124,BF124,BH124,BJ124,BL124,BN124)","v":0}]
[null,null,null,"Chauffeur alleen",null,{"$f":"IF(E125=0,\" \",IF(OR(E125<1,E125>350),\" \",LOOKUP(E125,waarden!$D$4:$D$353,waarden!$E$4:$E$353)))","v":" "},null,{"$f":"IF(G125=0,\" \",IF(OR(G125<1,G125>350),\" \",LOOKUP(G125,waarden!$D$4:$D$353,waarden!$E$4:$E$353)))","v":" "},null,{"$f":"IF(I125=0,\" \",IF(OR(I125<1,I125>350),\" \",LOOKUP(I125,waarden!$D$4:$D$353,waarden!$E$4:$E$353)))","v":" "},null,{"$f":"IF(K125=0,\" \",IF(OR(K125<1,K125>350),\" \",LOOKUP(K125,waarden!$D$4:$D$353,waarden!$E$4:$E$353)))","v":" "},null,{"$f":"IF(M125=0,\" \",IF(OR(M125<1,M125>350),\" \",LOOKUP(M125,waarden!$D$4:$D$353,waarden!$E$4:$E$353)))","v":" "},null,{"$f":"IF(O125=0,\" \",IF(OR(O125<1,O125>350),\" \",LOOKUP(O125,waarden!$D$4:$D$353,waarden!$E$4:$E$353)))","v":" "},null,{"$f":"IF(Q125=0,\" \",IF(OR(Q125<1,Q125>350),\" \",LOOKUP(Q125,waarden!$D$4:$D$353,waarden!$E$4:$E$353)))","v":" "},null,{"$f":"IF(S125=0,\" \",IF(OR(S125<1,S125>350),\" \",LOOKUP(S125,waarden!$D$4:$D$353,waarden!$E$4:$E$353)))","v":" "},null,{"$f":"IF(U125=0,\" \",IF(OR(U125<1,U125>350),\" \",LOOKUP(U125,waarden!$D$4:$D$353,waarden!$E$4:$E$353)))","v":" "},null,{"$f":"IF(W125=0,\" \",IF(OR(W125<1,W125>350),\" \",LOOKUP(W125,waarden!$D$4:$D$353,waarden!$E$4:$E$353)))","v":" "},null,{"$f":"IF(Y125=0,\" \",IF(OR(Y125<1,Y125>350),\" \",LOOKUP(Y125,waarden!$D$4:$D$353,waarden!$E$4:$E$353)))","v":" "},null,{"$f":"IF(AA125=0,\" \",IF(OR(AA125<1,AA125>350),\" \",LOOKUP(AA125,waarden!$D$4:$D$353,waarden!$E$4:$E$353)))","v":" "},null,{"$f":"IF(AC125=0,\" \",IF(OR(AC125<1,AC125>350),\" \",LOOKUP(AC125,waarden!$D$4:$D$353,waarden!$E$4:$E$353)))","v":" "},null,{"$f":"IF(AE125=0,\" \",IF(OR(AE125<1,AE125>350),\" \",LOOKUP(AE125,waarden!$D$4:$D$353,waarden!$E$4:$E$353)))","v":" "},null,{"$f":"IF(AG125=0,\" \",IF(OR(AG125<1,AG125>350),\" \",LOOKUP(AG125,waarden!$D$4:$D$353,waarden!$E$4:$E$353)))","v":" "},null,{"$f":"IF(AI125=0,\" \",IF(OR(AI125<1,AI125>350),\" \",LOOKUP(AI125,waarden!$D$4:$D$353,waarden!$E$4:$E$353)))","v":" "},null,{"$f":"IF(AK125=0,\" \",IF(OR(AK125<1,AK125>350),\" \",LOOKUP(AK125,waarden!$D$4:$D$353,waarden!$E$4:$E$353)))","v":" "},null,{"$f":"IF(AM125=0,\" \",IF(OR(AM125<1,AM125>350),\" \",LOOKUP(AM125,waarden!$D$4:$D$353,waarden!$E$4:$E$353)))","v":" "},null,{"$f":"IF(AO125=0,\" \",IF(OR(AO125<1,AO125>350),\" \",LOOKUP(AO125,waarden!$D$4:$D$353,waarden!$E$4:$E$353)))","v":" "},null,{"$f":"IF(AQ125=0,\" \",IF(OR(AQ125<1,AQ125>350),\" \",LOOKUP(AQ125,waarden!$D$4:$D$353,waarden!$E$4:$E$353)))","v":" "},null,{"$f":"IF(AS125=0,\" \",IF(OR(AS125<1,AS125>350),\" \",LOOKUP(AS125,waarden!$D$4:$D$353,waarden!$E$4:$E$353)))","v":" "},null,{"$f":"IF(AU125=0,\" \",IF(OR(AU125<1,AU125>350),\" \",LOOKUP(AU125,waarden!$D$4:$D$353,waarden!$E$4:$E$353)))","v":" "},null,{"$f":"IF(AW125=0,\" \",IF(OR(AW125<1,AW125>350),\" \",LOOKUP(AW125,waarden!$D$4:$D$353,waarden!$E$4:$E$353)))","v":" "},null,{"$f":"IF(AY125=0,\" \",IF(OR(AY125<1,AY125>350),\" \",LOOKUP(AY125,waarden!$D$4:$D$353,waarden!$E$4:$E$353)))","v":" "},null,{"$f":"IF(BA125=0,\" \",IF(OR(BA125<1,BA125>350),\" \",LOOKUP(BA125,waarden!$D$4:$D$353,waarden!$E$4:$E$353)))","v":" "},null,{"$f":"IF(BC125=0,\" \",IF(OR(BC125<1,BC125>350),\" \",LOOKUP(BC125,waarden!$D$4:$D$353,waarden!$E$4:$E$353)))","v":" "},null,{"$f":"IF(BE125=0,\" \",IF(OR(BE125<1,BE125>350),\" \",LOOKUP(BE125,waarden!$D$4:$D$353,waarden!$E$4:$E$353)))","v":" "},null,{"$f":"IF(BG125=0,\" \",IF(OR(BG125<1,BG125>350),\" \",LOOKUP(BG125,waarden!$D$4:$D$353,waarden!$E$4:$E$353)))","v":" "},null,{"$f":"IF(BI125=0,\" \",IF(OR(BI125<1,BI125>350),\" \",LOOKUP(BI125,waarden!$D$4:$D$353,waarden!$E$4:$E$353)))","v":" "},null,{"$f":"IF(BK125=0,\" \",IF(OR(BK125<1,BK125>350),\" \",LOOKUP(BK125,waarden!$D$4:$D$353,waarden!$E$4:$E$353)))","v":" "},null,{"$f":"IF(BM125=0,\" \",IF(OR(BM125<1,BM125>350),\" \",LOOKUP(BM125,waarden!$D$4:$D$353,waarden!$E$4:$E$353)))","v":" "},0,0]
[null,null,null,"Passagier",null,{"$f":"IF(E126=0,\" \",IF(OR(E126<1,E126>350),\" \",LOOKUP(E126,waarden!$A$4:$A$353,waarden!$B$4:$B$353)))","v":" "},null,{"$f":"IF(G126=0,\" \",IF(OR(G126<1,G126>350),\" \",LOOKUP(G126,waarden!$A$4:$A$353,waarden!$B$4:$B$353)))","v":" "},null,{"$f":"IF(I126=0,\" \",IF(OR(I126<1,I126>350),\" \",LOOKUP(I126,waarden!$A$4:$A$353,waarden!$B$4:$B$353)))","v":" "},null,{"$f":"IF(K126=0,\" \",IF(OR(K126<1,K126>350),\" \",LOOKUP(K126,waarden!$A$4:$A$353,waarden!$B$4:$B$353)))","v":" "},null,{"$f":"IF(M126=0,\" \",IF(OR(M126<1,M126>350),\" \",LOOKUP(M126,waarden!$A$4:$A$353,waarden!$B$4:$B$353)))","v":" "},null,{"$f":"IF(O126=0,\" \",IF(OR(O126<1,O126>350),\" \",LOOKUP(O126,waarden!$A$4:$A$353,waarden!$B$4:$B$353)))","v":" "},null,{"$f":"IF(Q126=0,\" \",IF(OR(Q126<1,Q126>350),\" \",LOOKUP(Q126,waarden!$A$4:$A$353,waarden!$B$4:$B$353)))","v":" "},null,{"$f":"IF(S126=0,\" \",IF(OR(S126<1,S126>350),\" \",LOOKUP(S126,waarden!$A$4:$A$353,waarden!$B$4:$B$353)))","v":" "},null,{"$f":"IF(U126=0,\" \",IF(OR(U126<1,U126>350),\" \",LOOKUP(U126,waarden!$A$4:$A$353,waarden!$B$4:$B$353)))","v":" "},null,{"$f":"IF(W126=0,\" \",IF(OR(W126<1,W126>350),\" \",LOOKUP(W126,waarden!$A$4:$A$353,waarden!$B$4:$B$353)))","v":" "},null,{"$f":"IF(Y126=0,\" \",IF(OR(Y126<1,Y126>350),\" \",LOOKUP(Y126,waarden!$A$4:$A$353,waarden!$B$4:$B$353)))","v":" "},null,{"$f":"IF(AA126=0,\" \",IF(OR(AA126<1,AA126>350),\" \",LOOKUP(AA126,waarden!$A$4:$A$353,waarden!$B$4:$B$353)))","v":" "},null,{"$f":"IF(AC126=0,\" \",IF(OR(AC126<1,AC126>350),\" \",LOOKUP(AC126,waarden!$A$4:$A$353,waarden!$B$4:$B$353)))","v":" "},null,{"$f":"IF(AE126=0,\" \",IF(OR(AE126<1,AE126>350),\" \",LOOKUP(AE126,waarden!$A$4:$A$353,waarden!$B$4:$B$353)))","v":" "},null,{"$f":"IF(AG126=0,\" \",IF(OR(AG126<1,AG126>350),\" \",LOOKUP(AG126,waarden!$A$4:$A$353,waarden!$B$4:$B$353)))","v":" "},null,{"$f":"IF(AI126=0,\" \",IF(OR(AI126<1,AI126>350),\" \",LOOKUP(AI126,waarden!$A$4:$A$353,waarden!$B$4:$B$353)))","v":" "},null,{"$f":"IF(AK126=0,\" \",IF(OR(AK126<1,AK126>350),\" \",LOOKUP(AK126,waarden!$A$4:$A$353,waarden!$B$4:$B$353)))","v":" "},null,{"$f":"IF(AM126=0,\" \",IF(OR(AM126<1,AM126>350),\" \",LOOKUP(AM126,waarden!$A$4:$A$353,waarden!$B$4:$B$353)))","v":" "},null,{"$f":"IF(AO126=0,\" \",IF(OR(AO126<1,AO126>350),\" \",LOOKUP(AO126,waarden!$A$4:$A$353,waarden!$B$4:$B$353)))","v":" "},null,{"$f":"IF(AQ126=0,\" \",IF(OR(AQ126<1,AQ126>350),\" \",LOOKUP(AQ126,waarden!$A$4:$A$353,waarden!$B$4:$B$353)))","v":" "},null,{"$f":"IF(AS126=0,\" \",IF(OR(AS126<1,AS126>350),\" \",LOOKUP(AS126,waarden!$A$4:$A$353,waarden!$B$4:$B$353)))","v":" "},null,{"$f":"IF(AU126=0,\" \",IF(OR(AU126<1,AU126>350),\" \",LOOKUP(AU126,waarden!$A$4:$A$353,waarden!$B$4:$B$353)))","v":" "},null,{"$f":"IF(AW126=0,\" \",IF(OR(AW126<1,AW126>350),\" \",LOOKUP(AW126,waarden!$A$4:$A$353,waarden!$B$4:$B$353)))","v":" "},null,{"$f":"IF(AY126=0,\" \",IF(OR(AY126<1,AY126>350),\" \",LOOKUP(AY126,waarden!$A$4:$A$353,waarden!$B$4:$B$353)))","v":" "},null,{"$f":"IF(BA126=0,\" \",IF(OR(BA126<1,BA126>350),\" \",LOOKUP(BA126,waarden!$A$4:$A$353,waarden!$B$4:$B$353)))","v":" "},null,{"$f":"IF(BC126=0,\" \",IF(OR(BC126<1,BC126>350),\" \",LOOKUP(BC126,waarden!$A$4:$A$353,waarden!$B$4:$B$353)))","v":" "},null,{"$f":"IF(BE126=0,\" \",IF(OR(BE126<1,BE126>350),\" \",LOOKUP(BE126,waarden!$A$4:$A$353,waarden!$B$4:$B$353)))","v":" "},null,{"$f":"IF(BG126=0,\" \",IF(OR(BG126<1,BG126>350),\" \",LOOKUP(BG126,waarden!$A$4:$A$353,waarden!$B$4:$B$353)))","v":" "},null,{"$f":"IF(BI126=0,\" \",IF(OR(BI126<1,BI126>350),\" \",LOOKUP(BI126,waarden!$A$4:$A$353,waarden!$B$4:$B$353)))","v":" "},null,{"$f":"IF(BK126=0,\" \",IF(OR(BK126<1,BK126>350),\" \",LOOKUP(BK126,waarden!$A$4:$A$353,waarden!$B$4:$B$353)))","v":" "},null,{"$f":"IF(BM126=0,\" \",IF(OR(BM126<1,BM126>350),\" \",LOOKUP(BM126,waarden!$A$4:$A$353,waarden!$B$4:$B$353)))","v":" "},0,0]
[null,null,null,"Chauffeur personeel",null,{"$f":"IF(E127=0,\" \",IF(OR(E127<1,E127>350),\" \",LOOKUP(E127,waarden!$G$4:$G$353,waarden!$H$4:$H$353)))","v":" "},null,{"$f":"IF(G127=0,\" \",IF(OR(G127<1,G127>350),\" \",LOOKUP(G127,waarden!$G$4:$G$353,waarden!$H$4:$H$353)))","v":" "},null,{"$f":"IF(I127=0,\" \",IF(OR(I127<1,I127>350),\" \",LOOKUP(I127,waarden!$G$4:$G$353,waarden!$H$4:$H$353)))","v":" "},null,{"$f":"IF(K127=0,\" \",IF(OR(K127<1,K127>350),\" \",LOOKUP(K127,waarden!$G$4:$G$353,waarden!$H$4:$H$353)))","v":" "},null,{"$f":"IF(M127=0,\" \",IF(OR(M127<1,M127>350),\" \",LOOKUP(M127,waarden!$G$4:$G$353,waarden!$H$4:$H$353)))","v":" "},null,{"$f":"IF(O127=0,\" \",IF(OR(O127<1,O127>350),\" \",LOOKUP(O127,waarden!$G$4:$G$353,waarden!$H$4:$H$353)))","v":" "},null,{"$f":"IF(Q127=0,\" \",IF(OR(Q127<1,Q127>350),\" \",LOOKUP(Q127,waarden!$G$4:$G$353,waarden!$H$4:$H$353)))","v":" "},null,{"$f":"IF(S127=0,\" \",IF(OR(S127<1,S127>350),\" \",LOOKUP(S127,waarden!$G$4:$G$353,waarden!$H$4:$H$353)))","v":" "},null,{"$f":"IF(U127=0,\" \",IF(OR(U127<1,U127>350),\" \",LOOKUP(U127,waarden!$G$4:$G$353,waarden!$H$4:$H$353)))","v":" "},null,{"$f":"IF(W127=0,\" \",IF(OR(W127<1,W127>350),\" \",LOOKUP(W127,waarden!$G$4:$G$353,waarden!$H$4:$H$353)))","v":" "},null,{"$f":"IF(Y127=0,\" \",IF(OR(Y127<1,Y127>350),\" \",LOOKUP(Y127,waarden!$G$4:$G$353,waarden!$H$4:$H$353)))","v":" "},null,{"$f":"IF(AA127=0,\" \",IF(OR(AA127<1,AA127>350),\" \",LOOKUP(AA127,waarden!$G$4:$G$353,waarden!$H$4:$H$353)))","v":" "},null,{"$f":"IF(AC127=0,\" \",IF(OR(AC127<1,AC127>350),\" \",LOOKUP(AC127,waarden!$G$4:$G$353,waarden!$H$4:$H$353)))","v":" "},null,{"$f":"IF(AE127=0,\" \",IF(OR(AE127<1,AE127>350),\" \",LOOKUP(AE127,waarden!$G$4:$G$353,waarden!$H$4:$H$353)))","v":" "},null,{"$f":"IF(AG127=0,\" \",IF(OR(AG127<1,AG127>350),\" \",LOOKUP(AG127,waarden!$G$4:$G$353,waarden!$H$4:$H$353)))","v":" "},null,{"$f":"IF(AI127=0,\" \",IF(OR(AI127<1,AI127>350),\" \",LOOKUP(AI127,waarden!$G$4:$G$353,waarden!$H$4:$H$353)))","v":" "},null,{"$f":"IF(AK127=0,\" \",IF(OR(AK127<1,AK127>350),\" \",LOOKUP(AK127,waarden!$G$4:$G$353,waarden!$H$4:$H$353)))","v":" "},null,{"$f":"IF(AM127=0,\" \",IF(OR(AM127<1,AM127>350),\" \",LOOKUP(AM127,waarden!$G$4:$G$353,waarden!$H$4:$H$353)))","v":" "},null,{"$f":"IF(AO127=0,\" \",IF(OR(AO127<1,AO127>350),\" \",LOOKUP(AO127,waarden!$G$4:$G$353,waarden!$H$4:$H$353)))","v":" "},null,{"$f":"IF(AQ127=0,\" \",IF(OR(AQ127<1,AQ127>350),\" \",LOOKUP(AQ127,waarden!$G$4:$G$353,waarden!$H$4:$H$353)))","v":" "},null,{"$f":"IF(AS127=0,\" \",IF(OR(AS127<1,AS127>350),\" \",LOOKUP(AS127,waarden!$G$4:$G$353,waarden!$H$4:$H$353)))","v":" "},null,{"$f":"IF(AU127=0,\" \",IF(OR(AU127<1,AU127>350),\" \",LOOKUP(AU127,waarden!$G$4:$G$353,waarden!$H$4:$H$353)))","v":" "},null,{"$f":"IF(AW127=0,\" \",IF(OR(AW127<1,AW127>350),\" \",LOOKUP(AW127,waarden!$G$4:$G$353,waarden!$H$4:$H$353)))","v":" "},null,{"$f":"IF(AY127=0,\" \",IF(OR(AY127<1,AY127>350),\" \",LOOKUP(AY127,waarden!$G$4:$G$353,waarden!$H$4:$H$353)))","v":" "},null,{"$f":"IF(BA127=0,\" \",IF(OR(BA127<1,BA127>350),\" \",LOOKUP(BA127,waarden!$G$4:$G$353,waarden!$H$4:$H$353)))","v":" "},null,{"$f":"IF(BC127=0,\" \",IF(OR(BC127<1,BC127>350),\" \",LOOKUP(BC127,waarden!$G$4:$G$353,waarden!$H$4:$H$353)))","v":" "},null,{"$f":"IF(BE127=0,\" \",IF(OR(BE127<1,BE127>350),\" \",LOOKUP(BE127,waarden!$G$4:$G$353,waarden!$H$4:$H$353)))","v":" "},null,{"$f":"IF(BG127=0,\" \",IF(OR(BG127<1,BG127>350),\" \",LOOKUP(BG127,waarden!$G$4:$G$353,waarden!$H$4:$H$353)))","v":" "},null,{"$f":"IF(BI127=0,\" \",IF(OR(BI127<1,BI127>350),\" \",LOOKUP(BI127,waarden!$G$4:$G$353,waarden!$H$4:$H$353)))","v":" "},null,{"$f":"IF(BK127=0,\" \",IF(OR(BK127<1,BK127>350),\" \",LOOKUP(BK127,waarden!$G$4:$G$353,waarden!$H$4:$H$353)))","v":" "},null,{"$f":"IF(BM127=0,\" \",IF(OR(BM127<1,BM127>350),\" \",LOOKUP(BM127,waarden!$G$4:$G$353,waarden!$H$4:$H$353)))","v":" "},0,{"$f":"SUM(F127,H127,J127,L127,N127,P127,R127,T127,V127,X127,Z127,AB127,AD127,AF127,AH127,AJ127,AL127,AN127,AP127,AR127,AT127,AV127,AX127,AZ127,BB127,BD127,BF127,BH127,BJ127,BL127,BN127)","v":0}]
[null,null,null,"Chauffeur alleen",null,{"$f":"IF(E128=0,\" \",IF(OR(E128<1,E128>350),\" \",LOOKUP(E128,waarden!$D$4:$D$353,waarden!$E$4:$E$353)))","v":" "},null,{"$f":"IF(G128=0,\" \",IF(OR(G128<1,G128>350),\" \",LOOKUP(G128,waarden!$D$4:$D$353,waarden!$E$4:$E$353)))","v":" "},null,{"$f":"IF(I128=0,\" \",IF(OR(I128<1,I128>350),\" \",LOOKUP(I128,waarden!$D$4:$D$353,waarden!$E$4:$E$353)))","v":" "},null,{"$f":"IF(K128=0,\" \",IF(OR(K128<1,K128>350),\" \",LOOKUP(K128,waarden!$D$4:$D$353,waarden!$E$4:$E$353)))","v":" "},null,{"$f":"IF(M128=0,\" \",IF(OR(M128<1,M128>350),\" \",LOOKUP(M128,waarden!$D$4:$D$353,waarden!$E$4:$E$353)))","v":" "},null,{"$f":"IF(O128=0,\" \",IF(OR(O128<1,O128>350),\" \",LOOKUP(O128,waarden!$D$4:$D$353,waarden!$E$4:$E$353)))","v":" "},null,{"$f":"IF(Q128=0,\" \",IF(OR(Q128<1,Q128>350),\" \",LOOKUP(Q128,waarden!$D$4:$D$353,waarden!$E$4:$E$353)))","v":" "},null,{"$f":"IF(S128=0,\" \",IF(OR(S128<1,S128>350),\" \",LOOKUP(S128,waarden!$D$4:$D$353,waarden!$E$4:$E$353)))","v":" "},null,{"$f":"IF(U128=0,\" \",IF(OR(U128<1,U128>350),\" \",LOOKUP(U128,waarden!$D$4:$D$353,waarden!$E$4:$E$353)))","v":" "},null,{"$f":"IF(W128=0,\" \",IF(OR(W128<1,W128>350),\" \",LOOKUP(W128,waarden!$D$4:$D$353,waarden!$E$4:$E$353)))","v":" "},null,{"$f":"IF(Y128=0,\" \",IF(OR(Y128<1,Y128>350),\" \",LOOKUP(Y128,waarden!$D$4:$D$353,waarden!$E$4:$E$353)))","v":" "},null,{"$f":"IF(AA128=0,\" \",IF(OR(AA128<1,AA128>350),\" \",LOOKUP(AA128,waarden!$D$4:$D$353,waarden!$E$4:$E$353)))","v":" "},null,{"$f":"IF(AC128=0,\" \",IF(OR(AC128<1,AC128>350),\" \",LOOKUP(AC128,waarden!$D$4:$D$353,waarden!$E$4:$E$353)))","v":" "},null,{"$f":"IF(AE128=0,\" \",IF(OR(AE128<1,AE128>350),\" \",LOOKUP(AE128,waarden!$D$4:$D$353,waarden!$E$4:$E$353)))","v":" "},null,{"$f":"IF(AG128=0,\" \",IF(OR(AG128<1,AG128>350),\" \",LOOKUP(AG128,waarden!$D$4:$D$353,waarden!$E$4:$E$353)))","v":" "},null,{"$f":"IF(AI128=0,\" \",IF(OR(AI128<1,AI128>350),\" \",LOOKUP(AI128,waarden!$D$4:$D$353,waarden!$E$4:$E$353)))","v":" "},null,{"$f":"IF(AK128=0,\" \",IF(OR(AK128<1,AK128>350),\" \",LOOKUP(AK128,waarden!$D$4:$D$353,waarden!$E$4:$E$353)))","v":" "},null,{"$f":"IF(AM128=0,\" \",IF(OR(AM128<1,AM128>350),\" \",LOOKUP(AM128,waarden!$D$4:$D$353,waarden!$E$4:$E$353)))","v":" "},null,{"$f":"IF(AO128=0,\" \",IF(OR(AO128<1,AO128>350),\" \",LOOKUP(AO128,waarden!$D$4:$D$353,waarden!$E$4:$E$353)))","v":" "},null,{"$f":"IF(AQ128=0,\" \",IF(OR(AQ128<1,AQ128>350),\" \",LOOKUP(AQ128,waarden!$D$4:$D$353,waarden!$E$4:$E$353)))","v":" "},null,{"$f":"IF(AS128=0,\" \",IF(OR(AS128<1,AS128>350),\" \",LOOKUP(AS128,waarden!$D$4:$D$353,waarden!$E$4:$E$353)))","v":" "},null,{"$f":"IF(AU128=0,\" \",IF(OR(AU128<1,AU128>350),\" \",LOOKUP(AU128,waarden!$D$4:$D$353,waarden!$E$4:$E$353)))","v":" "},null,{"$f":"IF(AW128=0,\" \",IF(OR(AW128<1,AW128>350),\" \",LOOKUP(AW128,waarden!$D$4:$D$353,waarden!$E$4:$E$353)))","v":" "},null,{"$f":"IF(AY128=0,\" \",IF(OR(AY128<1,AY128>350),\" \",LOOKUP(AY128,waarden!$D$4:$D$353,waarden!$E$4:$E$353)))","v":" "},null,{"$f":"IF(BA128=0,\" \",IF(OR(BA128<1,BA128>350),\" \",LOOKUP(BA128,waarden!$D$4:$D$353,waarden!$E$4:$E$353)))","v":" "},null,{"$f":"IF(BC128=0,\" \",IF(OR(BC128<1,BC128>350),\" \",LOOKUP(BC128,waarden!$D$4:$D$353,waarden!$E$4:$E$353)))","v":" "},null,{"$f":"IF(BE128=0,\" \",IF(OR(BE128<1,BE128>350),\" \",LOOKUP(BE128,waarden!$D$4:$D$353,waarden!$E$4:$E$353)))","v":" "},null,{"$f":"IF(BG128=0,\" \",IF(OR(BG128<1,BG128>350),\" \",LOOKUP(BG128,waarden!$D$4:$D$353,waarden!$E$4:$E$353)))","v":" "},null,{"$f":"IF(BI128=0,\" \",IF(OR(BI128<1,BI128>350),\" \",LOOKUP(BI128,waarden!$D$4:$D$353,waarden!$E$4:$E$353)))","v":" "},null,{"$f":"IF(BK128=0,\" \",IF(OR(BK128<1,BK128>350),\" \",LOOKUP(BK128,waarden!$D$4:$D$353,waarden!$E$4:$E$353)))","v":" "},null,{"$f":"IF(BM128=0,\" \",IF(OR(BM128<1,BM128>350),\" \",LOOKUP(BM128,waarden!$D$4:$D$353,waarden!$E$4:$E$353)))","v":" "},0,0]
[null,null,null,"Passagier",null,{"$f":"IF(E129=0,\" \",IF(OR(E129<1,E129>350),\" \",LOOKUP(E129,waarden!$A$4:$A$353,waarden!$B$4:$B$353)))","v":" "},null,{"$f":"IF(G129=0,\" \",IF(OR(G129<1,G129>350),\" \",LOOKUP(G129,waarden!$A$4:$A$353,waarden!$B$4:$B$353)))","v":" "},null,{"$f":"IF(I129=0,\" \",IF(OR(I129<1,I129>350),\" \",LOOKUP(I129,waarden!$A$4:$A$353,waarden!$B$4:$B$353)))","v":" "},null,{"$f":"IF(K129=0,\" \",IF(OR(K129<1,K129>350),\" \",LOOKUP(K129,waarden!$A$4:$A$353,waarden!$B$4:$B$353)))","v":" "},null,{"$f":"IF(M129=0,\" \",IF(OR(M129<1,M129>350),\" \",LOOKUP(M129,waarden!$A$4:$A$353,waarden!$B$4:$B$353)))","v":" "},null,{"$f":"IF(O129=0,\" \",IF(OR(O129<1,O129>350),\" \",LOOKUP(O129,waarden!$A$4:$A$353,waarden!$B$4:$B$353)))","v":" "},null,{"$f":"IF(Q129=0,\" \",IF(OR(Q129<1,Q129>350),\" \",LOOKUP(Q129,waarden!$A$4:$A$353,waarden!$B$4:$B$353)))","v":" "},null,{"$f":"IF(S129=0,\" \",IF(OR(S129<1,S129>350),\" \",LOOKUP(S129,waarden!$A$4:$A$353,waarden!$B$4:$B$353)))","v":" "},null,{"$f":"IF(U129=0,\" \",IF(OR(U129<1,U129>350),\" \",LOOKUP(U129,waarden!$A$4:$A$353,waarden!$B$4:$B$353)))","v":" "},null,{"$f":"IF(W129=0,\" \",IF(OR(W129<1,W129>350),\" \",LOOKUP(W129,waarden!$A$4:$A$353,waarden!$B$4:$B$353)))","v":" "},null,{"$f":"IF(Y129=0,\" \",IF(OR(Y129<1,Y129>350),\" \",LOOKUP(Y129,waarden!$A$4:$A$353,waarden!$B$4:$B$353)))","v":" "},null,{"$f":"IF(AA129=0,\" \",IF(OR(AA129<1,AA129>350),\" \",LOOKUP(AA129,waarden!$A$4:$A$353,waarden!$B$4:$B$353)))","v":" "},null,{"$f":"IF(AC129=0,\" \",IF(OR(AC129<1,AC129>350),\" \",LOOKUP(AC129,waarden!$A$4:$A$353,waarden!$B$4:$B$353)))","v":" "},null,{"$f":"IF(AE129=0,\" \",IF(OR(AE129<1,AE129>350),\" \",LOOKUP(AE129,waarden!$A$4:$A$353,waarden!$B$4:$B$353)))","v":" "},null,{"$f":"IF(AG129=0,\" \",IF(OR(AG129<1,AG129>350),\" \",LOOKUP(AG129,waarden!$A$4:$A$353,waarden!$B$4:$B$353)))","v":" "},null,{"$f":"IF(AI129=0,\" \",IF(OR(AI129<1,AI129>350),\" \",LOOKUP(AI129,waarden!$A$4:$A$353,waarden!$B$4:$B$353)))","v":" "},null,{"$f":"IF(AK129=0,\" \",IF(OR(AK129<1,AK129>350),\" \",LOOKUP(AK129,waarden!$A$4:$A$353,waarden!$B$4:$B$353)))","v":" "},null,{"$f":"IF(AM129=0,\" \",IF(OR(AM129<1,AM129>350),\" \",LOOKUP(AM129,waarden!$A$4:$A$353,waarden!$B$4:$B$353)))","v":" "},null,{"$f":"IF(AO129=0,\" \",IF(OR(AO129<1,AO129>350),\" \",LOOKUP(AO129,waarden!$A$4:$A$353,waarden!$B$4:$B$353)))","v":" "},null,{"$f":"IF(AQ129=0,\" \",IF(OR(AQ129<1,AQ129>350),\" \",LOOKUP(AQ129,waarden!$A$4:$A$353,waarden!$B$4:$B$353)))","v":" "},null,{"$f":"IF(AS129=0,\" \",IF(OR(AS129<1,AS129>350),\" \",LOOKUP(AS129,waarden!$A$4:$A$353,waarden!$B$4:$B$353)))","v":" "},null,{"$f":"IF(AU129=0,\" \",IF(OR(AU129<1,AU129>350),\" \",LOOKUP(AU129,waarden!$A$4:$A$353,waarden!$B$4:$B$353)))","v":" "},null,{"$f":"IF(AW129=0,\" \",IF(OR(AW129<1,AW129>350),\" \",LOOKUP(AW129,waarden!$A$4:$A$353,waarden!$B$4:$B$353)))","v":" "},null,{"$f":"IF(AY129=0,\" \",IF(OR(AY129<1,AY129>350),\" \",LOOKUP(AY129,waarden!$A$4:$A$353,waarden!$B$4:$B$353)))","v":" "},null,{"$f":"IF(BA129=0,\" \",IF(OR(BA129<1,BA129>350),\" \",LOOKUP(BA129,waarden!$A$4:$A$353,waarden!$B$4:$B$353)))","v":" "},null,{"$f":"IF(BC129=0,\" \",IF(OR(BC129<1,BC129>350),\" \",LOOKUP(BC129,waarden!$A$4:$A$353,waarden!$B$4:$B$353)))","v":" "},null,{"$f":"IF(BE129=0,\" \",IF(OR(BE129<1,BE129>350),\" \",LOOKUP(BE129,waarden!$A$4:$A$353,waarden!$B$4:$B$353)))","v":" "},null,{"$f":"IF(BG129=0,\" \",IF(OR(BG129<1,BG129>350),\" \",LOOKUP(BG129,waarden!$A$4:$A$353,waarden!$B$4:$B$353)))","v":" "},null,{"$f":"IF(BI129=0,\" \",IF(OR(BI129<1,BI129>350),\" \",LOOKUP(BI129,waarden!$A$4:$A$353,waarden!$B$4:$B$353)))","v":" "},null,{"$f":"IF(BK129=0,\" \",IF(OR(BK129<1,BK129>350),\" \",LOOKUP(BK129,waarden!$A$4:$A$353,waarden!$B$4:$B$353)))","v":" "},null,{"$f":"IF(BM129=0,\" \",IF(OR(BM129<1,BM129>350),\" \",LOOKUP(BM129,waarden!$A$4:$A$353,waarden!$B$4:$B$353)))","v":" "},0,0]
[null,null,null,"Chauffeur personeel",null,{"$f":"IF(E130=0,\" \",IF(OR(E130<1,E130>350),\" \",LOOKUP(E130,waarden!$G$4:$G$353,waarden!$H$4:$H$353)))","v":" "},null,{"$f":"IF(G130=0,\" \",IF(OR(G130<1,G130>350),\" \",LOOKUP(G130,waarden!$G$4:$G$353,waarden!$H$4:$H$353)))","v":" "},null,{"$f":"IF(I130=0,\" \",IF(OR(I130<1,I130>350),\" \",LOOKUP(I130,waarden!$G$4:$G$353,waarden!$H$4:$H$353)))","v":" "},null,{"$f":"IF(K130=0,\" \",IF(OR(K130<1,K130>350),\" \",LOOKUP(K130,waarden!$G$4:$G$353,waarden!$H$4:$H$353)))","v":" "},null,{"$f":"IF(M130=0,\" \",IF(OR(M130<1,M130>350),\" \",LOOKUP(M130,waarden!$G$4:$G$353,waarden!$H$4:$H$353)))","v":" "},null,{"$f":"IF(O130=0,\" \",IF(OR(O130<1,O130>350),\" \",LOOKUP(O130,waarden!$G$4:$G$353,waarden!$H$4:$H$353)))","v":" "},null,{"$f":"IF(Q130=0,\" \",IF(OR(Q130<1,Q130>350),\" \",LOOKUP(Q130,waarden!$G$4:$G$353,waarden!$H$4:$H$353)))","v":" "},null,{"$f":"IF(S130=0,\" \",IF(OR(S130<1,S130>350),\" \",LOOKUP(S130,waarden!$G$4:$G$353,waarden!$H$4:$H$353)))","v":" "},null,{"$f":"IF(U130=0,\" \",IF(OR(U130<1,U130>350),\" \",LOOKUP(U130,waarden!$G$4:$G$353,waarden!$H$4:$H$353)))","v":" "},null,{"$f":"IF(W130=0,\" \",IF(OR(W130<1,W130>350),\" \",LOOKUP(W130,waarden!$G$4:$G$353,waarden!$H$4:$H$353)))","v":" "},null,{"$f":"IF(Y130=0,\" \",IF(OR(Y130<1,Y130>350),\" \",LOOKUP(Y130,waarden!$G$4:$G$353,waarden!$H$4:$H$353)))","v":" "},null,{"$f":"IF(AA130=0,\" \",IF(OR(AA130<1,AA130>350),\" \",LOOKUP(AA130,waarden!$G$4:$G$353,waarden!$H$4:$H$353)))","v":" "},null,{"$f":"IF(AC130=0,\" \",IF(OR(AC130<1,AC130>350),\" \",LOOKUP(AC130,waarden!$G$4:$G$353,waarden!$H$4:$H$353)))","v":" "},null,{"$f":"IF(AE130=0,\" \",IF(OR(AE130<1,AE130>350),\" \",LOOKUP(AE130,waarden!$G$4:$G$353,waarden!$H$4:$H$353)))","v":" "},null,{"$f":"IF(AG130=0,\" \",IF(OR(AG130<1,AG130>350),\" \",LOOKUP(AG130,waarden!$G$4:$G$353,waarden!$H$4:$H$353)))","v":" "},null,{"$f":"IF(AI130=0,\" \",IF(OR(AI130<1,AI130>350),\" \",LOOKUP(AI130,waarden!$G$4:$G$353,waarden!$H$4:$H$353)))","v":" "},null,{"$f":"IF(AK130=0,\" \",IF(OR(AK130<1,AK130>350),\" \",LOOKUP(AK130,waarden!$G$4:$G$353,waarden!$H$4:$H$353)))","v":" "},null,{"$f":"IF(AM130=0,\" \",IF(OR(AM130<1,AM130>350),\" \",LOOKUP(AM130,waarden!$G$4:$G$353,waarden!$H$4:$H$353)))","v":" "},null,{"$f":"IF(AO130=0,\" \",IF(OR(AO130<1,AO130>350),\" \",LOOKUP(AO130,waarden!$G$4:$G$353,waarden!$H$4:$H$353)))","v":" "},null,{"$f":"IF(AQ130=0,\" \",IF(OR(AQ130<1,AQ130>350),\" \",LOOKUP(AQ130,waarden!$G$4:$G$353,waarden!$H$4:$H$353)))","v":" "},null,{"$f":"IF(AS130=0,\" \",IF(OR(AS130<1,AS130>350),\" \",LOOKUP(AS130,waarden!$G$4:$G$353,waarden!$H$4:$H$353)))","v":" "},null,{"$f":"IF(AU130=0,\" \",IF(OR(AU130<1,AU130>350),\" \",LOOKUP(AU130,waarden!$G$4:$G$353,waarden!$H$4:$H$353)))","v":" "},null,{"$f":"IF(AW130=0,\" \",IF(OR(AW130<1,AW130>350),\" \",LOOKUP(AW130,waarden!$G$4:$G$353,waarden!$H$4:$H$353)))","v":" "},null,{"$f":"IF(AY130=0,\" \",IF(OR(AY130<1,AY130>350),\" \",LOOKUP(AY130,waarden!$G$4:$G$353,waarden!$H$4:$H$353)))","v":" "},null,{"$f":"IF(BA130=0,\" \",IF(OR(BA130<1,BA130>350),\" \",LOOKUP(BA130,waarden!$G$4:$G$353,waarden!$H$4:$H$353)))","v":" "},null,{"$f":"IF(BC130=0,\" \",IF(OR(BC130<1,BC130>350),\" \",LOOKUP(BC130,waarden!$G$4:$G$353,waarden!$H$4:$H$353)))","v":" "},null,{"$f":"IF(BE130=0,\" \",IF(OR(BE130<1,BE130>350),\" \",LOOKUP(BE130,waarden!$G$4:$G$353,waarden!$H$4:$H$353)))","v":" "},null,{"$f":"IF(BG130=0,\" \",IF(OR(BG130<1,BG130>350),\" \",LOOKUP(BG130,waarden!$G$4:$G$353,waarden!$H$4:$H$353)))","v":" "},null,{"$f":"IF(BI130=0,\" \",IF(OR(BI130<1,BI130>350),\" \",LOOKUP(BI130,waarden!$G$4:$G$353,waarden!$H$4:$H$353)))","v":" "},null,{"$f":"IF(BK130=0,\" \",IF(OR(BK130<1,BK130>350),\" \",LOOKUP(BK130,waarden!$G$4:$G$353,waarden!$H$4:$H$353)))","v":" "},null,{"$f":"IF(BM130=0,\" \",IF(OR(BM130<1,BM130>350),\" \",LOOKUP(BM130,waarden!$G$4:$G$353,waarden!$H$4:$H$353)))","v":" "},0,{"$f":"SUM(F130,H130,J130,L130,N130,P130,R130,T130,V130,X130,Z130,AB130,AD130,AF130,AH130,AJ130,AL130,AN130,AP130,AR130,AT130,AV130,AX130,AZ130,BB130,BD130,BF130,BH130,BJ130,BL130,BN130)","v":0}]
[null,null,null,"Chauffeur alleen",null,{"$f":"IF(E131=0,\" \",IF(OR(E131<1,E131>350),\" \",LOOKUP(E131,waarden!$D$4:$D$353,waarden!$E$4:$E$353)))","v":" "},null,{"$f":"IF(G131=0,\" \",IF(OR(G131<1,G131>350),\" \",LOOKUP(G131,waarden!$D$4:$D$353,waarden!$E$4:$E$353)))","v":" "},null,{"$f":"IF(I131=0,\" \",IF(OR(I131<1,I131>350),\" \",LOOKUP(I131,waarden!$D$4:$D$353,waarden!$E$4:$E$353)))","v":" "},null,{"$f":"IF(K131=0,\" \",IF(OR(K131<1,K131>350),\" \",LOOKUP(K131,waarden!$D$4:$D$353,waarden!$E$4:$E$353)))","v":" "},null,{"$f":"IF(M131=0,\" \",IF(OR(M131<1,M131>350),\" \",LOOKUP(M131,waarden!$D$4:$D$353,waarden!$E$4:$E$353)))","v":" "},null,{"$f":"IF(O131=0,\" \",IF(OR(O131<1,O131>350),\" \",LOOKUP(O131,waarden!$D$4:$D$353,waarden!$E$4:$E$353)))","v":" "},null,{"$f":"IF(Q131=0,\" \",IF(OR(Q131<1,Q131>350),\" \",LOOKUP(Q131,waarden!$D$4:$D$353,waarden!$E$4:$E$353)))","v":" "},null,{"$f":"IF(S131=0,\" \",IF(OR(S131<1,S131>350),\" \",LOOKUP(S131,waarden!$D$4:$D$353,waarden!$E$4:$E$353)))","v":" "},null,{"$f":"IF(U131=0,\" \",IF(OR(U131<1,U131>350),\" \",LOOKUP(U131,waarden!$D$4:$D$353,waarden!$E$4:$E$353)))","v":" "},null,{"$f":"IF(W131=0,\" \",IF(OR(W131<1,W131>350),\" \",LOOKUP(W131,waarden!$D$4:$D$353,waarden!$E$4:$E$353)))","v":" "},null,{"$f":"IF(Y131=0,\" \",IF(OR(Y131<1,Y131>350),\" \",LOOKUP(Y131,waarden!$D$4:$D$353,waarden!$E$4:$E$353)))","v":" "},null,{"$f":"IF(AA131=0,\" \",IF(OR(AA131<1,AA131>350),\" \",LOOKUP(AA131,waarden!$D$4:$D$353,waarden!$E$4:$E$353)))","v":" "},null,{"$f":"IF(AC131=0,\" \",IF(OR(AC131<1,AC131>350),\" \",LOOKUP(AC131,waarden!$D$4:$D$353,waarden!$E$4:$E$353)))","v":" "},null,{"$f":"IF(AE131=0,\" \",IF(OR(AE131<1,AE131>350),\" \",LOOKUP(AE131,waarden!$D$4:$D$353,waarden!$E$4:$E$353)))","v":" "},null,{"$f":"IF(AG131=0,\" \",IF(OR(AG131<1,AG131>350),\" \",LOOKUP(AG131,waarden!$D$4:$D$353,waarden!$E$4:$E$353)))","v":" "},null,{"$f":"IF(AI131=0,\" \",IF(OR(AI131<1,AI131>350),\" \",LOOKUP(AI131,waarden!$D$4:$D$353,waarden!$E$4:$E$353)))","v":" "},null,{"$f":"IF(AK131=0,\" \",IF(OR(AK131<1,AK131>350),\" \",LOOKUP(AK131,waarden!$D$4:$D$353,waarden!$E$4:$E$353)))","v":" "},null,{"$f":"IF(AM131=0,\" \",IF(OR(AM131<1,AM131>350),\" \",LOOKUP(AM131,waarden!$D$4:$D$353,waarden!$E$4:$E$353)))","v":" "},null,{"$f":"IF(AO131=0,\" \",IF(OR(AO131<1,AO131>350),\" \",LOOKUP(AO131,waarden!$D$4:$D$353,waarden!$E$4:$E$353)))","v":" "},null,{"$f":"IF(AQ131=0,\" \",IF(OR(AQ131<1,AQ131>350),\" \",LOOKUP(AQ131,waarden!$D$4:$D$353,waarden!$E$4:$E$353)))","v":" "},null,{"$f":"IF(AS131=0,\" \",IF(OR(AS131<1,AS131>350),\" \",LOOKUP(AS131,waarden!$D$4:$D$353,waarden!$E$4:$E$353)))","v":" "},null,{"$f":"IF(AU131=0,\" \",IF(OR(AU131<1,AU131>350),\" \",LOOKUP(AU131,waarden!$D$4:$D$353,waarden!$E$4:$E$353)))","v":" "},null,{"$f":"IF(AW131=0,\" \",IF(OR(AW131<1,AW131>350),\" \",LOOKUP(AW131,waarden!$D$4:$D$353,waarden!$E$4:$E$353)))","v":" "},null,{"$f":"IF(AY131=0,\" \",IF(OR(AY131<1,AY131>350),\" \",LOOKUP(AY131,waarden!$D$4:$D$353,waarden!$E$4:$E$353)))","v":" "},null,{"$f":"IF(BA131=0,\" \",IF(OR(BA131<1,BA131>350),\" \",LOOKUP(BA131,waarden!$D$4:$D$353,waarden!$E$4:$E$353)))","v":" "},null,{"$f":"IF(BC131=0,\" \",IF(OR(BC131<1,BC131>350),\" \",LOOKUP(BC131,waarden!$D$4:$D$353,waarden!$E$4:$E$353)))","v":" "},null,{"$f":"IF(BE131=0,\" \",IF(OR(BE131<1,BE131>350),\" \",LOOKUP(BE131,waarden!$D$4:$D$353,waarden!$E$4:$E$353)))","v":" "},null,{"$f":"IF(BG131=0,\" \",IF(OR(BG131<1,BG131>350),\" \",LOOKUP(BG131,waarden!$D$4:$D$353,waarden!$E$4:$E$353)))","v":" "},null,{"$f":"IF(BI131=0,\" \",IF(OR(BI131<1,BI131>350),\" \",LOOKUP(BI131,waarden!$D$4:$D$353,waarden!$E$4:$E$353)))","v":" "},null,{"$f":"IF(BK131=0,\" \",IF(OR(BK131<1,BK131>350),\" \",LOOKUP(BK131,waarden!$D$4:$D$353,waarden!$E$4:$E$353)))","v":" "},null,{"$f":"IF(BM131=0,\" \",IF(OR(BM131<1,BM131>350),\" \",LOOKUP(BM131,waarden!$D$4:$D$353,waarden!$E$4:$E$353)))","v":" "},0,0]
[null,null,null,"Passagier",null,{"$f":"IF(E132=0,\" \",IF(OR(E132<1,E132>350),\" \",LOOKUP(E132,waarden!$A$4:$A$353,waarden!$B$4:$B$353)))","v":" "},null,{"$f":"IF(G132=0,\" \",IF(OR(G132<1,G132>350),\" \",LOOKUP(G132,waarden!$A$4:$A$353,waarden!$B$4:$B$353)))","v":" "},null,{"$f":"IF(I132=0,\" \",IF(OR(I132<1,I132>350),\" \",LOOKUP(I132,waarden!$A$4:$A$353,waarden!$B$4:$B$353)))","v":" "},null,{"$f":"IF(K132=0,\" \",IF(OR(K132<1,K132>350),\" \",LOOKUP(K132,waarden!$A$4:$A$353,waarden!$B$4:$B$353)))","v":" "},null,{"$f":"IF(M132=0,\" \",IF(OR(M132<1,M132>350),\" \",LOOKUP(M132,waarden!$A$4:$A$353,waarden!$B$4:$B$353)))","v":" "},null,{"$f":"IF(O132=0,\" \",IF(OR(O132<1,O132>350),\" \",LOOKUP(O132,waarden!$A$4:$A$353,waarden!$B$4:$B$353)))","v":" "},null,{"$f":"IF(Q132=0,\" \",IF(OR(Q132<1,Q132>350),\" \",LOOKUP(Q132,waarden!$A$4:$A$353,waarden!$B$4:$B$353)))","v":" "},null,{"$f":"IF(S132=0,\" \",IF(OR(S132<1,S132>350),\" \",LOOKUP(S132,waarden!$A$4:$A$353,waarden!$B$4:$B$353)))","v":" "},null,{"$f":"IF(U132=0,\" \",IF(OR(U132<1,U132>350),\" \",LOOKUP(U132,waarden!$A$4:$A$353,waarden!$B$4:$B$353)))","v":" "},null,{"$f":"IF(W132=0,\" \",IF(OR(W132<1,W132>350),\" \",LOOKUP(W132,waarden!$A$4:$A$353,waarden!$B$4:$B$353)))","v":" "},null,{"$f":"IF(Y132=0,\" \",IF(OR(Y132<1,Y132>350),\" \",LOOKUP(Y132,waarden!$A$4:$A$353,waarden!$B$4:$B$353)))","v":" "},null,{"$f":"IF(AA132=0,\" \",IF(OR(AA132<1,AA132>350),\" \",LOOKUP(AA132,waarden!$A$4:$A$353,waarden!$B$4:$B$353)))","v":" "},null,{"$f":"IF(AC132=0,\" \",IF(OR(AC132<1,AC132>350),\" \",LOOKUP(AC132,waarden!$A$4:$A$353,waarden!$B$4:$B$353)))","v":" "},null,{"$f":"IF(AE132=0,\" \",IF(OR(AE132<1,AE132>350),\" \",LOOKUP(AE132,waarden!$A$4:$A$353,waarden!$B$4:$B$353)))","v":" "},null,{"$f":"IF(AG132=0,\" \",IF(OR(AG132<1,AG132>350),\" \",LOOKUP(AG132,waarden!$A$4:$A$353,waarden!$B$4:$B$353)))","v":" "},null,{"$f":"IF(AI132=0,\" \",IF(OR(AI132<1,AI132>350),\" \",LOOKUP(AI132,waarden!$A$4:$A$353,waarden!$B$4:$B$353)))","v":" "},null,{"$f":"IF(AK132=0,\" \",IF(OR(AK132<1,AK132>350),\" \",LOOKUP(AK132,waarden!$A$4:$A$353,waarden!$B$4:$B$353)))","v":" "},null,{"$f":"IF(AM132=0,\" \",IF(OR(AM132<1,AM132>350),\" \",LOOKUP(AM132,waarden!$A$4:$A$353,waarden!$B$4:$B$353)))","v":" "},null,{"$f":"IF(AO132=0,\" \",IF(OR(AO132<1,AO132>350),\" \",LOOKUP(AO132,waarden!$A$4:$A$353,waarden!$B$4:$B$353)))","v":" "},null,{"$f":"IF(AQ132=0,\" \",IF(OR(AQ132<1,AQ132>350),\" \",LOOKUP(AQ132,waarden!$A$4:$A$353,waarden!$B$4:$B$353)))","v":" "},null,{"$f":"IF(AS132=0,\" \",IF(OR(AS132<1,AS132>350),\" \",LOOKUP(AS132,waarden!$A$4:$A$353,waarden!$B$4:$B$353)))","v":" "},null,{"$f":"IF(AU132=0,\" \",IF(OR(AU132<1,AU132>350),\" \",LOOKUP(AU132,waarden!$A$4:$A$353,waarden!$B$4:$B$353)))","v":" "},null,{"$f":"IF(AW132=0,\" \",IF(OR(AW132<1,AW132>350),\" \",LOOKUP(AW132,waarden!$A$4:$A$353,waarden!$B$4:$B$353)))","v":" "},null,{"$f":"IF(AY132=0,\" \",IF(OR(AY132<1,AY132>350),\" \",LOOKUP(AY132,waarden!$A$4:$A$353,waarden!$B$4:$B$353)))","v":" "},null,{"$f":"IF(BA132=0,\" \",IF(OR(BA132<1,BA132>350),\" \",LOOKUP(BA132,waarden!$A$4:$A$353,waarden!$B$4:$B$353)))","v":" "},null,{"$f":"IF(BC132=0,\" \",IF(OR(BC132<1,BC132>350),\" \",LOOKUP(BC132,waarden!$A$4:$A$353,waarden!$B$4:$B$353)))","v":" "},null,{"$f":"IF(BE132=0,\" \",IF(OR(BE132<1,BE132>350),\" \",LOOKUP(BE132,waarden!$A$4:$A$353,waarden!$B$4:$B$353)))","v":" "},null,{"$f":"IF(BG132=0,\" \",IF(OR(BG132<1,BG132>350),\" \",LOOKUP(BG132,waarden!$A$4:$A$353,waarden!$B$4:$B$353)))","v":" "},null,{"$f":"IF(BI132=0,\" \",IF(OR(BI132<1,BI132>350),\" \",LOOKUP(BI132,waarden!$A$4:$A$353,waarden!$B$4:$B$353)))","v":" "},null,{"$f":"IF(BK132=0,\" \",IF(OR(BK132<1,BK132>350),\" \",LOOKUP(BK132,waarden!$A$4:$A$353,waarden!$B$4:$B$353)))","v":" "},null,{"$f":"IF(BM132=0,\" \",IF(OR(BM132<1,BM132>350),\" \",LOOKUP(BM132,waarden!$A$4:$A$353,waarden!$B$4:$B$353)))","v":" "},0,0]
[null,null,null,"Chauffeur personeel",null,{"$f":"IF(E133=0,\" \",IF(OR(E133<1,E133>350),\" \",LOOKUP(E133,waarden!$G$4:$G$353,waarden!$H$4:$H$353)))","v":" "},null,{"$f":"IF(G133=0,\" \",IF(OR(G133<1,G133>350),\" \",LOOKUP(G133,waarden!$G$4:$G$353,waarden!$H$4:$H$353)))","v":" "},null,{"$f":"IF(I133=0,\" \",IF(OR(I133<1,I133>350),\" \",LOOKUP(I133,waarden!$G$4:$G$353,waarden!$H$4:$H$353)))","v":" "},null,{"$f":"IF(K133=0,\" \",IF(OR(K133<1,K133>350),\" \",LOOKUP(K133,waarden!$G$4:$G$353,waarden!$H$4:$H$353)))","v":" "},null,{"$f":"IF(M133=0,\" \",IF(OR(M133<1,M133>350),\" \",LOOKUP(M133,waarden!$G$4:$G$353,waarden!$H$4:$H$353)))","v":" "},null,{"$f":"IF(O133=0,\" \",IF(OR(O133<1,O133>350),\" \",LOOKUP(O133,waarden!$G$4:$G$353,waarden!$H$4:$H$353)))","v":" "},null,{"$f":"IF(Q133=0,\" \",IF(OR(Q133<1,Q133>350),\" \",LOOKUP(Q133,waarden!$G$4:$G$353,waarden!$H$4:$H$353)))","v":" "},null,{"$f":"IF(S133=0,\" \",IF(OR(S133<1,S133>350),\" \",LOOKUP(S133,waarden!$G$4:$G$353,waarden!$H$4:$H$353)))","v":" "},null,{"$f":"IF(U133=0,\" \",IF(OR(U133<1,U133>350),\" \",LOOKUP(U133,waarden!$G$4:$G$353,waarden!$H$4:$H$353)))","v":" "},null,{"$f":"IF(W133=0,\" \",IF(OR(W133<1,W133>350),\" \",LOOKUP(W133,waarden!$G$4:$G$353,waarden!$H$4:$H$353)))","v":" "},null,{"$f":"IF(Y133=0,\" \",IF(OR(Y133<1,Y133>350),\" \",LOOKUP(Y133,waarden!$G$4:$G$353,waarden!$H$4:$H$353)))","v":" "},null,{"$f":"IF(AA133=0,\" \",IF(OR(AA133<1,AA133>350),\" \",LOOKUP(AA133,waarden!$G$4:$G$353,waarden!$H$4:$H$353)))","v":" "},null,{"$f":"IF(AC133=0,\" \",IF(OR(AC133<1,AC133>350),\" \",LOOKUP(AC133,waarden!$G$4:$G$353,waarden!$H$4:$H$353)))","v":" "},null,{"$f":"IF(AE133=0,\" \",IF(OR(AE133<1,AE133>350),\" \",LOOKUP(AE133,waarden!$G$4:$G$353,waarden!$H$4:$H$353)))","v":" "},null,{"$f":"IF(AG133=0,\" \",IF(OR(AG133<1,AG133>350),\" \",LOOKUP(AG133,waarden!$G$4:$G$353,waarden!$H$4:$H$353)))","v":" "},null,{"$f":"IF(AI133=0,\" \",IF(OR(AI133<1,AI133>350),\" \",LOOKUP(AI133,waarden!$G$4:$G$353,waarden!$H$4:$H$353)))","v":" "},null,{"$f":"IF(AK133=0,\" \",IF(OR(AK133<1,AK133>350),\" \",LOOKUP(AK133,waarden!$G$4:$G$353,waarden!$H$4:$H$353)))","v":" "},null,{"$f":"IF(AM133=0,\" \",IF(OR(AM133<1,AM133>350),\" \",LOOKUP(AM133,waarden!$G$4:$G$353,waarden!$H$4:$H$353)))","v":" "},null,{"$f":"IF(AO133=0,\" \",IF(OR(AO133<1,AO133>350),\" \",LOOKUP(AO133,waarden!$G$4:$G$353,waarden!$H$4:$H$353)))","v":" "},null,{"$f":"IF(AQ133=0,\" \",IF(OR(AQ133<1,AQ133>350),\" \",LOOKUP(AQ133,waarden!$G$4:$G$353,waarden!$H$4:$H$353)))","v":" "},null,{"$f":"IF(AS133=0,\" \",IF(OR(AS133<1,AS133>350),\" \",LOOKUP(AS133,waarden!$G$4:$G$353,waarden!$H$4:$H$353)))","v":" "},null,{"$f":"IF(AU133=0,\" \",IF(OR(AU133<1,AU133>350),\" \",LOOKUP(AU133,waarden!$G$4:$G$353,waarden!$H$4:$H$353)))","v":" "},null,{"$f":"IF(AW133=0,\" \",IF(OR(AW133<1,AW133>350),\" \",LOOKUP(AW133,waarden!$G$4:$G$353,waarden!$H$4:$H$353)))","v":" "},null,{"$f":"IF(AY133=0,\" \",IF(OR(AY133<1,AY133>350),\" \",LOOKUP(AY133,waarden!$G$4:$G$353,waarden!$H$4:$H$353)))","v":" "},null,{"$f":"IF(BA133=0,\" \",IF(OR(BA133<1,BA133>350),\" \",LOOKUP(BA133,waarden!$G$4:$G$353,waarden!$H$4:$H$353)))","v":" "},null,{"$f":"IF(BC133=0,\" \",IF(OR(BC133<1,BC133>350),\" \",LOOKUP(BC133,waarden!$G$4:$G$353,waarden!$H$4:$H$353)))","v":" "},null,{"$f":"IF(BE133=0,\" \",IF(OR(BE133<1,BE133>350),\" \",LOOKUP(BE133,waarden!$G$4:$G$353,waarden!$H$4:$H$353)))","v":" "},null,{"$f":"IF(BG133=0,\" \",IF(OR(BG133<1,BG133>350),\" \",LOOKUP(BG133,waarden!$G$4:$G$353,waarden!$H$4:$H$353)))","v":" "},null,{"$f":"IF(BI133=0,\" \",IF(OR(BI133<1,BI133>350),\" \",LOOKUP(BI133,waarden!$G$4:$G$353,waarden!$H$4:$H$353)))","v":" "},null,{"$f":"IF(BK133=0,\" \",IF(OR(BK133<1,BK133>350),\" \",LOOKUP(BK133,waarden!$G$4:$G$353,waarden!$H$4:$H$353)))","v":" "},null,{"$f":"IF(BM133=0,\" \",IF(OR(BM133<1,BM133>350),\" \",LOOKUP(BM133,waarden!$G$4:$G$353,waarden!$H$4:$H$353)))","v":" "},0,{"$f":"SUM(F133,H133,J133,L133,N133,P133,R133,T133,V133,X133,Z133,AB133,AD133,AF133,AH133,AJ133,AL133,AN133,AP133,AR133,AT133,AV133,AX133,AZ133,BB133,BD133,BF133,BH133,BJ133,BL133,BN133)","v":0}]
[null,null,null,"Chauffeur alleen",null,{"$f":"IF(E134=0,\" \",IF(OR(E134<1,E134>350),\" \",LOOKUP(E134,waarden!$D$4:$D$353,waarden!$E$4:$E$353)))","v":" "},null,{"$f":"IF(G134=0,\" \",IF(OR(G134<1,G134>350),\" \",LOOKUP(G134,waarden!$D$4:$D$353,waarden!$E$4:$E$353)))","v":" "},null,{"$f":"IF(I134=0,\" \",IF(OR(I134<1,I134>350),\" \",LOOKUP(I134,waarden!$D$4:$D$353,waarden!$E$4:$E$353)))","v":" "},null,{"$f":"IF(K134=0,\" \",IF(OR(K134<1,K134>350),\" \",LOOKUP(K134,waarden!$D$4:$D$353,waarden!$E$4:$E$353)))","v":" "},null,{"$f":"IF(M134=0,\" \",IF(OR(M134<1,M134>350),\" \",LOOKUP(M134,waarden!$D$4:$D$353,waarden!$E$4:$E$353)))","v":" "},null,{"$f":"IF(O134=0,\" \",IF(OR(O134<1,O134>350),\" \",LOOKUP(O134,waarden!$D$4:$D$353,waarden!$E$4:$E$353)))","v":" "},null,{"$f":"IF(Q134=0,\" \",IF(OR(Q134<1,Q134>350),\" \",LOOKUP(Q134,waarden!$D$4:$D$353,waarden!$E$4:$E$353)))","v":" "},null,{"$f":"IF(S134=0,\" \",IF(OR(S134<1,S134>350),\" \",LOOKUP(S134,waarden!$D$4:$D$353,waarden!$E$4:$E$353)))","v":" "},null,{"$f":"IF(U134=0,\" \",IF(OR(U134<1,U134>350),\" \",LOOKUP(U134,waarden!$D$4:$D$353,waarden!$E$4:$E$353)))","v":" "},null,{"$f":"IF(W134=0,\" \",IF(OR(W134<1,W134>350),\" \",LOOKUP(W134,waarden!$D$4:$D$353,waarden!$E$4:$E$353)))","v":" "},null,{"$f":"IF(Y134=0,\" \",IF(OR(Y134<1,Y134>350),\" \",LOOKUP(Y134,waarden!$D$4:$D$353,waarden!$E$4:$E$353)))","v":" "},null,{"$f":"IF(AA134=0,\" \",IF(OR(AA134<1,AA134>350),\" \",LOOKUP(AA134,waarden!$D$4:$D$353,waarden!$E$4:$E$353)))","v":" "},null,{"$f":"IF(AC134=0,\" \",IF(OR(AC134<1,AC134>350),\" \",LOOKUP(AC134,waarden!$D$4:$D$353,waarden!$E$4:$E$353)))","v":" "},null,{"$f":"IF(AE134=0,\" \",IF(OR(AE134<1,AE134>350),\" \",LOOKUP(AE134,waarden!$D$4:$D$353,waarden!$E$4:$E$353)))","v":" "},null,{"$f":"IF(AG134=0,\" \",IF(OR(AG134<1,AG134>350),\" \",LOOKUP(AG134,waarden!$D$4:$D$353,waarden!$E$4:$E$353)))","v":" "},null,{"$f":"IF(AI134=0,\" \",IF(OR(AI134<1,AI134>350),\" \",LOOKUP(AI134,waarden!$D$4:$D$353,waarden!$E$4:$E$353)))","v":" "},null,{"$f":"IF(AK134=0,\" \",IF(OR(AK134<1,AK134>350),\" \",LOOKUP(AK134,waarden!$D$4:$D$353,waarden!$E$4:$E$353)))","v":" "},null,{"$f":"IF(AM134=0,\" \",IF(OR(AM134<1,AM134>350),\" \",LOOKUP(AM134,waarden!$D$4:$D$353,waarden!$E$4:$E$353)))","v":" "},null,{"$f":"IF(AO134=0,\" \",IF(OR(AO134<1,AO134>350),\" \",LOOKUP(AO134,waarden!$D$4:$D$353,waarden!$E$4:$E$353)))","v":" "},null,{"$f":"IF(AQ134=0,\" \",IF(OR(AQ134<1,AQ134>350),\" \",LOOKUP(AQ134,waarden!$D$4:$D$353,waarden!$E$4:$E$353)))","v":" "},null,{"$f":"IF(AS134=0,\" \",IF(OR(AS134<1,AS134>350),\" \",LOOKUP(AS134,waarden!$D$4:$D$353,waarden!$E$4:$E$353)))","v":" "},null,{"$f":"IF(AU134=0,\" \",IF(OR(AU134<1,AU134>350),\" \",LOOKUP(AU134,waarden!$D$4:$D$353,waarden!$E$4:$E$353)))","v":" "},null,{"$f":"IF(AW134=0,\" \",IF(OR(AW134<1,AW134>350),\" \",LOOKUP(AW134,waarden!$D$4:$D$353,waarden!$E$4:$E$353)))","v":" "},null,{"$f":"IF(AY134=0,\" \",IF(OR(AY134<1,AY134>350),\" \",LOOKUP(AY134,waarden!$D$4:$D$353,waarden!$E$4:$E$353)))","v":" "},null,{"$f":"IF(BA134=0,\" \",IF(OR(BA134<1,BA134>350),\" \",LOOKUP(BA134,waarden!$D$4:$D$353,waarden!$E$4:$E$353)))","v":" "},null,{"$f":"IF(BC134=0,\" \",IF(OR(BC134<1,BC134>350),\" \",LOOKUP(BC134,waarden!$D$4:$D$353,waarden!$E$4:$E$353)))","v":" "},null,{"$f":"IF(BE134=0,\" \",IF(OR(BE134<1,BE134>350),\" \",LOOKUP(BE134,waarden!$D$4:$D$353,waarden!$E$4:$E$353)))","v":" "},null,{"$f":"IF(BG134=0,\" \",IF(OR(BG134<1,BG134>350),\" \",LOOKUP(BG134,waarden!$D$4:$D$353,waarden!$E$4:$E$353)))","v":" "},null,{"$f":"IF(BI134=0,\" \",IF(OR(BI134<1,BI134>350),\" \",LOOKUP(BI134,waarden!$D$4:$D$353,waarden!$E$4:$E$353)))","v":" "},null,{"$f":"IF(BK134=0,\" \",IF(OR(BK134<1,BK134>350),\" \",LOOKUP(BK134,waarden!$D$4:$D$353,waarden!$E$4:$E$353)))","v":" "},null,{"$f":"IF(BM134=0,\" \",IF(OR(BM134<1,BM134>350),\" \",LOOKUP(BM134,waarden!$D$4:$D$353,waarden!$E$4:$E$353)))","v":" "},0,0]
[null,null,null,"Passagier",null,{"$f":"IF(E135=0,\" \",IF(OR(E135<1,E135>350),\" \",LOOKUP(E135,waarden!$A$4:$A$353,waarden!$B$4:$B$353)))","v":" "},null,{"$f":"IF(G135=0,\" \",IF(OR(G135<1,G135>350),\" \",LOOKUP(G135,waarden!$A$4:$A$353,waarden!$B$4:$B$353)))","v":" "},null,{"$f":"IF(I135=0,\" \",IF(OR(I135<1,I135>350),\" \",LOOKUP(I135,waarden!$A$4:$A$353,waarden!$B$4:$B$353)))","v":" "},null,{"$f":"IF(K135=0,\" \",IF(OR(K135<1,K135>350),\" \",LOOKUP(K135,waarden!$A$4:$A$353,waarden!$B$4:$B$353)))","v":" "},null,{"$f":"IF(M135=0,\" \",IF(OR(M135<1,M135>350),\" \",LOOKUP(M135,waarden!$A$4:$A$353,waarden!$B$4:$B$353)))","v":" "},null,{"$f":"IF(O135=0,\" \",IF(OR(O135<1,O135>350),\" \",LOOKUP(O135,waarden!$A$4:$A$353,waarden!$B$4:$B$353)))","v":" "},null,{"$f":"IF(Q135=0,\" \",IF(OR(Q135<1,Q135>350),\" \",LOOKUP(Q135,waarden!$A$4:$A$353,waarden!$B$4:$B$353)))","v":" "},null,{"$f":"IF(S135=0,\" \",IF(OR(S135<1,S135>350),\" \",LOOKUP(S135,waarden!$A$4:$A$353,waarden!$B$4:$B$353)))","v":" "},null,{"$f":"IF(U135=0,\" \",IF(OR(U135<1,U135>350),\" \",LOOKUP(U135,waarden!$A$4:$A$353,waarden!$B$4:$B$353)))","v":" "},null,{"$f":"IF(W135=0,\" \",IF(OR(W135<1,W135>350),\" \",LOOKUP(W135,waarden!$A$4:$A$353,waarden!$B$4:$B$353)))","v":" "},null,{"$f":"IF(Y135=0,\" \",IF(OR(Y135<1,Y135>350),\" \",LOOKUP(Y135,waarden!$A$4:$A$353,waarden!$B$4:$B$353)))","v":" "},null,{"$f":"IF(AA135=0,\" \",IF(OR(AA135<1,AA135>350),\" \",LOOKUP(AA135,waarden!$A$4:$A$353,waarden!$B$4:$B$353)))","v":" "},null,{"$f":"IF(AC135=0,\" \",IF(OR(AC135<1,AC135>350),\" \",LOOKUP(AC135,waarden!$A$4:$A$353,waarden!$B$4:$B$353)))","v":" "},null,{"$f":"IF(AE135=0,\" \",IF(OR(AE135<1,AE135>350),\" \",LOOKUP(AE135,waarden!$A$4:$A$353,waarden!$B$4:$B$353)))","v":" "},null,{"$f":"IF(AG135=0,\" \",IF(OR(AG135<1,AG135>350),\" \",LOOKUP(AG135,waarden!$A$4:$A$353,waarden!$B$4:$B$353)))","v":" "},null,{"$f":"IF(AI135=0,\" \",IF(OR(AI135<1,AI135>350),\" \",LOOKUP(AI135,waarden!$A$4:$A$353,waarden!$B$4:$B$353)))","v":" "},null,{"$f":"IF(AK135=0,\" \",IF(OR(AK135<1,AK135>350),\" \",LOOKUP(AK135,waarden!$A$4:$A$353,waarden!$B$4:$B$353)))","v":" "},null,{"$f":"IF(AM135=0,\" \",IF(OR(AM135<1,AM135>350),\" \",LOOKUP(AM135,waarden!$A$4:$A$353,waarden!$B$4:$B$353)))","v":" "},null,{"$f":"IF(AO135=0,\" \",IF(OR(AO135<1,AO135>350),\" \",LOOKUP(AO135,waarden!$A$4:$A$353,waarden!$B$4:$B$353)))","v":" "},null,{"$f":"IF(AQ135=0,\" \",IF(OR(AQ135<1,AQ135>350),\" \",LOOKUP(AQ135,waarden!$A$4:$A$353,waarden!$B$4:$B$353)))","v":" "},null,{"$f":"IF(AS135=0,\" \",IF(OR(AS135<1,AS135>350),\" \",LOOKUP(AS135,waarden!$A$4:$A$353,waarden!$B$4:$B$353)))","v":" "},null,{"$f":"IF(AU135=0,\" \",IF(OR(AU135<1,AU135>350),\" \",LOOKUP(AU135,waarden!$A$4:$A$353,waarden!$B$4:$B$353)))","v":" "},null,{"$f":"IF(AW135=0,\" \",IF(OR(AW135<1,AW135>350),\" \",LOOKUP(AW135,waarden!$A$4:$A$353,waarden!$B$4:$B$353)))","v":" "},null,{"$f":"IF(AY135=0,\" \",IF(OR(AY135<1,AY135>350),\" \",LOOKUP(AY135,waarden!$A$4:$A$353,waarden!$B$4:$B$353)))","v":" "},null,{"$f":"IF(BA135=0,\" \",IF(OR(BA135<1,BA135>350),\" \",LOOKUP(BA135,waarden!$A$4:$A$353,waarden!$B$4:$B$353)))","v":" "},null,{"$f":"IF(BC135=0,\" \",IF(OR(BC135<1,BC135>350),\" \",LOOKUP(BC135,waarden!$A$4:$A$353,waarden!$B$4:$B$353)))","v":" "},null,{"$f":"IF(BE135=0,\" \",IF(OR(BE135<1,BE135>350),\" \",LOOKUP(BE135,waarden!$A$4:$A$353,waarden!$B$4:$B$353)))","v":" "},null,{"$f":"IF(BG135=0,\" \",IF(OR(BG135<1,BG135>350),\" \",LOOKUP(BG135,waarden!$A$4:$A$353,waarden!$B$4:$B$353)))","v":" "},null,{"$f":"IF(BI135=0,\" \",IF(OR(BI135<1,BI135>350),\" \",LOOKUP(BI135,waarden!$A$4:$A$353,waarden!$B$4:$B$353)))","v":" "},null,{"$f":"IF(BK135=0,\" \",IF(OR(BK135<1,BK135>350),\" \",LOOKUP(BK135,waarden!$A$4:$A$353,waarden!$B$4:$B$353)))","v":" "},null,{"$f":"IF(BM135=0,\" \",IF(OR(BM135<1,BM135>350),\" \",LOOKUP(BM135,waarden!$A$4:$A$353,waarden!$B$4:$B$353)))","v":" "},0,0]
[null,null,null,"Chauffeur personeel",null,{"$f":"IF(E136=0,\" \",IF(OR(E136<1,E136>350),\" \",LOOKUP(E136,waarden!$G$4:$G$353,waarden!$H$4:$H$353)))","v":" "},null,{"$f":"IF(G136=0,\" \",IF(OR(G136<1,G136>350),\" \",LOOKUP(G136,waarden!$G$4:$G$353,waarden!$H$4:$H$353)))","v":" "},null,{"$f":"IF(I136=0,\" \",IF(OR(I136<1,I136>350),\" \",LOOKUP(I136,waarden!$G$4:$G$353,waarden!$H$4:$H$353)))","v":" "},null,{"$f":"IF(K136=0,\" \",IF(OR(K136<1,K136>350),\" \",LOOKUP(K136,waarden!$G$4:$G$353,waarden!$H$4:$H$353)))","v":" "},null,{"$f":"IF(M136=0,\" \",IF(OR(M136<1,M136>350),\" \",LOOKUP(M136,waarden!$G$4:$G$353,waarden!$H$4:$H$353)))","v":" "},null,{"$f":"IF(O136=0,\" \",IF(OR(O136<1,O136>350),\" \",LOOKUP(O136,waarden!$G$4:$G$353,waarden!$H$4:$H$353)))","v":" "},null,{"$f":"IF(Q136=0,\" \",IF(OR(Q136<1,Q136>350),\" \",LOOKUP(Q136,waarden!$G$4:$G$353,waarden!$H$4:$H$353)))","v":" "},null,{"$f":"IF(S136=0,\" \",IF(OR(S136<1,S136>350),\" \",LOOKUP(S136,waarden!$G$4:$G$353,waarden!$H$4:$H$353)))","v":" "},null,{"$f":"IF(U136=0,\" \",IF(OR(U136<1,U136>350),\" \",LOOKUP(U136,waarden!$G$4:$G$353,waarden!$H$4:$H$353)))","v":" "},null,{"$f":"IF(W136=0,\" \",IF(OR(W136<1,W136>350),\" \",LOOKUP(W136,waarden!$G$4:$G$353,waarden!$H$4:$H$353)))","v":" "},null,{"$f":"IF(Y136=0,\" \",IF(OR(Y136<1,Y136>350),\" \",LOOKUP(Y136,waarden!$G$4:$G$353,waarden!$H$4:$H$353)))","v":" "},null,{"$f":"IF(AA136=0,\" \",IF(OR(AA136<1,AA136>350),\" \",LOOKUP(AA136,waarden!$G$4:$G$353,waarden!$H$4:$H$353)))","v":" "},null,{"$f":"IF(AC136=0,\" \",IF(OR(AC136<1,AC136>350),\" \",LOOKUP(AC136,waarden!$G$4:$G$353,waarden!$H$4:$H$353)))","v":" "},null,{"$f":"IF(AE136=0,\" \",IF(OR(AE136<1,AE136>350),\" \",LOOKUP(AE136,waarden!$G$4:$G$353,waarden!$H$4:$H$353)))","v":" "},null,{"$f":"IF(AG136=0,\" \",IF(OR(AG136<1,AG136>350),\" \",LOOKUP(AG136,waarden!$G$4:$G$353,waarden!$H$4:$H$353)))","v":" "},null,{"$f":"IF(AI136=0,\" \",IF(OR(AI136<1,AI136>350),\" \",LOOKUP(AI136,waarden!$G$4:$G$353,waarden!$H$4:$H$353)))","v":" "},null,{"$f":"IF(AK136=0,\" \",IF(OR(AK136<1,AK136>350),\" \",LOOKUP(AK136,waarden!$G$4:$G$353,waarden!$H$4:$H$353)))","v":" "},null,{"$f":"IF(AM136=0,\" \",IF(OR(AM136<1,AM136>350),\" \",LOOKUP(AM136,waarden!$G$4:$G$353,waarden!$H$4:$H$353)))","v":" "},null,{"$f":"IF(AO136=0,\" \",IF(OR(AO136<1,AO136>350),\" \",LOOKUP(AO136,waarden!$G$4:$G$353,waarden!$H$4:$H$353)))","v":" "},null,{"$f":"IF(AQ136=0,\" \",IF(OR(AQ136<1,AQ136>350),\" \",LOOKUP(AQ136,waarden!$G$4:$G$353,waarden!$H$4:$H$353)))","v":" "},null,{"$f":"IF(AS136=0,\" \",IF(OR(AS136<1,AS136>350),\" \",LOOKUP(AS136,waarden!$G$4:$G$353,waarden!$H$4:$H$353)))","v":" "},null,{"$f":"IF(AU136=0,\" \",IF(OR(AU136<1,AU136>350),\" \",LOOKUP(AU136,waarden!$G$4:$G$353,waarden!$H$4:$H$353)))","v":" "},null,{"$f":"IF(AW136=0,\" \",IF(OR(AW136<1,AW136>350),\" \",LOOKUP(AW136,waarden!$G$4:$G$353,waarden!$H$4:$H$353)))","v":" "},null,{"$f":"IF(AY136=0,\" \",IF(OR(AY136<1,AY136>350),\" \",LOOKUP(AY136,waarden!$G$4:$G$353,waarden!$H$4:$H$353)))","v":" "},null,{"$f":"IF(BA136=0,\" \",IF(OR(BA136<1,BA136>350),\" \",LOOKUP(BA136,waarden!$G$4:$G$353,waarden!$H$4:$H$353)))","v":" "},null,{"$f":"IF(BC136=0,\" \",IF(OR(BC136<1,BC136>350),\" \",LOOKUP(BC136,waarden!$G$4:$G$353,waarden!$H$4:$H$353)))","v":" "},null,{"$f":"IF(BE136=0,\" \",IF(OR(BE136<1,BE136>350),\" \",LOOKUP(BE136,waarden!$G$4:$G$353,waarden!$H$4:$H$353)))","v":" "},null,{"$f":"IF(BG136=0,\" \",IF(OR(BG136<1,BG136>350),\" \",LOOKUP(BG136,waarden!$G$4:$G$353,waarden!$H$4:$H$353)))","v":" "},null,{"$f":"IF(BI136=0,\" \",IF(OR(BI136<1,BI136>350),\" \",LOOKUP(BI136,waarden!$G$4:$G$353,waarden!$H$4:$H$353)))","v":" "},null,{"$f":"IF(BK136=0,\" \",IF(OR(BK136<1,BK136>350),\" \",LOOKUP(BK136,waarden!$G$4:$G$353,waarden!$H$4:$H$353)))","v":" "},null,{"$f":"IF(BM136=0,\" \",IF(OR(BM136<1,BM136>350),\" \",LOOKUP(BM136,waarden!$G$4:$G$353,waarden!$H$4:$H$353)))","v":" "},0,{"$f":"SUM(F136,H136,J136,L136,N136,P136,R136,T136,V136,X136,Z136,AB136,AD136,AF136,AH136,AJ136,AL136,AN136,AP136,AR136,AT136,AV136,AX136,AZ136,BB136,BD136,BF136,BH136,BJ136,BL136,BN136)","v":0}]
[null,null,null,"Chauffeur alleen",null,{"$f":"IF(E137=0,\" \",IF(OR(E137<1,E137>350),\" \",LOOKUP(E137,waarden!$D$4:$D$353,waarden!$E$4:$E$353)))","v":" "},null,{"$f":"IF(G137=0,\" \",IF(OR(G137<1,G137>350),\" \",LOOKUP(G137,waarden!$D$4:$D$353,waarden!$E$4:$E$353)))","v":" "},null,{"$f":"IF(I137=0,\" \",IF(OR(I137<1,I137>350),\" \",LOOKUP(I137,waarden!$D$4:$D$353,waarden!$E$4:$E$353)))","v":" "},null,{"$f":"IF(K137=0,\" \",IF(OR(K137<1,K137>350),\" \",LOOKUP(K137,waarden!$D$4:$D$353,waarden!$E$4:$E$353)))","v":" "},null,{"$f":"IF(M137=0,\" \",IF(OR(M137<1,M137>350),\" \",LOOKUP(M137,waarden!$D$4:$D$353,waarden!$E$4:$E$353)))","v":" "},null,{"$f":"IF(O137=0,\" \",IF(OR(O137<1,O137>350),\" \",LOOKUP(O137,waarden!$D$4:$D$353,waarden!$E$4:$E$353)))","v":" "},null,{"$f":"IF(Q137=0,\" \",IF(OR(Q137<1,Q137>350),\" \",LOOKUP(Q137,waarden!$D$4:$D$353,waarden!$E$4:$E$353)))","v":" "},null,{"$f":"IF(S137=0,\" \",IF(OR(S137<1,S137>350),\" \",LOOKUP(S137,waarden!$D$4:$D$353,waarden!$E$4:$E$353)))","v":" "},null,{"$f":"IF(U137=0,\" \",IF(OR(U137<1,U137>350),\" \",LOOKUP(U137,waarden!$D$4:$D$353,waarden!$E$4:$E$353)))","v":" "},null,{"$f":"IF(W137=0,\" \",IF(OR(W137<1,W137>350),\" \",LOOKUP(W137,waarden!$D$4:$D$353,waarden!$E$4:$E$353)))","v":" "},null,{"$f":"IF(Y137=0,\" \",IF(OR(Y137<1,Y137>350),\" \",LOOKUP(Y137,waarden!$D$4:$D$353,waarden!$E$4:$E$353)))","v":" "},null,{"$f":"IF(AA137=0,\" \",IF(OR(AA137<1,AA137>350),\" \",LOOKUP(AA137,waarden!$D$4:$D$353,waarden!$E$4:$E$353)))","v":" "},null,{"$f":"IF(AC137=0,\" \",IF(OR(AC137<1,AC137>350),\" \",LOOKUP(AC137,waarden!$D$4:$D$353,waarden!$E$4:$E$353)))","v":" "},null,{"$f":"IF(AE137=0,\" \",IF(OR(AE137<1,AE137>350),\" \",LOOKUP(AE137,waarden!$D$4:$D$353,waarden!$E$4:$E$353)))","v":" "},null,{"$f":"IF(AG137=0,\" \",IF(OR(AG137<1,AG137>350),\" \",LOOKUP(AG137,waarden!$D$4:$D$353,waarden!$E$4:$E$353)))","v":" "},null,{"$f":"IF(AI137=0,\" \",IF(OR(AI137<1,AI137>350),\" \",LOOKUP(AI137,waarden!$D$4:$D$353,waarden!$E$4:$E$353)))","v":" "},null,{"$f":"IF(AK137=0,\" \",IF(OR(AK137<1,AK137>350),\" \",LOOKUP(AK137,waarden!$D$4:$D$353,waarden!$E$4:$E$353)))","v":" "},null,{"$f":"IF(AM137=0,\" \",IF(OR(AM137<1,AM137>350),\" \",LOOKUP(AM137,waarden!$D$4:$D$353,waarden!$E$4:$E$353)))","v":" "},null,{"$f":"IF(AO137=0,\" \",IF(OR(AO137<1,AO137>350),\" \",LOOKUP(AO137,waarden!$D$4:$D$353,waarden!$E$4:$E$353)))","v":" "},null,{"$f":"IF(AQ137=0,\" \",IF(OR(AQ137<1,AQ137>350),\" \",LOOKUP(AQ137,waarden!$D$4:$D$353,waarden!$E$4:$E$353)))","v":" "},null,{"$f":"IF(AS137=0,\" \",IF(OR(AS137<1,AS137>350),\" \",LOOKUP(AS137,waarden!$D$4:$D$353,waarden!$E$4:$E$353)))","v":" "},null,{"$f":"IF(AU137=0,\" \",IF(OR(AU137<1,AU137>350),\" \",LOOKUP(AU137,waarden!$D$4:$D$353,waarden!$E$4:$E$353)))","v":" "},null,{"$f":"IF(AW137=0,\" \",IF(OR(AW137<1,AW137>350),\" \",LOOKUP(AW137,waarden!$D$4:$D$353,waarden!$E$4:$E$353)))","v":" "},null,{"$f":"IF(AY137=0,\" \",IF(OR(AY137<1,AY137>350),\" \",LOOKUP(AY137,waarden!$D$4:$D$353,waarden!$E$4:$E$353)))","v":" "},null,{"$f":"IF(BA137=0,\" \",IF(OR(BA137<1,BA137>350),\" \",LOOKUP(BA137,waarden!$D$4:$D$353,waarden!$E$4:$E$353)))","v":" "},null,{"$f":"IF(BC137=0,\" \",IF(OR(BC137<1,BC137>350),\" \",LOOKUP(BC137,waarden!$D$4:$D$353,waarden!$E$4:$E$353)))","v":" "},null,{"$f":"IF(BE137=0,\" \",IF(OR(BE137<1,BE137>350),\" \",LOOKUP(BE137,waarden!$D$4:$D$353,waarden!$E$4:$E$353)))","v":" "},null,{"$f":"IF(BG137=0,\" \",IF(OR(BG137<1,BG137>350),\" \",LOOKUP(BG137,waarden!$D$4:$D$353,waarden!$E$4:$E$353)))","v":" "},null,{"$f":"IF(BI137=0,\" \",IF(OR(BI137<1,BI137>350),\" \",LOOKUP(BI137,waarden!$D$4:$D$353,waarden!$E$4:$E$353)))","v":" "},null,{"$f":"IF(BK137=0,\" \",IF(OR(BK137<1,BK137>350),\" \",LOOKUP(BK137,waarden!$D$4:$D$353,waarden!$E$4:$E$353)))","v":" "},null,{"$f":"IF(BM137=0,\" \",IF(OR(BM137<1,BM137>350),\" \",LOOKUP(BM137,waarden!$D$4:$D$353,waarden!$E$4:$E$353)))","v":" "},0,0]
[null,null,null,"Passagier",null,{"$f":"IF(E138=0,\" \",IF(OR(E138<1,E138>350),\" \",LOOKUP(E138,waarden!$A$4:$A$353,waarden!$B$4:$B$353)))","v":" "},null,{"$f":"IF(G138=0,\" \",IF(OR(G138<1,G138>350),\" \",LOOKUP(G138,waarden!$A$4:$A$353,waarden!$B$4:$B$353)))","v":" "},null,{"$f":"IF(I138=0,\" \",IF(OR(I138<1,I138>350),\" \",LOOKUP(I138,waarden!$A$4:$A$353,waarden!$B$4:$B$353)))","v":" "},null,{"$f":"IF(K138=0,\" \",IF(OR(K138<1,K138>350),\" \",LOOKUP(K138,waarden!$A$4:$A$353,waarden!$B$4:$B$353)))","v":" "},null,{"$f":"IF(M138=0,\" \",IF(OR(M138<1,M138>350),\" \",LOOKUP(M138,waarden!$A$4:$A$353,waarden!$B$4:$B$353)))","v":" "},null,{"$f":"IF(O138=0,\" \",IF(OR(O138<1,O138>350),\" \",LOOKUP(O138,waarden!$A$4:$A$353,waarden!$B$4:$B$353)))","v":" "},null,{"$f":"IF(Q138=0,\" \",IF(OR(Q138<1,Q138>350),\" \",LOOKUP(Q138,waarden!$A$4:$A$353,waarden!$B$4:$B$353)))","v":" "},null,{"$f":"IF(S138=0,\" \",IF(OR(S138<1,S138>350),\" \",LOOKUP(S138,waarden!$A$4:$A$353,waarden!$B$4:$B$353)))","v":" "},null,{"$f":"IF(U138=0,\" \",IF(OR(U138<1,U138>350),\" \",LOOKUP(U138,waarden!$A$4:$A$353,waarden!$B$4:$B$353)))","v":" "},null,{"$f":"IF(W138=0,\" \",IF(OR(W138<1,W138>350),\" \",LOOKUP(W138,waarden!$A$4:$A$353,waarden!$B$4:$B$353)))","v":" "},null,{"$f":"IF(Y138=0,\" \",IF(OR(Y138<1,Y138>350),\" \",LOOKUP(Y138,waarden!$A$4:$A$353,waarden!$B$4:$B$353)))","v":" "},null,{"$f":"IF(AA138=0,\" \",IF(OR(AA138<1,AA138>350),\" \",LOOKUP(AA138,waarden!$A$4:$A$353,waarden!$B$4:$B$353)))","v":" "},null,{"$f":"IF(AC138=0,\" \",IF(OR(AC138<1,AC138>350),\" \",LOOKUP(AC138,waarden!$A$4:$A$353,waarden!$B$4:$B$353)))","v":" "},null,{"$f":"IF(AE138=0,\" \",IF(OR(AE138<1,AE138>350),\" \",LOOKUP(AE138,waarden!$A$4:$A$353,waarden!$B$4:$B$353)))","v":" "},null,{"$f":"IF(AG138=0,\" \",IF(OR(AG138<1,AG138>350),\" \",LOOKUP(AG138,waarden!$A$4:$A$353,waarden!$B$4:$B$353)))","v":" "},null,{"$f":"IF(AI138=0,\" \",IF(OR(AI138<1,AI138>350),\" \",LOOKUP(AI138,waarden!$A$4:$A$353,waarden!$B$4:$B$353)))","v":" "},null,{"$f":"IF(AK138=0,\" \",IF(OR(AK138<1,AK138>350),\" \",LOOKUP(AK138,waarden!$A$4:$A$353,waarden!$B$4:$B$353)))","v":" "},null,{"$f":"IF(AM138=0,\" \",IF(OR(AM138<1,AM138>350),\" \",LOOKUP(AM138,waarden!$A$4:$A$353,waarden!$B$4:$B$353)))","v":" "},null,{"$f":"IF(AO138=0,\" \",IF(OR(AO138<1,AO138>350),\" \",LOOKUP(AO138,waarden!$A$4:$A$353,waarden!$B$4:$B$353)))","v":" "},null,{"$f":"IF(AQ138=0,\" \",IF(OR(AQ138<1,AQ138>350),\" \",LOOKUP(AQ138,waarden!$A$4:$A$353,waarden!$B$4:$B$353)))","v":" "},null,{"$f":"IF(AS138=0,\" \",IF(OR(AS138<1,AS138>350),\" \",LOOKUP(AS138,waarden!$A$4:$A$353,waarden!$B$4:$B$353)))","v":" "},null,{"$f":"IF(AU138=0,\" \",IF(OR(AU138<1,AU138>350),\" \",LOOKUP(AU138,waarden!$A$4:$A$353,waarden!$B$4:$B$353)))","v":" "},null,{"$f":"IF(AW138=0,\" \",IF(OR(AW138<1,AW138>350),\" \",LOOKUP(AW138,waarden!$A$4:$A$353,waarden!$B$4:$B$353)))","v":" "},null,{"$f":"IF(AY138=0,\" \",IF(OR(AY138<1,AY138>350),\" \",LOOKUP(AY138,waarden!$A$4:$A$353,waarden!$B$4:$B$353)))","v":" "},null,{"$f":"IF(BA138=0,\" \",IF(OR(BA138<1,BA138>350),\" \",LOOKUP(BA138,waarden!$A$4:$A$353,waarden!$B$4:$B$353)))","v":" "},null,{"$f":"IF(BC138=0,\" \",IF(OR(BC138<1,BC138>350),\" \",LOOKUP(BC138,waarden!$A$4:$A$353,waarden!$B$4:$B$353)))","v":" "},null,{"$f":"IF(BE138=0,\" \",IF(OR(BE138<1,BE138>350),\" \",LOOKUP(BE138,waarden!$A$4:$A$353,waarden!$B$4:$B$353)))","v":" "},null,{"$f":"IF(BG138=0,\" \",IF(OR(BG138<1,BG138>350),\" \",LOOKUP(BG138,waarden!$A$4:$A$353,waarden!$B$4:$B$353)))","v":" "},null,{"$f":"IF(BI138=0,\" \",IF(OR(BI138<1,BI138>350),\" \",LOOKUP(BI138,waarden!$A$4:$A$353,waarden!$B$4:$B$353)))","v":" "},null,{"$f":"IF(BK138=0,\" \",IF(OR(BK138<1,BK138>350),\" \",LOOKUP(BK138,waarden!$A$4:$A$353,waarden!$B$4:$B$353)))","v":" "},null,{"$f":"IF(BM138=0,\" \",IF(OR(BM138<1,BM138>350),\" \",LOOKUP(BM138,waarden!$A$4:$A$353,waarden!$B$4:$B$353)))","v":" "},0,0]
[null,null,null,"Chauffeur personeel",null,{"$f":"IF(E139=0,\" \",IF(OR(E139<1,E139>350),\" \",LOOKUP(E139,waarden!$G$4:$G$353,waarden!$H$4:$H$353)))","v":" "},null,{"$f":"IF(G139=0,\" \",IF(OR(G139<1,G139>350),\" \",LOOKUP(G139,waarden!$G$4:$G$353,waarden!$H$4:$H$353)))","v":" "},null,{"$f":"IF(I139=0,\" \",IF(OR(I139<1,I139>350),\" \",LOOKUP(I139,waarden!$G$4:$G$353,waarden!$H$4:$H$353)))","v":" "},null,{"$f":"IF(K139=0,\" \",IF(OR(K139<1,K139>350),\" \",LOOKUP(K139,waarden!$G$4:$G$353,waarden!$H$4:$H$353)))","v":" "},null,{"$f":"IF(M139=0,\" \",IF(OR(M139<1,M139>350),\" \",LOOKUP(M139,waarden!$G$4:$G$353,waarden!$H$4:$H$353)))","v":" "},null,{"$f":"IF(O139=0,\" \",IF(OR(O139<1,O139>350),\" \",LOOKUP(O139,waarden!$G$4:$G$353,waarden!$H$4:$H$353)))","v":" "},null,{"$f":"IF(Q139=0,\" \",IF(OR(Q139<1,Q139>350),\" \",LOOKUP(Q139,waarden!$G$4:$G$353,waarden!$H$4:$H$353)))","v":" "},null,{"$f":"IF(S139=0,\" \",IF(OR(S139<1,S139>350),\" \",LOOKUP(S139,waarden!$G$4:$G$353,waarden!$H$4:$H$353)))","v":" "},null,{"$f":"IF(U139=0,\" \",IF(OR(U139<1,U139>350),\" \",LOOKUP(U139,waarden!$G$4:$G$353,waarden!$H$4:$H$353)))","v":" "},null,{"$f":"IF(W139=0,\" \",IF(OR(W139<1,W139>350),\" \",LOOKUP(W139,waarden!$G$4:$G$353,waarden!$H$4:$H$353)))","v":" "},null,{"$f":"IF(Y139=0,\" \",IF(OR(Y139<1,Y139>350),\" \",LOOKUP(Y139,waarden!$G$4:$G$353,waarden!$H$4:$H$353)))","v":" "},null,{"$f":"IF(AA139=0,\" \",IF(OR(AA139<1,AA139>350),\" \",LOOKUP(AA139,waarden!$G$4:$G$353,waarden!$H$4:$H$353)))","v":" "},null,{"$f":"IF(AC139=0,\" \",IF(OR(AC139<1,AC139>350),\" \",LOOKUP(AC139,waarden!$G$4:$G$353,waarden!$H$4:$H$353)))","v":" "},null,{"$f":"IF(AE139=0,\" \",IF(OR(AE139<1,AE139>350),\" \",LOOKUP(AE139,waarden!$G$4:$G$353,waarden!$H$4:$H$353)))","v":" "},null,{"$f":"IF(AG139=0,\" \",IF(OR(AG139<1,AG139>350),\" \",LOOKUP(AG139,waarden!$G$4:$G$353,waarden!$H$4:$H$353)))","v":" "},null,{"$f":"IF(AI139=0,\" \",IF(OR(AI139<1,AI139>350),\" \",LOOKUP(AI139,waarden!$G$4:$G$353,waarden!$H$4:$H$353)))","v":" "},null,{"$f":"IF(AK139=0,\" \",IF(OR(AK139<1,AK139>350),\" \",LOOKUP(AK139,waarden!$G$4:$G$353,waarden!$H$4:$H$353)))","v":" "},null,{"$f":"IF(AM139=0,\" \",IF(OR(AM139<1,AM139>350),\" \",LOOKUP(AM139,waarden!$G$4:$G$353,waarden!$H$4:$H$353)))","v":" "},null,{"$f":"IF(AO139=0,\" \",IF(OR(AO139<1,AO139>350),\" \",LOOKUP(AO139,waarden!$G$4:$G$353,waarden!$H$4:$H$353)))","v":" "},null,{"$f":"IF(AQ139=0,\" \",IF(OR(AQ139<1,AQ139>350),\" \",LOOKUP(AQ139,waarden!$G$4:$G$353,waarden!$H$4:$H$353)))","v":" "},null,{"$f":"IF(AS139=0,\" \",IF(OR(AS139<1,AS139>350),\" \",LOOKUP(AS139,waarden!$G$4:$G$353,waarden!$H$4:$H$353)))","v":" "},null,{"$f":"IF(AU139=0,\" \",IF(OR(AU139<1,AU139>350),\" \",LOOKUP(AU139,waarden!$G$4:$G$353,waarden!$H$4:$H$353)))","v":" "},null,{"$f":"IF(AW139=0,\" \",IF(OR(AW139<1,AW139>350),\" \",LOOKUP(AW139,waarden!$G$4:$G$353,waarden!$H$4:$H$353)))","v":" "},null,{"$f":"IF(AY139=0,\" \",IF(OR(AY139<1,AY139>350),\" \",LOOKUP(AY139,waarden!$G$4:$G$353,waarden!$H$4:$H$353)))","v":" "},null,{"$f":"IF(BA139=0,\" \",IF(OR(BA139<1,BA139>350),\" \",LOOKUP(BA139,waarden!$G$4:$G$353,waarden!$H$4:$H$353)))","v":" "},null,{"$f":"IF(BC139=0,\" \",IF(OR(BC139<1,BC139>350),\" \",LOOKUP(BC139,waarden!$G$4:$G$353,waarden!$H$4:$H$353)))","v":" "},null,{"$f":"IF(BE139=0,\" \",IF(OR(BE139<1,BE139>350),\" \",LOOKUP(BE139,waarden!$G$4:$G$353,waarden!$H$4:$H$353)))","v":" "},null,{"$f":"IF(BG139=0,\" \",IF(OR(BG139<1,BG139>350),\" \",LOOKUP(BG139,waarden!$G$4:$G$353,waarden!$H$4:$H$353)))","v":" "},null,{"$f":"IF(BI139=0,\" \",IF(OR(BI139<1,BI139>350),\" \",LOOKUP(BI139,waarden!$G$4:$G$353,waarden!$H$4:$H$353)))","v":" "},null,{"$f":"IF(BK139=0,\" \",IF(OR(BK139<1,BK139>350),\" \",LOOKUP(BK139,waarden!$G$4:$G$353,waarden!$H$4:$H$353)))","v":" "},null,{"$f":"IF(BM139=0,\" \",IF(OR(BM139<1,BM139>350),\" \",LOOKUP(BM139,waarden!$G$4:$G$353,waarden!$H$4:$H$353)))","v":" "},0,{"$f":"SUM(F139,H139,J139,L139,N139,P139,R139,T139,V139,X139,Z139,AB139,AD139,AF139,AH139,AJ139,AL139,AN139,AP139,AR139,AT139,AV139,AX139,AZ139,BB139,BD139,BF139,BH139,BJ139,BL139,BN139)","v":0}]
[null,null,null,"Chauffeur alleen",null,{"$f":"IF(E140=0,\" \",IF(OR(E140<1,E140>350),\" \",LOOKUP(E140,waarden!$D$4:$D$353,waarden!$E$4:$E$353)))","v":" "},null,{"$f":"IF(G140=0,\" \",IF(OR(G140<1,G140>350),\" \",LOOKUP(G140,waarden!$D$4:$D$353,waarden!$E$4:$E$353)))","v":" "},null,{"$f":"IF(I140=0,\" \",IF(OR(I140<1,I140>350),\" \",LOOKUP(I140,waarden!$D$4:$D$353,waarden!$E$4:$E$353)))","v":" "},null,{"$f":"IF(K140=0,\" \",IF(OR(K140<1,K140>350),\" \",LOOKUP(K140,waarden!$D$4:$D$353,waarden!$E$4:$E$353)))","v":" "},null,{"$f":"IF(M140=0,\" \",IF(OR(M140<1,M140>350),\" \",LOOKUP(M140,waarden!$D$4:$D$353,waarden!$E$4:$E$353)))","v":" "},null,{"$f":"IF(O140=0,\" \",IF(OR(O140<1,O140>350),\" \",LOOKUP(O140,waarden!$D$4:$D$353,waarden!$E$4:$E$353)))","v":" "},null,{"$f":"IF(Q140=0,\" \",IF(OR(Q140<1,Q140>350),\" \",LOOKUP(Q140,waarden!$D$4:$D$353,waarden!$E$4:$E$353)))","v":" "},null,{"$f":"IF(S140=0,\" \",IF(OR(S140<1,S140>350),\" \",LOOKUP(S140,waarden!$D$4:$D$353,waarden!$E$4:$E$353)))","v":" "},null,{"$f":"IF(U140=0,\" \",IF(OR(U140<1,U140>350),\" \",LOOKUP(U140,waarden!$D$4:$D$353,waarden!$E$4:$E$353)))","v":" "},null,{"$f":"IF(W140=0,\" \",IF(OR(W140<1,W140>350),\" \",LOOKUP(W140,waarden!$D$4:$D$353,waarden!$E$4:$E$353)))","v":" "},null,{"$f":"IF(Y140=0,\" \",IF(OR(Y140<1,Y140>350),\" \",LOOKUP(Y140,waarden!$D$4:$D$353,waarden!$E$4:$E$353)))","v":" "},null,{"$f":"IF(AA140=0,\" \",IF(OR(AA140<1,AA140>350),\" \",LOOKUP(AA140,waarden!$D$4:$D$353,waarden!$E$4:$E$353)))","v":" "},null,{"$f":"IF(AC140=0,\" \",IF(OR(AC140<1,AC140>350),\" \",LOOKUP(AC140,waarden!$D$4:$D$353,waarden!$E$4:$E$353)))","v":" "},null,{"$f":"IF(AE140=0,\" \",IF(OR(AE140<1,AE140>350),\" \",LOOKUP(AE140,waarden!$D$4:$D$353,waarden!$E$4:$E$353)))","v":" "},null,{"$f":"IF(AG140=0,\" \",IF(OR(AG140<1,AG140>350),\" \",LOOKUP(AG140,waarden!$D$4:$D$353,waarden!$E$4:$E$353)))","v":" "},null,{"$f":"IF(AI140=0,\" \",IF(OR(AI140<1,AI140>350),\" \",LOOKUP(AI140,waarden!$D$4:$D$353,waarden!$E$4:$E$353)))","v":" "},null,{"$f":"IF(AK140=0,\" \",IF(OR(AK140<1,AK140>350),\" \",LOOKUP(AK140,waarden!$D$4:$D$353,waarden!$E$4:$E$353)))","v":" "},null,{"$f":"IF(AM140=0,\" \",IF(OR(AM140<1,AM140>350),\" \",LOOKUP(AM140,waarden!$D$4:$D$353,waarden!$E$4:$E$353)))","v":" "},null,{"$f":"IF(AO140=0,\" \",IF(OR(AO140<1,AO140>350),\" \",LOOKUP(AO140,waarden!$D$4:$D$353,waarden!$E$4:$E$353)))","v":" "},null,{"$f":"IF(AQ140=0,\" \",IF(OR(AQ140<1,AQ140>350),\" \",LOOKUP(AQ140,waarden!$D$4:$D$353,waarden!$E$4:$E$353)))","v":" "},null,{"$f":"IF(AS140=0,\" \",IF(OR(AS140<1,AS140>350),\" \",LOOKUP(AS140,waarden!$D$4:$D$353,waarden!$E$4:$E$353)))","v":" "},null,{"$f":"IF(AU140=0,\" \",IF(OR(AU140<1,AU140>350),\" \",LOOKUP(AU140,waarden!$D$4:$D$353,waarden!$E$4:$E$353)))","v":" "},null,{"$f":"IF(AW140=0,\" \",IF(OR(AW140<1,AW140>350),\" \",LOOKUP(AW140,waarden!$D$4:$D$353,waarden!$E$4:$E$353)))","v":" "},null,{"$f":"IF(AY140=0,\" \",IF(OR(AY140<1,AY140>350),\" \",LOOKUP(AY140,waarden!$D$4:$D$353,waarden!$E$4:$E$353)))","v":" "},null,{"$f":"IF(BA140=0,\" \",IF(OR(BA140<1,BA140>350),\" \",LOOKUP(BA140,waarden!$D$4:$D$353,waarden!$E$4:$E$353)))","v":" "},null,{"$f":"IF(BC140=0,\" \",IF(OR(BC140<1,BC140>350),\" \",LOOKUP(BC140,waarden!$D$4:$D$353,waarden!$E$4:$E$353)))","v":" "},null,{"$f":"IF(BE140=0,\" \",IF(OR(BE140<1,BE140>350),\" \",LOOKUP(BE140,waarden!$D$4:$D$353,waarden!$E$4:$E$353)))","v":" "},null,{"$f":"IF(BG140=0,\" \",IF(OR(BG140<1,BG140>350),\" \",LOOKUP(BG140,waarden!$D$4:$D$353,waarden!$E$4:$E$353)))","v":" "},null,{"$f":"IF(BI140=0,\" \",IF(OR(BI140<1,BI140>350),\" \",LOOKUP(BI140,waarden!$D$4:$D$353,waarden!$E$4:$E$353)))","v":" "},null,{"$f":"IF(BK140=0,\" \",IF(OR(BK140<1,BK140>350),\" \",LOOKUP(BK140,waarden!$D$4:$D$353,waarden!$E$4:$E$353)))","v":" "},null,{"$f":"IF(BM140=0,\" \",IF(OR(BM140<1,BM140>350),\" \",LOOKUP(BM140,waarden!$D$4:$D$353,waarden!$E$4:$E$353)))","v":" "},0,0]
[null,null,null,"Passagier",null,{"$f":"IF(E141=0,\" \",IF(OR(E141<1,E141>350),\" \",LOOKUP(E141,waarden!$A$4:$A$353,waarden!$B$4:$B$353)))","v":" "},null,{"$f":"IF(G141=0,\" \",IF(OR(G141<1,G141>350),\" \",LOOKUP(G141,waarden!$A$4:$A$353,waarden!$B$4:$B$353)))","v":" "},null,{"$f":"IF(I141=0,\" \",IF(OR(I141<1,I141>350),\" \",LOOKUP(I141,waarden!$A$4:$A$353,waarden!$B$4:$B$353)))","v":" "},null,{"$f":"IF(K141=0,\" \",IF(OR(K141<1,K141>350),\" \",LOOKUP(K141,waarden!$A$4:$A$353,waarden!$B$4:$B$353)))","v":" "},null,{"$f":"IF(M141=0,\" \",IF(OR(M141<1,M141>350),\" \",LOOKUP(M141,waarden!$A$4:$A$353,waarden!$B$4:$B$353)))","v":" "},null,{"$f":"IF(O141=0,\" \",IF(OR(O141<1,O141>350),\" \",LOOKUP(O141,waarden!$A$4:$A$353,waarden!$B$4:$B$353)))","v":" "},null,{"$f":"IF(Q141=0,\" \",IF(OR(Q141<1,Q141>350),\" \",LOOKUP(Q141,waarden!$A$4:$A$353,waarden!$B$4:$B$353)))","v":" "},null,{"$f":"IF(S141=0,\" \",IF(OR(S141<1,S141>350),\" \",LOOKUP(S141,waarden!$A$4:$A$353,waarden!$B$4:$B$353)))","v":" "},null,{"$f":"IF(U141=0,\" \",IF(OR(U141<1,U141>350),\" \",LOOKUP(U141,waarden!$A$4:$A$353,waarden!$B$4:$B$353)))","v":" "},null,{"$f":"IF(W141=0,\" \",IF(OR(W141<1,W141>350),\" \",LOOKUP(W141,waarden!$A$4:$A$353,waarden!$B$4:$B$353)))","v":" "},null,{"$f":"IF(Y141=0,\" \",IF(OR(Y141<1,Y141>350),\" \",LOOKUP(Y141,waarden!$A$4:$A$353,waarden!$B$4:$B$353)))","v":" "},null,{"$f":"IF(AA141=0,\" \",IF(OR(AA141<1,AA141>350),\" \",LOOKUP(AA141,waarden!$A$4:$A$353,waarden!$B$4:$B$353)))","v":" "},null,{"$f":"IF(AC141=0,\" \",IF(OR(AC141<1,AC141>350),\" \",LOOKUP(AC141,waarden!$A$4:$A$353,waarden!$B$4:$B$353)))","v":" "},null,{"$f":"IF(AE141=0,\" \",IF(OR(AE141<1,AE141>350),\" \",LOOKUP(AE141,waarden!$A$4:$A$353,waarden!$B$4:$B$353)))","v":" "},null,{"$f":"IF(AG141=0,\" \",IF(OR(AG141<1,AG141>350),\" \",LOOKUP(AG141,waarden!$A$4:$A$353,waarden!$B$4:$B$353)))","v":" "},null,{"$f":"IF(AI141=0,\" \",IF(OR(AI141<1,AI141>350),\" \",LOOKUP(AI141,waarden!$A$4:$A$353,waarden!$B$4:$B$353)))","v":" "},null,{"$f":"IF(AK141=0,\" \",IF(OR(AK141<1,AK141>350),\" \",LOOKUP(AK141,waarden!$A$4:$A$353,waarden!$B$4:$B$353)))","v":" "},null,{"$f":"IF(AM141=0,\" \",IF(OR(AM141<1,AM141>350),\" \",LOOKUP(AM141,waarden!$A$4:$A$353,waarden!$B$4:$B$353)))","v":" "},null,{"$f":"IF(AO141=0,\" \",IF(OR(AO141<1,AO141>350),\" \",LOOKUP(AO141,waarden!$A$4:$A$353,waarden!$B$4:$B$353)))","v":" "},null,{"$f":"IF(AQ141=0,\" \",IF(OR(AQ141<1,AQ141>350),\" \",LOOKUP(AQ141,waarden!$A$4:$A$353,waarden!$B$4:$B$353)))","v":" "},null,{"$f":"IF(AS141=0,\" \",IF(OR(AS141<1,AS141>350),\" \",LOOKUP(AS141,waarden!$A$4:$A$353,waarden!$B$4:$B$353)))","v":" "},null,{"$f":"IF(AU141=0,\" \",IF(OR(AU141<1,AU141>350),\" \",LOOKUP(AU141,waarden!$A$4:$A$353,waarden!$B$4:$B$353)))","v":" "},null,{"$f":"IF(AW141=0,\" \",IF(OR(AW141<1,AW141>350),\" \",LOOKUP(AW141,waarden!$A$4:$A$353,waarden!$B$4:$B$353)))","v":" "},null,{"$f":"IF(AY141=0,\" \",IF(OR(AY141<1,AY141>350),\" \",LOOKUP(AY141,waarden!$A$4:$A$353,waarden!$B$4:$B$353)))","v":" "},null,{"$f":"IF(BA141=0,\" \",IF(OR(BA141<1,BA141>350),\" \",LOOKUP(BA141,waarden!$A$4:$A$353,waarden!$B$4:$B$353)))","v":" "},null,{"$f":"IF(BC141=0,\" \",IF(OR(BC141<1,BC141>350),\" \",LOOKUP(BC141,waarden!$A$4:$A$353,waarden!$B$4:$B$353)))","v":" "},null,{"$f":"IF(BE141=0,\" \",IF(OR(BE141<1,BE141>350),\" \",LOOKUP(BE141,waarden!$A$4:$A$353,waarden!$B$4:$B$353)))","v":" "},null,{"$f":"IF(BG141=0,\" \",IF(OR(BG141<1,BG141>350),\" \",LOOKUP(BG141,waarden!$A$4:$A$353,waarden!$B$4:$B$353)))","v":" "},null,{"$f":"IF(BI141=0,\" \",IF(OR(BI141<1,BI141>350),\" \",LOOKUP(BI141,waarden!$A$4:$A$353,waarden!$B$4:$B$353)))","v":" "},null,{"$f":"IF(BK141=0,\" \",IF(OR(BK141<1,BK141>350),\" \",LOOKUP(BK141,waarden!$A$4:$A$353,waarden!$B$4:$B$353)))","v":" "},null,{"$f":"IF(BM141=0,\" \",IF(OR(BM141<1,BM141>350),\" \",LOOKUP(BM141,waarden!$A$4:$A$353,waarden!$B$4:$B$353)))","v":" "},0,0]
[null,null,null,"Chauffeur personeel",null,{"$f":"IF(E142=0,\" \",IF(OR(E142<1,E142>350),\" \",LOOKUP(E142,waarden!$G$4:$G$353,waarden!$H$4:$H$353)))","v":" "},null,{"$f":"IF(G142=0,\" \",IF(OR(G142<1,G142>350),\" \",LOOKUP(G142,waarden!$G$4:$G$353,waarden!$H$4:$H$353)))","v":" "},null,{"$f":"IF(I142=0,\" \",IF(OR(I142<1,I142>350),\" \",LOOKUP(I142,waarden!$G$4:$G$353,waarden!$H$4:$H$353)))","v":" "},null,{"$f":"IF(K142=0,\" \",IF(OR(K142<1,K142>350),\" \",LOOKUP(K142,waarden!$G$4:$G$353,waarden!$H$4:$H$353)))","v":" "},null,{"$f":"IF(M142=0,\" \",IF(OR(M142<1,M142>350),\" \",LOOKUP(M142,waarden!$G$4:$G$353,waarden!$H$4:$H$353)))","v":" "},null,{"$f":"IF(O142=0,\" \",IF(OR(O142<1,O142>350),\" \",LOOKUP(O142,waarden!$G$4:$G$353,waarden!$H$4:$H$353)))","v":" "},null,{"$f":"IF(Q142=0,\" \",IF(OR(Q142<1,Q142>350),\" \",LOOKUP(Q142,waarden!$G$4:$G$353,waarden!$H$4:$H$353)))","v":" "},null,{"$f":"IF(S142=0,\" \",IF(OR(S142<1,S142>350),\" \",LOOKUP(S142,waarden!$G$4:$G$353,waarden!$H$4:$H$353)))","v":" "},null,{"$f":"IF(U142=0,\" \",IF(OR(U142<1,U142>350),\" \",LOOKUP(U142,waarden!$G$4:$G$353,waarden!$H$4:$H$353)))","v":" "},null,{"$f":"IF(W142=0,\" \",IF(OR(W142<1,W142>350),\" \",LOOKUP(W142,waarden!$G$4:$G$353,waarden!$H$4:$H$353)))","v":" "},null,{"$f":"IF(Y142=0,\" \",IF(OR(Y142<1,Y142>350),\" \",LOOKUP(Y142,waarden!$G$4:$G$353,waarden!$H$4:$H$353)))","v":" "},null,{"$f":"IF(AA142=0,\" \",IF(OR(AA142<1,AA142>350),\" \",LOOKUP(AA142,waarden!$G$4:$G$353,waarden!$H$4:$H$353)))","v":" "},null,{"$f":"IF(AC142=0,\" \",IF(OR(AC142<1,AC142>350),\" \",LOOKUP(AC142,waarden!$G$4:$G$353,waarden!$H$4:$H$353)))","v":" "},null,{"$f":"IF(AE142=0,\" \",IF(OR(AE142<1,AE142>350),\" \",LOOKUP(AE142,waarden!$G$4:$G$353,waarden!$H$4:$H$353)))","v":" "},null,{"$f":"IF(AG142=0,\" \",IF(OR(AG142<1,AG142>350),\" \",LOOKUP(AG142,waarden!$G$4:$G$353,waarden!$H$4:$H$353)))","v":" "},null,{"$f":"IF(AI142=0,\" \",IF(OR(AI142<1,AI142>350),\" \",LOOKUP(AI142,waarden!$G$4:$G$353,waarden!$H$4:$H$353)))","v":" "},null,{"$f":"IF(AK142=0,\" \",IF(OR(AK142<1,AK142>350),\" \",LOOKUP(AK142,waarden!$G$4:$G$353,waarden!$H$4:$H$353)))","v":" "},null,{"$f":"IF(AM142=0,\" \",IF(OR(AM142<1,AM142>350),\" \",LOOKUP(AM142,waarden!$G$4:$G$353,waarden!$H$4:$H$353)))","v":" "},null,{"$f":"IF(AO142=0,\" \",IF(OR(AO142<1,AO142>350),\" \",LOOKUP(AO142,waarden!$G$4:$G$353,waarden!$H$4:$H$353)))","v":" "},null,{"$f":"IF(AQ142=0,\" \",IF(OR(AQ142<1,AQ142>350),\" \",LOOKUP(AQ142,waarden!$G$4:$G$353,waarden!$H$4:$H$353)))","v":" "},null,{"$f":"IF(AS142=0,\" \",IF(OR(AS142<1,AS142>350),\" \",LOOKUP(AS142,waarden!$G$4:$G$353,waarden!$H$4:$H$353)))","v":" "},null,{"$f":"IF(AU142=0,\" \",IF(OR(AU142<1,AU142>350),\" \",LOOKUP(AU142,waarden!$G$4:$G$353,waarden!$H$4:$H$353)))","v":" "},null,{"$f":"IF(AW142=0,\" \",IF(OR(AW142<1,AW142>350),\" \",LOOKUP(AW142,waarden!$G$4:$G$353,waarden!$H$4:$H$353)))","v":" "},null,{"$f":"IF(AY142=0,\" \",IF(OR(AY142<1,AY142>350),\" \",LOOKUP(AY142,waarden!$G$4:$G$353,waarden!$H$4:$H$353)))","v":" "},null,{"$f":"IF(BA142=0,\" \",IF(OR(BA142<1,BA142>350),\" \",LOOKUP(BA142,waarden!$G$4:$G$353,waarden!$H$4:$H$353)))","v":" "},null,{"$f":"IF(BC142=0,\" \",IF(OR(BC142<1,BC142>350),\" \",LOOKUP(BC142,waarden!$G$4:$G$353,waarden!$H$4:$H$353)))","v":" "},null,{"$f":"IF(BE142=0,\" \",IF(OR(BE142<1,BE142>350),\" \",LOOKUP(BE142,waarden!$G$4:$G$353,waarden!$H$4:$H$353)))","v":" "},null,{"$f":"IF(BG142=0,\" \",IF(OR(BG142<1,BG142>350),\" \",LOOKUP(BG142,waarden!$G$4:$G$353,waarden!$H$4:$H$353)))","v":" "},null,{"$f":"IF(BI142=0,\" \",IF(OR(BI142<1,BI142>350),\" \",LOOKUP(BI142,waarden!$G$4:$G$353,waarden!$H$4:$H$353)))","v":" "},null,{"$f":"IF(BK142=0,\" \",IF(OR(BK142<1,BK142>350),\" \",LOOKUP(BK142,waarden!$G$4:$G$353,waarden!$H$4:$H$353)))","v":" "},null,{"$f":"IF(BM142=0,\" \",IF(OR(BM142<1,BM142>350),\" \",LOOKUP(BM142,waarden!$G$4:$G$353,waarden!$H$4:$H$353)))","v":" "},0,{"$f":"SUM(F142,H142,J142,L142,N142,P142,R142,T142,V142,X142,Z142,AB142,AD142,AF142,AH142,AJ142,AL142,AN142,AP142,AR142,AT142,AV142,AX142,AZ142,BB142,BD142,BF142,BH142,BJ142,BL142,BN142)","v":0}]
[null,null,null,"Chauffeur alleen",null,{"$f":"IF(E143=0,\" \",IF(OR(E143<1,E143>350),\" \",LOOKUP(E143,waarden!$D$4:$D$353,waarden!$E$4:$E$353)))","v":" "},null,{"$f":"IF(G143=0,\" \",IF(OR(G143<1,G143>350),\" \",LOOKUP(G143,waarden!$D$4:$D$353,waarden!$E$4:$E$353)))","v":" "},null,{"$f":"IF(I143=0,\" \",IF(OR(I143<1,I143>350),\" \",LOOKUP(I143,waarden!$D$4:$D$353,waarden!$E$4:$E$353)))","v":" "},null,{"$f":"IF(K143=0,\" \",IF(OR(K143<1,K143>350),\" \",LOOKUP(K143,waarden!$D$4:$D$353,waarden!$E$4:$E$353)))","v":" "},null,{"$f":"IF(M143=0,\" \",IF(OR(M143<1,M143>350),\" \",LOOKUP(M143,waarden!$D$4:$D$353,waarden!$E$4:$E$353)))","v":" "},null,{"$f":"IF(O143=0,\" \",IF(OR(O143<1,O143>350),\" \",LOOKUP(O143,waarden!$D$4:$D$353,waarden!$E$4:$E$353)))","v":" "},null,{"$f":"IF(Q143=0,\" \",IF(OR(Q143<1,Q143>350),\" \",LOOKUP(Q143,waarden!$D$4:$D$353,waarden!$E$4:$E$353)))","v":" "},null,{"$f":"IF(S143=0,\" \",IF(OR(S143<1,S143>350),\" \",LOOKUP(S143,waarden!$D$4:$D$353,waarden!$E$4:$E$353)))","v":" "},null,{"$f":"IF(U143=0,\" \",IF(OR(U143<1,U143>350),\" \",LOOKUP(U143,waarden!$D$4:$D$353,waarden!$E$4:$E$353)))","v":" "},null,{"$f":"IF(W143=0,\" \",IF(OR(W143<1,W143>350),\" \",LOOKUP(W143,waarden!$D$4:$D$353,waarden!$E$4:$E$353)))","v":" "},null,{"$f":"IF(Y143=0,\" \",IF(OR(Y143<1,Y143>350),\" \",LOOKUP(Y143,waarden!$D$4:$D$353,waarden!$E$4:$E$353)))","v":" "},null,{"$f":"IF(AA143=0,\" \",IF(OR(AA143<1,AA143>350),\" \",LOOKUP(AA143,waarden!$D$4:$D$353,waarden!$E$4:$E$353)))","v":" "},null,{"$f":"IF(AC143=0,\" \",IF(OR(AC143<1,AC143>350),\" \",LOOKUP(AC143,waarden!$D$4:$D$353,waarden!$E$4:$E$353)))","v":" "},null,{"$f":"IF(AE143=0,\" \",IF(OR(AE143<1,AE143>350),\" \",LOOKUP(AE143,waarden!$D$4:$D$353,waarden!$E$4:$E$353)))","v":" "},null,{"$f":"IF(AG143=0,\" \",IF(OR(AG143<1,AG143>350),\" \",LOOKUP(AG143,waarden!$D$4:$D$353,waarden!$E$4:$E$353)))","v":" "},null,{"$f":"IF(AI143=0,\" \",IF(OR(AI143<1,AI143>350),\" \",LOOKUP(AI143,waarden!$D$4:$D$353,waarden!$E$4:$E$353)))","v":" "},null,{"$f":"IF(AK143=0,\" \",IF(OR(AK143<1,AK143>350),\" \",LOOKUP(AK143,waarden!$D$4:$D$353,waarden!$E$4:$E$353)))","v":" "},null,{"$f":"IF(AM143=0,\" \",IF(OR(AM143<1,AM143>350),\" \",LOOKUP(AM143,waarden!$D$4:$D$353,waarden!$E$4:$E$353)))","v":" "},null,{"$f":"IF(AO143=0,\" \",IF(OR(AO143<1,AO143>350),\" \",LOOKUP(AO143,waarden!$D$4:$D$353,waarden!$E$4:$E$353)))","v":" "},null,{"$f":"IF(AQ143=0,\" \",IF(OR(AQ143<1,AQ143>350),\" \",LOOKUP(AQ143,waarden!$D$4:$D$353,waarden!$E$4:$E$353)))","v":" "},null,{"$f":"IF(AS143=0,\" \",IF(OR(AS143<1,AS143>350),\" \",LOOKUP(AS143,waarden!$D$4:$D$353,waarden!$E$4:$E$353)))","v":" "},null,{"$f":"IF(AU143=0,\" \",IF(OR(AU143<1,AU143>350),\" \",LOOKUP(AU143,waarden!$D$4:$D$353,waarden!$E$4:$E$353)))","v":" "},null,{"$f":"IF(AW143=0,\" \",IF(OR(AW143<1,AW143>350),\" \",LOOKUP(AW143,waarden!$D$4:$D$353,waarden!$E$4:$E$353)))","v":" "},null,{"$f":"IF(AY143=0,\" \",IF(OR(AY143<1,AY143>350),\" \",LOOKUP(AY143,waarden!$D$4:$D$353,waarden!$E$4:$E$353)))","v":" "},null,{"$f":"IF(BA143=0,\" \",IF(OR(BA143<1,BA143>350),\" \",LOOKUP(BA143,waarden!$D$4:$D$353,waarden!$E$4:$E$353)))","v":" "},null,{"$f":"IF(BC143=0,\" \",IF(OR(BC143<1,BC143>350),\" \",LOOKUP(BC143,waarden!$D$4:$D$353,waarden!$E$4:$E$353)))","v":" "},null,{"$f":"IF(BE143=0,\" \",IF(OR(BE143<1,BE143>350),\" \",LOOKUP(BE143,waarden!$D$4:$D$353,waarden!$E$4:$E$353)))","v":" "},null,{"$f":"IF(BG143=0,\" \",IF(OR(BG143<1,BG143>350),\" \",LOOKUP(BG143,waarden!$D$4:$D$353,waarden!$E$4:$E$353)))","v":" "},null,{"$f":"IF(BI143=0,\" \",IF(OR(BI143<1,BI143>350),\" \",LOOKUP(BI143,waarden!$D$4:$D$353,waarden!$E$4:$E$353)))","v":" "},null,{"$f":"IF(BK143=0,\" \",IF(OR(BK143<1,BK143>350),\" \",LOOKUP(BK143,waarden!$D$4:$D$353,waarden!$E$4:$E$353)))","v":" "},null,{"$f":"IF(BM143=0,\" \",IF(OR(BM143<1,BM143>350),\" \",LOOKUP(BM143,waarden!$D$4:$D$353,waarden!$E$4:$E$353)))","v":" "},0,0]
[null,null,null,"Passagier",null,{"$f":"IF(E144=0,\" \",IF(OR(E144<1,E144>350),\" \",LOOKUP(E144,waarden!$A$4:$A$353,waarden!$B$4:$B$353)))","v":" "},null,{"$f":"IF(G144=0,\" \",IF(OR(G144<1,G144>350),\" \",LOOKUP(G144,waarden!$A$4:$A$353,waarden!$B$4:$B$353)))","v":" "},null,{"$f":"IF(I144=0,\" \",IF(OR(I144<1,I144>350),\" \",LOOKUP(I144,waarden!$A$4:$A$353,waarden!$B$4:$B$353)))","v":" "},null,{"$f":"IF(K144=0,\" \",IF(OR(K144<1,K144>350),\" \",LOOKUP(K144,waarden!$A$4:$A$353,waarden!$B$4:$B$353)))","v":" "},null,{"$f":"IF(M144=0,\" \",IF(OR(M144<1,M144>350),\" \",LOOKUP(M144,waarden!$A$4:$A$353,waarden!$B$4:$B$353)))","v":" "},null,{"$f":"IF(O144=0,\" \",IF(OR(O144<1,O144>350),\" \",LOOKUP(O144,waarden!$A$4:$A$353,waarden!$B$4:$B$353)))","v":" "},null,{"$f":"IF(Q144=0,\" \",IF(OR(Q144<1,Q144>350),\" \",LOOKUP(Q144,waarden!$A$4:$A$353,waarden!$B$4:$B$353)))","v":" "},null,{"$f":"IF(S144=0,\" \",IF(OR(S144<1,S144>350),\" \",LOOKUP(S144,waarden!$A$4:$A$353,waarden!$B$4:$B$353)))","v":" "},null,{"$f":"IF(U144=0,\" \",IF(OR(U144<1,U144>350),\" \",LOOKUP(U144,waarden!$A$4:$A$353,waarden!$B$4:$B$353)))","v":" "},null,{"$f":"IF(W144=0,\" \",IF(OR(W144<1,W144>350),\" \",LOOKUP(W144,waarden!$A$4:$A$353,waarden!$B$4:$B$353)))","v":" "},null,{"$f":"IF(Y144=0,\" \",IF(OR(Y144<1,Y144>350),\" \",LOOKUP(Y144,waarden!$A$4:$A$353,waarden!$B$4:$B$353)))","v":" "},null,{"$f":"IF(AA144=0,\" \",IF(OR(AA144<1,AA144>350),\" \",LOOKUP(AA144,waarden!$A$4:$A$353,waarden!$B$4:$B$353)))","v":" "},null,{"$f":"IF(AC144=0,\" \",IF(OR(AC144<1,AC144>350),\" \",LOOKUP(AC144,waarden!$A$4:$A$353,waarden!$B$4:$B$353)))","v":" "},null,{"$f":"IF(AE144=0,\" \",IF(OR(AE144<1,AE144>350),\" \",LOOKUP(AE144,waarden!$A$4:$A$353,waarden!$B$4:$B$353)))","v":" "},null,{"$f":"IF(AG144=0,\" \",IF(OR(AG144<1,AG144>350),\" \",LOOKUP(AG144,waarden!$A$4:$A$353,waarden!$B$4:$B$353)))","v":" "},null,{"$f":"IF(AI144=0,\" \",IF(OR(AI144<1,AI144>350),\" \",LOOKUP(AI144,waarden!$A$4:$A$353,waarden!$B$4:$B$353)))","v":" "},null,{"$f":"IF(AK144=0,\" \",IF(OR(AK144<1,AK144>350),\" \",LOOKUP(AK144,waarden!$A$4:$A$353,waarden!$B$4:$B$353)))","v":" "},null,{"$f":"IF(AM144=0,\" \",IF(OR(AM144<1,AM144>350),\" \",LOOKUP(AM144,waarden!$A$4:$A$353,waarden!$B$4:$B$353)))","v":" "},null,{"$f":"IF(AO144=0,\" \",IF(OR(AO144<1,AO144>350),\" \",LOOKUP(AO144,waarden!$A$4:$A$353,waarden!$B$4:$B$353)))","v":" "},null,{"$f":"IF(AQ144=0,\" \",IF(OR(AQ144<1,AQ144>350),\" \",LOOKUP(AQ144,waarden!$A$4:$A$353,waarden!$B$4:$B$353)))","v":" "},null,{"$f":"IF(AS144=0,\" \",IF(OR(AS144<1,AS144>350),\" \",LOOKUP(AS144,waarden!$A$4:$A$353,waarden!$B$4:$B$353)))","v":" "},null,{"$f":"IF(AU144=0,\" \",IF(OR(AU144<1,AU144>350),\" \",LOOKUP(AU144,waarden!$A$4:$A$353,waarden!$B$4:$B$353)))","v":" "},null,{"$f":"IF(AW144=0,\" \",IF(OR(AW144<1,AW144>350),\" \",LOOKUP(AW144,waarden!$A$4:$A$353,waarden!$B$4:$B$353)))","v":" "},null,{"$f":"IF(AY144=0,\" \",IF(OR(AY144<1,AY144>350),\" \",LOOKUP(AY144,waarden!$A$4:$A$353,waarden!$B$4:$B$353)))","v":" "},null,{"$f":"IF(BA144=0,\" \",IF(OR(BA144<1,BA144>350),\" \",LOOKUP(BA144,waarden!$A$4:$A$353,waarden!$B$4:$B$353)))","v":" "},null,{"$f":"IF(BC144=0,\" \",IF(OR(BC144<1,BC144>350),\" \",LOOKUP(BC144,waarden!$A$4:$A$353,waarden!$B$4:$B$353)))","v":" "},null,{"$f":"IF(BE144=0,\" \",IF(OR(BE144<1,BE144>350),\" \",LOOKUP(BE144,waarden!$A$4:$A$353,waarden!$B$4:$B$353)))","v":" "},null,{"$f":"IF(BG144=0,\" \",IF(OR(BG144<1,BG144>350),\" \",LOOKUP(BG144,waarden!$A$4:$A$353,waarden!$B$4:$B$353)))","v":" "},null,{"$f":"IF(BI144=0,\" \",IF(OR(BI144<1,BI144>350),\" \",LOOKUP(BI144,waarden!$A$4:$A$353,waarden!$B$4:$B$353)))","v":" "},null,{"$f":"IF(BK144=0,\" \",IF(OR(BK144<1,BK144>350),\" \",LOOKUP(BK144,waarden!$A$4:$A$353,waarden!$B$4:$B$353)))","v":" "},null,{"$f":"IF(BM144=0,\" \",IF(OR(BM144<1,BM144>350),\" \",LOOKUP(BM144,waarden!$A$4:$A$353,waarden!$B$4:$B$353)))","v":" "},0,0]
[null,null,null,"Chauffeur personeel",null,{"$f":"IF(E145=0,\" \",IF(OR(E145<1,E145>350),\" \",LOOKUP(E145,waarden!$G$4:$G$353,waarden!$H$4:$H$353)))","v":" "},null,{"$f":"IF(G145=0,\" \",IF(OR(G145<1,G145>350),\" \",LOOKUP(G145,waarden!$G$4:$G$353,waarden!$H$4:$H$353)))","v":" "},null,{"$f":"IF(I145=0,\" \",IF(OR(I145<1,I145>350),\" \",LOOKUP(I145,waarden!$G$4:$G$353,waarden!$H$4:$H$353)))","v":" "},null,{"$f":"IF(K145=0,\" \",IF(OR(K145<1,K145>350),\" \",LOOKUP(K145,waarden!$G$4:$G$353,waarden!$H$4:$H$353)))","v":" "},null,{"$f":"IF(M145=0,\" \",IF(OR(M145<1,M145>350),\" \",LOOKUP(M145,waarden!$G$4:$G$353,waarden!$H$4:$H$353)))","v":" "},null,{"$f":"IF(O145=0,\" \",IF(OR(O145<1,O145>350),\" \",LOOKUP(O145,waarden!$G$4:$G$353,waarden!$H$4:$H$353)))","v":" "},null,{"$f":"IF(Q145=0,\" \",IF(OR(Q145<1,Q145>350),\" \",LOOKUP(Q145,waarden!$G$4:$G$353,waarden!$H$4:$H$353)))","v":" "},null,{"$f":"IF(S145=0,\" \",IF(OR(S145<1,S145>350),\" \",LOOKUP(S145,waarden!$G$4:$G$353,waarden!$H$4:$H$353)))","v":" "},null,{"$f":"IF(U145=0,\" \",IF(OR(U145<1,U145>350),\" \",LOOKUP(U145,waarden!$G$4:$G$353,waarden!$H$4:$H$353)))","v":" "},null,{"$f":"IF(W145=0,\" \",IF(OR(W145<1,W145>350),\" \",LOOKUP(W145,waarden!$G$4:$G$353,waarden!$H$4:$H$353)))","v":" "},null,{"$f":"IF(Y145=0,\" \",IF(OR(Y145<1,Y145>350),\" \",LOOKUP(Y145,waarden!$G$4:$G$353,waarden!$H$4:$H$353)))","v":" "},null,{"$f":"IF(AA145=0,\" \",IF(OR(AA145<1,AA145>350),\" \",LOOKUP(AA145,waarden!$G$4:$G$353,waarden!$H$4:$H$353)))","v":" "},null,{"$f":"IF(AC145=0,\" \",IF(OR(AC145<1,AC145>350),\" \",LOOKUP(AC145,waarden!$G$4:$G$353,waarden!$H$4:$H$353)))","v":" "},null,{"$f":"IF(AE145=0,\" \",IF(OR(AE145<1,AE145>350),\" \",LOOKUP(AE145,waarden!$G$4:$G$353,waarden!$H$4:$H$353)))","v":" "},null,{"$f":"IF(AG145=0,\" \",IF(OR(AG145<1,AG145>350),\" \",LOOKUP(AG145,waarden!$G$4:$G$353,waarden!$H$4:$H$353)))","v":" "},null,{"$f":"IF(AI145=0,\" \",IF(OR(AI145<1,AI145>350),\" \",LOOKUP(AI145,waarden!$G$4:$G$353,waarden!$H$4:$H$353)))","v":" "},null,{"$f":"IF(AK145=0,\" \",IF(OR(AK145<1,AK145>350),\" \",LOOKUP(AK145,waarden!$G$4:$G$353,waarden!$H$4:$H$353)))","v":" "},null,{"$f":"IF(AM145=0,\" \",IF(OR(AM145<1,AM145>350),\" \",LOOKUP(AM145,waarden!$G$4:$G$353,waarden!$H$4:$H$353)))","v":" "},null,{"$f":"IF(AO145=0,\" \",IF(OR(AO145<1,AO145>350),\" \",LOOKUP(AO145,waarden!$G$4:$G$353,waarden!$H$4:$H$353)))","v":" "},null,{"$f":"IF(AQ145=0,\" \",IF(OR(AQ145<1,AQ145>350),\" \",LOOKUP(AQ145,waarden!$G$4:$G$353,waarden!$H$4:$H$353)))","v":" "},null,{"$f":"IF(AS145=0,\" \",IF(OR(AS145<1,AS145>350),\" \",LOOKUP(AS145,waarden!$G$4:$G$353,waarden!$H$4:$H$353)))","v":" "},null,{"$f":"IF(AU145=0,\" \",IF(OR(AU145<1,AU145>350),\" \",LOOKUP(AU145,waarden!$G$4:$G$353,waarden!$H$4:$H$353)))","v":" "},null,{"$f":"IF(AW145=0,\" \",IF(OR(AW145<1,AW145>350),\" \",LOOKUP(AW145,waarden!$G$4:$G$353,waarden!$H$4:$H$353)))","v":" "},null,{"$f":"IF(AY145=0,\" \",IF(OR(AY145<1,AY145>350),\" \",LOOKUP(AY145,waarden!$G$4:$G$353,waarden!$H$4:$H$353)))","v":" "},null,{"$f":"IF(BA145=0,\" \",IF(OR(BA145<1,BA145>350),\" \",LOOKUP(BA145,waarden!$G$4:$G$353,waarden!$H$4:$H$353)))","v":" "},null,{"$f":"IF(BC145=0,\" \",IF(OR(BC145<1,BC145>350),\" \",LOOKUP(BC145,waarden!$G$4:$G$353,waarden!$H$4:$H$353)))","v":" "},null,{"$f":"IF(BE145=0,\" \",IF(OR(BE145<1,BE145>350),\" \",LOOKUP(BE145,waarden!$G$4:$G$353,waarden!$H$4:$H$353)))","v":" "},null,{"$f":"IF(BG145=0,\" \",IF(OR(BG145<1,BG145>350),\" \",LOOKUP(BG145,waarden!$G$4:$G$353,waarden!$H$4:$H$353)))","v":" "},null,{"$f":"IF(BI145=0,\" \",IF(OR(BI145<1,BI145>350),\" \",LOOKUP(BI145,waarden!$G$4:$G$353,waarden!$H$4:$H$353)))","v":" "},null,{"$f":"IF(BK145=0,\" \",IF(OR(BK145<1,BK145>350),\" \",LOOKUP(BK145,waarden!$G$4:$G$353,waarden!$H$4:$H$353)))","v":" "},null,{"$f":"IF(BM145=0,\" \",IF(OR(BM145<1,BM145>350),\" \",LOOKUP(BM145,waarden!$G$4:$G$353,waarden!$H$4:$H$353)))","v":" "},0,{"$f":"SUM(F145,H145,J145,L145,N145,P145,R145,T145,V145,X145,Z145,AB145,AD145,AF145,AH145,AJ145,AL145,AN145,AP145,AR145,AT145,AV145,AX145,AZ145,BB145,BD145,BF145,BH145,BJ145,BL145,BN145)","v":0}]
[null,null,null,"Chauffeur alleen",null,{"$f":"IF(E146=0,\" \",IF(OR(E146<1,E146>350),\" \",LOOKUP(E146,waarden!$D$4:$D$353,waarden!$E$4:$E$353)))","v":" "},null,{"$f":"IF(G146=0,\" \",IF(OR(G146<1,G146>350),\" \",LOOKUP(G146,waarden!$D$4:$D$353,waarden!$E$4:$E$353)))","v":" "},null,{"$f":"IF(I146=0,\" \",IF(OR(I146<1,I146>350),\" \",LOOKUP(I146,waarden!$D$4:$D$353,waarden!$E$4:$E$353)))","v":" "},null,{"$f":"IF(K146=0,\" \",IF(OR(K146<1,K146>350),\" \",LOOKUP(K146,waarden!$D$4:$D$353,waarden!$E$4:$E$353)))","v":" "},null,{"$f":"IF(M146=0,\" \",IF(OR(M146<1,M146>350),\" \",LOOKUP(M146,waarden!$D$4:$D$353,waarden!$E$4:$E$353)))","v":" "},null,{"$f":"IF(O146=0,\" \",IF(OR(O146<1,O146>350),\" \",LOOKUP(O146,waarden!$D$4:$D$353,waarden!$E$4:$E$353)))","v":" "},null,{"$f":"IF(Q146=0,\" \",IF(OR(Q146<1,Q146>350),\" \",LOOKUP(Q146,waarden!$D$4:$D$353,waarden!$E$4:$E$353)))","v":" "},null,{"$f":"IF(S146=0,\" \",IF(OR(S146<1,S146>350),\" \",LOOKUP(S146,waarden!$D$4:$D$353,waarden!$E$4:$E$353)))","v":" "},null,{"$f":"IF(U146=0,\" \",IF(OR(U146<1,U146>350),\" \",LOOKUP(U146,waarden!$D$4:$D$353,waarden!$E$4:$E$353)))","v":" "},null,{"$f":"IF(W146=0,\" \",IF(OR(W146<1,W146>350),\" \",LOOKUP(W146,waarden!$D$4:$D$353,waarden!$E$4:$E$353)))","v":" "},null,{"$f":"IF(Y146=0,\" \",IF(OR(Y146<1,Y146>350),\" \",LOOKUP(Y146,waarden!$D$4:$D$353,waarden!$E$4:$E$353)))","v":" "},null,{"$f":"IF(AA146=0,\" \",IF(OR(AA146<1,AA146>350),\" \",LOOKUP(AA146,waarden!$D$4:$D$353,waarden!$E$4:$E$353)))","v":" "},null,{"$f":"IF(AC146=0,\" \",IF(OR(AC146<1,AC146>350),\" \",LOOKUP(AC146,waarden!$D$4:$D$353,waarden!$E$4:$E$353)))","v":" "},null,{"$f":"IF(AE146=0,\" \",IF(OR(AE146<1,AE146>350),\" \",LOOKUP(AE146,waarden!$D$4:$D$353,waarden!$E$4:$E$353)))","v":" "},null,{"$f":"IF(AG146=0,\" \",IF(OR(AG146<1,AG146>350),\" \",LOOKUP(AG146,waarden!$D$4:$D$353,waarden!$E$4:$E$353)))","v":" "},null,{"$f":"IF(AI146=0,\" \",IF(OR(AI146<1,AI146>350),\" \",LOOKUP(AI146,waarden!$D$4:$D$353,waarden!$E$4:$E$353)))","v":" "},null,{"$f":"IF(AK146=0,\" \",IF(OR(AK146<1,AK146>350),\" \",LOOKUP(AK146,waarden!$D$4:$D$353,waarden!$E$4:$E$353)))","v":" "},null,{"$f":"IF(AM146=0,\" \",IF(OR(AM146<1,AM146>350),\" \",LOOKUP(AM146,waarden!$D$4:$D$353,waarden!$E$4:$E$353)))","v":" "},null,{"$f":"IF(AO146=0,\" \",IF(OR(AO146<1,AO146>350),\" \",LOOKUP(AO146,waarden!$D$4:$D$353,waarden!$E$4:$E$353)))","v":" "},null,{"$f":"IF(AQ146=0,\" \",IF(OR(AQ146<1,AQ146>350),\" \",LOOKUP(AQ146,waarden!$D$4:$D$353,waarden!$E$4:$E$353)))","v":" "},null,{"$f":"IF(AS146=0,\" \",IF(OR(AS146<1,AS146>350),\" \",LOOKUP(AS146,waarden!$D$4:$D$353,waarden!$E$4:$E$353)))","v":" "},null,{"$f":"IF(AU146=0,\" \",IF(OR(AU146<1,AU146>350),\" \",LOOKUP(AU146,waarden!$D$4:$D$353,waarden!$E$4:$E$353)))","v":" "},null,{"$f":"IF(AW146=0,\" \",IF(OR(AW146<1,AW146>350),\" \",LOOKUP(AW146,waarden!$D$4:$D$353,waarden!$E$4:$E$353)))","v":" "},null,{"$f":"IF(AY146=0,\" \",IF(OR(AY146<1,AY146>350),\" \",LOOKUP(AY146,waarden!$D$4:$D$353,waarden!$E$4:$E$353)))","v":" "},null,{"$f":"IF(BA146=0,\" \",IF(OR(BA146<1,BA146>350),\" \",LOOKUP(BA146,waarden!$D$4:$D$353,waarden!$E$4:$E$353)))","v":" "},null,{"$f":"IF(BC146=0,\" \",IF(OR(BC146<1,BC146>350),\" \",LOOKUP(BC146,waarden!$D$4:$D$353,waarden!$E$4:$E$353)))","v":" "},null,{"$f":"IF(BE146=0,\" \",IF(OR(BE146<1,BE146>350),\" \",LOOKUP(BE146,waarden!$D$4:$D$353,waarden!$E$4:$E$353)))","v":" "},null,{"$f":"IF(BG146=0,\" \",IF(OR(BG146<1,BG146>350),\" \",LOOKUP(BG146,waarden!$D$4:$D$353,waarden!$E$4:$E$353)))","v":" "},null,{"$f":"IF(BI146=0,\" \",IF(OR(BI146<1,BI146>350),\" \",LOOKUP(BI146,waarden!$D$4:$D$353,waarden!$E$4:$E$353)))","v":" "},null,{"$f":"IF(BK146=0,\" \",IF(OR(BK146<1,BK146>350),\" \",LOOKUP(BK146,waarden!$D$4:$D$353,waarden!$E$4:$E$353)))","v":" "},null,{"$f":"IF(BM146=0,\" \",IF(OR(BM146<1,BM146>350),\" \",LOOKUP(BM146,waarden!$D$4:$D$353,waarden!$E$4:$E$353)))","v":" "},0,0]
[null,null,null,null,null,null,null,null,null,null,null,null,null,null,null,null,null,null,null,null,null,null,null,null,null,null,null,null,null,null,null,null,null,null,null,null,null,null,null,null,null,null,null,null,null,null,null,null,null,null,null,null,null,null,null,null,null,null,null,null,null,null,null,null,"Totaal:",null,{"$f":"SUM(BO6:BO146)","v":0},{"$f":"SUM(BP6:BP146)","v":0}]

{"sheet":"waarden","index":1,"n_rows":353,"n_cols":11,"rows_kept":353,"cut":false,"hidden":false,"merged":[]}
[]
[]
["Aantal KM.","Passagier",null,"Aantal KM.","Chauffeur alleen",null,"Aantal KM.","Chauffeur personeel"]
[1,6.1899999999999997E-2,null,1,0.1,null,1,0.15790000000000001,null,null,"januari"]
[2,0.12379999999999999,null,2,0.2,null,2,0.31580000000000003,null,null,"februari"]
[3,0.18569999999999998,null,3,0.3,null,3,0.47370000000000001,null,null,"maart"]
[4,0.24759999999999999,null,4,0.4,null,4,0.63160000000000005,null,null,"april"]
[5,0.3095,null,5,0.5,null,5,0.78949999999999998,null,null,"mei"]
[6,0.37139999999999995,null,6,0.6,null,6,0.94740000000000002,null,null,"juni"]
[7,0.43329999999999996,null,7,0.7,null,7,1.1052999999999999,null,null,"juli"]
[8,0.49519999999999997,null,8,0.8,null,8,1.2632000000000001,null,null,"augustus"]
[9,0.55709999999999993,null,9,0.9,null,9,1.4211,null,null,"september"]
[10,0.61899999999999999,null,10,1,null,10,1.579,null,null,"oktober"]
[11,0.68089999999999995,null,11,1.1000000000000001,null,11,1.7369000000000001,null,null,"november"]
[12,0.7427999999999999,null,12,1.2,null,12,1.8948,null,null,"december"]
[13,0.80469999999999997,null,13,1.3,null,13,2.0527000000000002]
[14,0.86659999999999993,null,14,1.4,null,14,2.2105999999999999]
[15,0.92849999999999999,null,15,1.5,null,15,2.3685]
[16,0.99039999999999995,null,16,1.6,null,16,2.5264000000000002]
[17,1.0523,null,17,1.7,null,17,2.6842999999999999]
[18,1.1141999999999999,null,18,1.8,null,18,2.8422000000000001]
[19,1.1760999999999999,null,19,1.9,null,19,3.0001000000000002]
[20,1.238,null,20,2,null,20,3.1579999999999999]
[21,1.2998999999999998,null,21,2.1,null,21,3.3159000000000001]
[22,1.3617999999999999,null,22,2.2000000000000002,null,22,3.4738000000000002]
[23,1.4237,null,23,2.2999999999999998,null,23,3.6316999999999999]
[24,1.4855999999999998,null,24,2.4,null,24,3.7896000000000001]
[25,1.5474999999999999,null,25,2.5,null,25,3.9474999999999998]
[26,1.6093999999999999,null,26,2.6,null,26,4.1054000000000004]
[27,1.6713,null,27,2.7,null,27,4.2633000000000001]
[28,1.7331999999999999,null,28,2.8,null,28,4.4211999999999998]
[29,1.7950999999999999,null,29,2.9,null,29,4.5791000000000004]
[30,1.857,null,30,3,null,30,4.7370000000000001]
[31,1.9188999999999998,null,31,3.1,null,31,4.8948999999999998]
[32,1.9807999999999999,null,32,3.2,null,32,5.0528000000000004]
[33,2.0427,null,33,3.3,null,33,5.2107000000000001]
[34,2.1046,null,34,3.4,null,34,5.3685999999999998]
[35,2.1665000000000001,null,35,3.5,null,35,5.5265000000000004]
[36,2.2283999999999997,null,36,3.6,null,36,5.6844000000000001]
[37,2.2902999999999998,null,37,3.7,null,37,5.8422999999999998]
[38,2.3521999999999998,null,38,3.8,null,38,6.0002000000000004]
[39,2.4140999999999999,null,39,3.9,null,39,6.1581000000000001]
[40,2.476,null,40,4,null,40,6.3159999999999998]
[41,2.5379,null,41,4.0999999999999996,null,41,6.4739000000000004]
[42,2.5997999999999997,null,42,4.2,null,42,6.6318000000000001]
[43,2.6616999999999997,null,43,4.3,null,43,6.7896999999999998]
[44,2.7235999999999998,null,44,4.4000000000000004,null,44,6.9476000000000004]
[45,2.7854999999999999,null,45,4.5,null,45,7.1055000000000001]
[46,2.8473999999999999,null,46,4.5999999999999996,null,46,7.2633999999999999]
[47,2.9093,null,47,4.7,null,47,7.4212999999999996]
[48,2.9711999999999996,null,48,4.8,null,48,7.5792000000000002]
[49,3.0330999999999997,null,49,4.9000000000000004,null,49,7.7370999999999999]
[50,3.0950000000000002,null,50,5,null,50,7.8949999999999996]
[51,3.1568999999999998,null,51,5.0999999999999996,null,51,8.0528999999999993]
[52,3.2187999999999999,null,52,5.2,null,52,8.2108000000000008]
[53,3.2806999999999999,null,53,5.3,null,53,8.3687000000000005]
[54,3.3426,null,54,5.4,null,54,8.5266000000000002]
[55,3.4044999999999996,null,55,5.5,null,55,8.6844999999999999]
[56,3.4663999999999997,null,56,5.6,null,56,8.8423999999999996]
[57,3.5282999999999998,null,57,5.7,null,57,9.0030000000000001]
[58,3.5901999999999998,null,58,5.8,null,58,9.1582000000000008]
[59,3.6520999999999999,null,59,5.9,null,59,9.3161000000000005]
[60,4.056,null,60,6.36,null,60,9.4740000000000002]
[61,4.1235999999999997,null,61,6.4459999999999997,null,61,9.6318999999999999]
[62,4.1912000000000003,null,62,6.5720000000000001,null,62,9.7897999999999996]
[63,4.2587999999999999,null,63,6.6779999999999999,null,63,9.9476999999999993]
[64,4.3263999999999996,null,64,6.7839999999999998,null,64,10.105600000000001]
[65,4.3940000000000001,null,65,6.89,null,65,10.263500000000001]
[66,4.4615999999999998,null,66,6.9959999999999996,null,66,10.4214]
[67,4.5292000000000003,null,67,7.1019999999999994,null,67,10.5793]
[68,4.5968,null,68,7.2080000000000002,null,68,10.7372]
[69,4.6643999999999997,null,69,7.3140000000000001,null,69,10.895099999999999]
[70,4.7320000000000002,null,70,7.42,null,70,11.053000000000001]
[71,4.7995999999999999,null,71,7.5259999999999998,null,71,11.210900000000001]
[72,4.8672000000000004,null,72,7.6319999999999997,null,72,11.3688]
[73,4.9348000000000001,null,73,7.7379999999999995,null,73,11.5267]
[74,5.0023999999999997,null,74,7.8439999999999994,null,74,11.6846]
[75,5.07,null,75,7.95,null,75,11.842499999999999]
[76,5.1375999999999999,null,76,8.0559999999999992,null,76,12.000400000000001]
[77,5.2051999999999996,null,77,8.161999999999999,null,77,12.158300000000001]
[78,5.46,null,78,8.4629999999999992,null,78,12.3162]
[79,5.53,null,79,8.5715000000000003,null,79,12.4741]
[80,5.6000000000000005,null,80,8.68,null,80,12.632]
[81,5.6700000000000008,null,81,8.7884999999999991,null,81,12.789899999999999]
[82,5.74,null,82,8.8970000000000002,null,82,12.947800000000001]
[83,5.8100000000000005,null,83,9.0054999999999996,null,83,13.105700000000001]
[84,5.8800000000000008,null,84,9.1140000000000008,null,84,13.2636]
[85,5.95,null,85,9.2225000000000001,null,85,13.4215]
[86,6.0200000000000005,null,86,9.3309999999999995,null,86,13.5794]
[87,6.0900000000000007,null,87,9.4395000000000007,null,87,13.737299999999999]
[88,6.16,null,88,9.548,null,88,13.895200000000001]
[89,6.23,null,89,9.6564999999999994,null,89,14.053100000000001]
[90,6.3000000000000007,null,90,9.7650000000000006,null,90,14.211]
[91,6.370000000000001,null,91,9.8734999999999999,null,91,14.3689]
[92,6.44,null,92,9.9819999999999993,null,92,14.5268]
[93,6.5100000000000007,null,93,10.0905,null,93,14.684699999999999]
[94,6.580000000000001,null,94,10.199,null,94,14.842599999999999]
[95,6.65,null,95,10.307499999999999,null,95,15.000500000000001]
[96,6.7200000000000006,null,96,10.416,null,96,15.1584]
[97,6.7900000000000009,null,97,10.5245,null,97,15.3163]
[98,6.86,null,98,10.632999999999999,null,98,15.4742]
[99,6.9300000000000006,null,99,10.7415,null,99,15.632099999999999]
[100,7.0000000000000009,null,100,10.85,null,100,15.79]
[101,7.07,null,101,10.958500000000001,null,101,15.947900000000001]
[102,7.1400000000000006,null,102,11.067,null,102,16.105799999999999]
[103,7.2100000000000009,null,103,11.1755,null,103,16.2637]
[104,7.5296000000000003,null,104,11.544,null,104,16.421600000000002]
[105,7.6020000000000003,null,105,11.654999999999999,null,105,16.579499999999999]
[106,7.6744000000000003,null,106,11.766,null,106,16.737400000000001]
[107,7.7468000000000004,null,107,11.877000000000001,null,107,16.895299999999999]
[108,7.8192000000000004,null,108,11.988,null,108,17.0532]
[109,7.8916000000000004,null,109,12.099,null,109,17.211099999999998]
[110,7.9640000000000004,null,110,12.21,null,110,17.369]
[111,8.0364000000000004,null,111,12.321,null,111,17.526900000000001]
[112,8.1088000000000005,null,112,12.432,null,112,17.684799999999999]
[113,8.1812000000000005,null,113,12.543000000000001,null,113,17.842700000000001]
[114,8.2536000000000005,null,114,12.654,null,114,18.000599999999999]
[115,8.3260000000000005,null,115,12.765000000000001,null,115,18.1585]
[116,8.3984000000000005,null,116,12.875999999999999,null,116,18.316400000000002]
[117,8.4708000000000006,null,117,12.987,null,117,18.474299999999999]
[118,8.5432000000000006,null,118,13.098000000000001,null,118,18.632200000000001]
[119,8.6156000000000006,null,119,13.209,null,119,18.790099999999999]
[120,8.6880000000000006,null,120,13.32,null,120,18.948]
[121,8.7604000000000006,null,121,13.431000000000001,null,121,19.105899999999998]
[122,8.8328000000000007,null,122,13.542,null,122,19.2638]
[123,8.9052000000000007,null,123,13.653,null,123,19.421700000000001]
[124,8.9776000000000007,null,124,13.763999999999999,null,124,19.579599999999999]
[125,9.0500000000000007,null,125,13.875,null,125,19.737500000000001]
[126,9.1224000000000007,null,126,13.986000000000001,null,126,19.895399999999999]
[127,9.1948000000000008,null,127,14.097,null,127,20.0533]
[128,9.2672000000000008,null,128,14.208,null,128,20.211200000000002]
[129,9.3396000000000008,null,129,14.319000000000001,null,129,20.3691]
[130,10.048999999999999,null,130,15.106,null,130,20.527000000000001]
[131,10.126299999999999,null,131,15.222199999999999,null,131,20.684899999999999]
[132,10.2036,null,132,15.3384,null,132,20.8428]
[133,10.280899999999999,null,133,15.454599999999999,null,133,21.000699999999998]
[134,10.358199999999998,null,134,15.5708,null,134,21.1586]
[135,10.435499999999999,null,135,15.686999999999999,null,135,21.316500000000001]
[136,10.512799999999999,null,136,15.8032,null,136,21.474399999999999]
[137,10.5901,null,137,15.9194,null,137,21.632300000000001]
[138,10.667399999999999,null,138,16.035599999999999,null,138,21.790199999999999]
[139,10.7447,null,139,16.151799999999998,null,139,21.9481]
[140,10.821999999999999,null,140,16.268000000000001,null,140,22.106000000000002]
[141,10.899299999999998,null,141,16.3842,null,141,22.2639]
[142,10.976599999999999,null,142,16.500399999999999,null,142,22.421800000000001]
[143,11.053899999999999,null,143,16.616599999999998,null,143,22.579699999999999]
[144,11.1312,null,144,16.732800000000001,null,144,22.7376]
[145,11.208499999999999,null,145,16.849,null,145,22.895499999999998]
[146,11.285799999999998,null,146,16.965199999999999,null,146,23.0534]
[147,11.363099999999999,null,147,17.081399999999999,null,147,23.211300000000001]
[148,11.440399999999999,null,148,17.197600000000001,null,148,23.369199999999999]
[149,11.5177,null,149,17.313800000000001,null,149,23.527100000000001]
[150,11.594999999999999,null,150,17.43,null,150,23.684999999999999]
[151,11.6723,null,151,17.546199999999999,null,151,23.8429]
[152,11.749599999999999,null,152,17.662399999999998,null,152,24.000800000000002]
[153,11.826899999999998,null,153,17.778600000000001,null,153,24.1587]
[154,11.904199999999999,null,154,17.8948,null,154,24.316600000000001]
[155,11.981499999999999,null,155,18.010999999999999,null,155,24.474499999999999]
[156,12.7608,null,156,18.860399999999998,null,156,24.632400000000001]
[157,12.842599999999999,null,157,18.981299999999997,null,157,24.790299999999998]
[158,12.9244,null,158,19.1022,null,158,24.9482]
[159,13.0062,null,159,19.223099999999999,null,159,25.106100000000001]
[160,13.087999999999999,null,160,19.343999999999998,null,160,25.263999999999999]
[161,13.1698,null,161,19.4649,null,161,25.421900000000001]
[162,13.2516,null,162,19.585799999999999,null,162,25.579799999999999]
[163,13.333399999999999,null,163,19.706699999999998,null,163,25.7377]
[164,13.4152,null,164,19.8276,null,164,25.895600000000002]
[165,13.497,null,165,19.948499999999999,null,165,26.0535]
[166,13.578799999999999,null,166,20.069399999999998,null,166,26.211400000000001]
[167,13.660599999999999,null,167,20.190300000000001,null,167,26.369299999999999]
[168,13.7424,null,168,20.311199999999999,null,168,26.527200000000001]
[169,13.824199999999999,null,169,20.432099999999998,null,169,26.685099999999998]
[170,13.905999999999999,null,170,20.552999999999997,null,170,26.843]
[171,13.9878,null,171,20.6739,null,171,27.000900000000001]
[172,14.069599999999999,null,172,20.794799999999999,null,172,27.158799999999999]
[173,14.151399999999999,null,173,20.915699999999998,null,173,27.316700000000001]
[174,14.2332,null,174,21.0366,null,174,27.474599999999999]
[175,14.315,null,175,21.157499999999999,null,175,27.6325]
[176,14.396799999999999,null,176,21.278399999999998,null,176,27.790400000000002]
[177,14.4786,null,177,21.3993,null,177,27.9483]
[178,14.5604,null,178,21.520199999999999,null,178,28.106200000000001]
[179,14.642199999999999,null,179,21.641099999999998,null,179,28.264099999999999]
[180,14.724,null,180,21.762,null,180,28.422000000000001]
[181,14.8058,null,181,21.882899999999999,null,181,28.579899999999999]
[182,14.887599999999999,null,182,22.003799999999998,null,182,28.7378]
[183,14.9694,null,183,22.124699999999997,null,183,28.895700000000001]
[184,15.0512,null,184,22.2456,null,184,29.053599999999999]
[185,15.132999999999999,null,185,22.366499999999998,null,185,29.211500000000001]
[186,15.2148,null,186,22.487399999999997,null,186,29.369399999999999]
[187,15.2966,null,187,22.6083,null,187,29.5273]
[188,15.378399999999999,null,188,22.729199999999999,null,188,29.685199999999998]
[189,15.4602,null,189,22.850099999999998,null,189,29.8431]
[190,15.542,null,190,22.971,null,190,30.001000000000001]
[191,15.623799999999999,null,191,23.091899999999999,null,191,30.158899999999999]
[192,15.7056,null,192,23.212799999999998,null,192,30.316800000000001]
[193,15.7874,null,193,23.3337,null,193,30.474699999999999]
[194,15.869199999999999,null,194,23.454599999999999,null,194,30.6326]
[195,15.950999999999999,null,195,23.575499999999998,null,195,30.790500000000002]
[196,16.032799999999998,null,196,23.696399999999997,null,196,30.948399999999999]
[197,16.114599999999999,null,197,23.817299999999999,null,197,31.106300000000001]
[198,16.196400000000001,null,198,23.938199999999998,null,198,31.264199999999999]
[199,16.278199999999998,null,199,24.059099999999997,null,199,31.4221]
[200,16.36,null,200,24.18,null,200,31.58]
[201,16.441800000000001,null,201,24.300899999999999,null,201,31.7379]
[202,16.523599999999998,null,202,24.421799999999998,null,202,31.895800000000001]
[203,16.605399999999999,null,203,24.5427,null,203,32.053699999999999]
[204,16.687200000000001,null,204,24.663599999999999,null,204,32.211599999999997]
[205,16.768999999999998,null,205,24.784499999999998,null,205,32.369500000000002]
[206,16.8508,null,206,24.9054,null,206,32.5274]
[207,16.932600000000001,null,207,25.026299999999999,null,207,32.685299999999998]
[208,17.555199999999999,null,208,25.7088,null,208,32.843200000000003]
[209,17.639600000000002,null,209,25.8324,null,209,33.001100000000001]
[210,17.724,null,210,25.956,null,210,33.158999999999999]
[211,17.808399999999999,null,211,26.079599999999999,null,211,33.316899999999997]
[212,17.892800000000001,null,212,26.203199999999999,null,212,33.474800000000002]
[213,17.9772,null,213,26.326799999999999,null,213,33.6327]
[214,18.061600000000002,null,214,26.450400000000002,null,214,33.790599999999998]
[215,18.146000000000001,null,215,26.574000000000002,null,215,33.948500000000003]
[216,18.230399999999999,null,216,26.697600000000001,null,216,34.106400000000001]
[217,18.314800000000002,null,217,26.821200000000001,null,217,34.264299999999999]
[218,18.3992,null,218,26.944800000000001,null,218,34.422199999999997]
[219,18.483599999999999,null,219,27.0684,null,219,34.580100000000002]
[220,18.568000000000001,null,220,27.192,null,220,34.738]
[221,18.6524,null,221,27.3156,null,221,34.895899999999997]
[222,18.736800000000002,null,222,27.4392,null,222,35.053800000000003]
[223,18.821200000000001,null,223,27.562799999999999,null,223,35.2117]
[224,18.9056,null,224,27.686399999999999,null,224,35.369599999999998]
[225,18.990000000000002,null,225,27.81,null,225,35.527500000000003]
[226,19.074400000000001,null,226,27.933600000000002,null,226,35.685400000000001]
[227,19.158799999999999,null,227,28.057200000000002,null,227,35.843299999999999]
[228,19.243200000000002,null,228,28.180800000000001,null,228,36.001199999999997]
[229,19.3276,null,229,28.304400000000001,null,229,36.159100000000002]
[230,19.411999999999999,null,230,28.428000000000001,null,230,36.317]
[231,19.496400000000001,null,231,28.551600000000001,null,231,36.474899999999998]
[232,19.5808,null,232,28.6752,null,232,36.632800000000003]
[233,19.665200000000002,null,233,28.7988,null,233,36.790700000000001]
[234,19.749600000000001,null,234,28.9224,null,234,36.948599999999999]
[235,19.834,null,235,29.045999999999999,null,235,37.106499999999997]
[236,19.918400000000002,null,236,29.169599999999999,null,236,37.264400000000002]
[237,20.002800000000001,null,237,29.293199999999999,null,237,37.4223]
[238,20.087199999999999,null,238,29.416800000000002,null,238,37.580199999999998]
[239,20.171600000000002,null,239,29.540400000000002,null,239,37.738100000000003]
[240,20.256,null,240,29.664000000000001,null,240,37.896000000000001]
[241,20.340399999999999,null,241,29.787600000000001,null,241,38.053899999999999]
[242,20.424800000000001,null,242,29.911200000000001,null,242,38.211799999999997]
[243,20.5092,null,243,30.034800000000001,null,243,38.369700000000002]
[244,20.593600000000002,null,244,30.1584,null,244,38.5276]
[245,20.678000000000001,null,245,30.282,null,245,38.685499999999998]
[246,20.7624,null,246,30.4056,null,246,38.843400000000003]
[247,20.846800000000002,null,247,30.529199999999999,null,247,39.001300000000001]
[248,20.9312,null,248,30.652799999999999,null,248,39.159199999999998]
[249,21.015599999999999,null,249,30.776399999999999,null,249,39.317100000000003]
[250,21.1,null,250,30.900000000000002,null,250,39.475000000000001]
[251,21.1844,null,251,31.023600000000002,null,251,39.632899999999999]
[252,21.268800000000002,null,252,31.147200000000002,null,252,39.790799999999997]
[253,21.353200000000001,null,253,31.270800000000001,null,253,39.948700000000002]
[254,21.4376,null,254,31.394400000000001,null,254,40.1066]
[255,21.522000000000002,null,255,31.518000000000001,null,255,40.264499999999998]
[256,21.606400000000001,null,256,31.6416,null,256,40.422400000000003]
[257,21.690799999999999,null,257,31.7652,null,257,40.580300000000001]
[258,21.775200000000002,null,258,31.8888,null,258,40.738199999999999]
[259,21.8596,null,259,32.0124,null,259,40.896099999999997]
[260,22.568000000000001,null,260,32.785999999999994,null,260,41.054000000000002]
[261,22.654800000000002,null,261,32.912099999999995,null,261,41.2119]
[262,22.741600000000002,null,262,33.038199999999996,null,262,41.369799999999998]
[263,22.828400000000002,null,263,33.164299999999997,null,263,41.527700000000003]
[264,22.915200000000002,null,264,33.290399999999998,null,264,41.685600000000001]
[265,23.001999999999999,null,265,33.416499999999999,null,265,41.843499999999999]
[266,23.088799999999999,null,266,33.5426,null,266,42.001399999999997]
[267,23.175599999999999,null,267,33.668699999999994,null,267,42.159300000000002]
[268,23.2624,null,268,33.794799999999995,null,268,42.3172]
[269,23.3492,null,269,33.920899999999996,null,269,42.475099999999998]
[270,23.436,null,270,34.046999999999997,null,270,42.633000000000003]
[271,23.5228,null,271,34.173099999999998,null,271,42.790900000000001]
[272,23.6096,null,272,34.299199999999999,null,272,42.948799999999999]
[273,23.696400000000001,null,273,34.4253,null,273,43.106699999999996]
[274,23.783200000000001,null,274,34.551399999999994,null,274,43.264600000000002]
[275,23.87,null,275,34.677499999999995,null,275,43.422499999999999]
[276,23.956800000000001,null,276,34.803599999999996,null,276,43.580399999999997]
[277,24.043600000000001,null,277,34.929699999999997,null,277,43.738300000000002]
[278,24.130400000000002,null,278,35.055799999999998,null,278,43.8962]
[279,24.217200000000002,null,279,35.181899999999999,null,279,44.054099999999998]
[280,24.304000000000002,null,280,35.308,null,280,44.212000000000003]
[281,24.390800000000002,null,281,35.434099999999994,null,281,44.369900000000001]
[282,24.477599999999999,null,282,35.560199999999995,null,282,44.527799999999999]
[283,24.564399999999999,null,283,35.686299999999996,null,283,44.685699999999997]
[284,24.651199999999999,null,284,35.812399999999997,null,284,44.843600000000002]
[285,24.738,null,285,35.938499999999998,null,285,45.0015]
[286,24.8248,null,286,36.064599999999999,null,286,45.159399999999998]
[287,24.9116,null,287,36.1907,null,287,45.317300000000003]
[288,24.9984,null,288,36.316800000000001,null,288,45.475200000000001]
[289,25.0852,null,289,36.442899999999995,null,289,45.633099999999999]
[290,25.172000000000001,null,290,36.568999999999996,null,290,45.790999999999997]
[291,25.258800000000001,null,291,36.695099999999996,null,291,45.948900000000002]
[292,25.345600000000001,null,292,36.821199999999997,null,292,46.1068]
[293,25.432400000000001,null,293,36.947299999999998,null,293,46.264699999999998]
[294,25.519200000000001,null,294,37.073399999999999,null,294,46.422600000000003]
[295,25.606000000000002,null,295,37.1995,null,295,46.580500000000001]
[296,25.692800000000002,null,296,37.325599999999994,null,296,46.738399999999999]
[297,25.779600000000002,null,297,37.451699999999995,null,297,46.896299999999997]
[298,25.866400000000002,null,298,37.577799999999996,null,298,47.054200000000002]
[299,25.953199999999999,null,299,37.703899999999997,null,299,47.2121]
[300,26.04,null,300,37.83,null,300,47.37]
[301,26.126799999999999,null,301,37.956099999999999,null,301,47.527900000000002]
[302,26.2136,null,302,38.0822,null,302,47.6858]
[303,26.3004,null,303,38.208299999999994,null,303,47.843699999999998]
[304,26.3872,null,304,38.334399999999995,null,304,48.001600000000003]
[305,26.474,null,305,38.460499999999996,null,305,48.159500000000001]
[306,26.5608,null,306,38.586599999999997,null,306,48.317399999999999]
[307,26.647600000000001,null,307,38.712699999999998,null,307,48.475299999999997]
[308,26.734400000000001,null,308,38.838799999999999,null,308,48.633200000000002]
[309,26.821200000000001,null,309,38.9649,null,309,48.7911]
[310,26.908000000000001,null,310,39.090999999999994,null,310,48.948999999999998]
[311,26.994800000000001,null,311,39.217099999999995,null,311,49.106900000000003]
[312,27.081600000000002,null,312,39.343199999999996,null,312,49.264800000000001]
[313,27.168400000000002,null,313,39.469299999999997,null,313,49.422699999999999]
[314,27.255200000000002,null,314,39.595399999999998,null,314,49.580599999999997]
[315,27.342000000000002,null,315,39.721499999999999,null,315,49.738500000000002]
[316,27.428799999999999,null,316,39.8476,null,316,49.8964]
[317,27.515599999999999,null,317,39.973699999999994,null,317,50.054299999999998]
[318,27.602399999999999,null,318,40.099799999999995,null,318,50.212200000000003]
[319,27.6892,null,319,40.225899999999996,null,319,50.370100000000001]
[320,27.776,null,320,40.351999999999997,null,320,50.527999999999999]
[321,27.8628,null,321,40.478099999999998,null,321,50.685899999999997]
[322,27.9496,null,322,40.604199999999999,null,322,50.843800000000002]
[323,28.0364,null,323,40.7303,null,323,51.0017]
[324,28.123200000000001,null,324,40.856399999999994,null,324,51.159599999999998]
[325,28.21,null,325,40.982499999999995,null,325,51.317500000000003]
[326,28.296800000000001,null,326,41.108599999999996,null,326,51.4754]
[327,28.383600000000001,null,327,41.234699999999997,null,327,51.633299999999998]
[328,28.470400000000001,null,328,41.360799999999998,null,328,51.791200000000003]
[329,28.557200000000002,null,329,41.486899999999999,null,329,51.949100000000001]
[330,28.644000000000002,null,330,41.613,null,330,52.106999999999999]
[331,28.730800000000002,null,331,41.739099999999993,null,331,52.264899999999997]
[332,28.817600000000002,null,332,41.865199999999994,null,332,52.422800000000002]
[333,28.904399999999999,null,333,41.991299999999995,null,333,52.5807]
[334,28.991199999999999,null,334,42.117399999999996,null,334,52.738599999999998]
[335,29.077999999999999,null,335,42.243499999999997,null,335,52.896500000000003]
[336,29.1648,null,336,42.369599999999998,null,336,53.054400000000001]
[337,29.2516,null,337,42.495699999999999,null,337,53.212299999999999]
[338,29.3384,null,338,42.621799999999993,null,338,53.370199999999997]
[339,29.4252,null,339,42.747899999999994,null,339,53.528100000000002]
[340,29.512,null,340,42.873999999999995,null,340,53.686]
[341,29.598800000000001,null,341,43.000099999999996,null,341,53.843899999999998]
[342,29.685600000000001,null,342,43.126199999999997,null,342,54.001800000000003]
[343,29.772400000000001,null,343,43.252299999999998,null,343,54.159700000000001]
[344,29.859200000000001,null,344,43.378399999999999,null,344,54.317599999999999]
[345,29.946000000000002,null,345,43.504499999999993,null,345,54.475499999999997]
[346,30.032800000000002,null,346,43.630599999999994,null,346,54.633400000000002]
[347,30.119600000000002,null,347,43.756699999999995,null,347,54.7913]
[348,30.206400000000002,null,348,43.882799999999996,null,348,54.949199999999998]
[349,30.293200000000002,null,349,44.008899999999997,null,349,55.107100000000003]
[350,30.38,null,350,44.134999999999998,null,350,55.265000000000001]

{"sheet":"Opmaak","index":2,"n_rows":18,"n_cols":6,"rows_kept":18,"cut":false,"hidden":true,"merged":[[11,0,11,1],[11,2,11,4],[1,0,1,11],[3,0,3,11],[7,0,7,1],[8,0,8,1],[9,0,9,1],[7,2,7,4],[8,2,8,4],[9,2,9,4]]}
[]
["Overzicht detail mobiliteit"]
[]
[]
[]
[]
[]
["Werkgever:"]
[]
["Werknemer:"]
[]
["Nummer:"]
[]
[]
[]
[null,null,null,null,null,"Totaal mobiliteit ="]
[" "]
[null,"Dit document werd opgemaakt op:"]